
BEGIN:VCALENDAR
VERSION:2.0
PRODID:-//wp-events-plugin.com//6.6.3//EN
TZID:Europe/Berlin
X-WR-TIMEZONE:Europe/Berlin
BEGIN:VEVENT
UID:0-352@veranstaltungen.muenchen.de
DTSTART;TZID=Europe/Berlin:20250214T170000
DTEND;TZID=Europe/Berlin:20250214T180000
DTSTAMP:20250108T154806Z
URL:https://veranstaltungen.muenchen.de/plan/veranstaltungen/fuehrung-durc
 h-die-ausstellung-muenchen-hat-plan-4/
SUMMARY:Führung durch die Ausstellung "München hat Plan"
DESCRIPTION:\n\nWie kann München im Jahr 2040 aussehen? Der neue Stadtentw
 icklungsplan legt den Grundstein für die Zukunft. Ziele sind eine nachhal
 tige Stadtentwicklung und der Ausgleich von sozialen\, ökologischen und w
 irtschaftlichen Belangen für eine Stadt im Gleichgewicht.\n\n&nbsp\;\n\nD
 ie Jahresausstellung 2025 des Referats für Stadtplanung und Bauordnung ma
 cht den neuen Stadtentwicklungsplan anhand von sieben Zukunftsorten erlebb
 ar. Sie zeigt\, wie es sich im Jahr 2040 anfühlen kann\, in München zu l
 eben\, zu arbeiten und draußen zu sein.\n\n&nbsp\;\n\nLassen Sie sich in 
 einer Stunde durch die Ausstellung führen!\n\n\n&nbsp\;
LOCATION:Rathausgalerie\, Marienplatz 8\, München\, Bayern\, 80331\, Deuts
 chland
GEO:48.137788;11.5753436670172
X-APPLE-STRUCTURED-LOCATION;VALUE=URI;X-ADDRESS=Marienplatz 8\, München\, 
 Bayern\, 80331\, Deutschland;X-APPLE-RADIUS=100;X-TITLE=Rathausgalerie:geo
 :48.137788,11.5753436670172
END:VEVENT
BEGIN:VTIMEZONE
TZID:Europe/Berlin
X-LIC-LOCATION:Europe/Berlin
BEGIN:STANDARD
DTSTART:20241027T020000
TZOFFSETFROM:+0200
TZOFFSETTO:+0100
TZNAME:CET
END:STANDARD
END:VTIMEZONE
END:VCALENDAR