
BEGIN:VCALENDAR
VERSION:2.0
PRODID:-//wp-events-plugin.com//6.6.3//EN
TZID:Europe/Berlin
X-WR-TIMEZONE:Europe/Berlin
BEGIN:VEVENT
UID:0-400@veranstaltungen.muenchen.de
DTSTART;TZID=Europe/Berlin:20250705T100000
DTEND;TZID=Europe/Berlin:20250705T110000
DTSTAMP:20250701T141935Z
URL:https://veranstaltungen.muenchen.de/plan/veranstaltungen/fuehrung-dach
 garten-zam-in-freiham/
SUMMARY:10 Uhr: Führung Dachgarten Z'am in Freiham
DESCRIPTION:[caption id="attachment_1699" align="alignnone" width="456"] Fo
 to: Dominik Dittberner[/caption]\n\n&nbsp\;\n\nDie Genossenschaft RaumFair
  hat in Freiham ein Wohnprojekt mit 61 Wohneinheiten in Holz-Hybrid-Bauwei
 se errichtet. Der 300 Quadratmeter große Dachgarten steht allen Bewohner*
 innen zur Verfügung. Er teilt sich auf in eine 120 Quadratmeter große An
 baufläche\, ein Heckenzimmer sowie ein 30 Quadratmeter großes Glashaus.\
 n\n&nbsp\;\n\nAuszeichnung: KlimaKulturKompetenz der Bayerischen Architekt
 enkammer\n\nDas Dach ist barrierefrei zugänglich.\n\n&nbsp\;\n\nLandschaf
 tsarchitektur: Wamsler Rohloff Wirzmüller Freiraumarchitekten\, Regensbur
 g\n\nArchitektur: Zwischenräume Architekten und Stadtplaner\, München\n\
 nAusführung: Gartenidee Kuchler\, Geisenfeld\n\n&nbsp\;\n\nFührung: 10 U
 hr\n\nTreffpunkt: Otto-Meitinger-Straße 10\n\nmaximale Teilnehmerzahl: 25
 \n\nAnmeldung: brodmeier@raumfair.de\n\n&nbsp\;\n\n&nbsp\;
LOCATION:Z'am in Freiham\, Otto-Meitinger-Straße 10\, München\, Bayern\, 
 81248\, Deutschland
GEO:48.150167;11.406707
X-APPLE-STRUCTURED-LOCATION;VALUE=URI;X-ADDRESS=Otto-Meitinger-Straße 10\,
  München\, Bayern\, 81248\, Deutschland;X-APPLE-RADIUS=100;X-TITLE=Z'am i
 n Freiham:geo:48.150167,11.406707
END:VEVENT
BEGIN:VTIMEZONE
TZID:Europe/Berlin
X-LIC-LOCATION:Europe/Berlin
BEGIN:DAYLIGHT
DTSTART:20250330T030000
TZOFFSETFROM:+0100
TZOFFSETTO:+0200
TZNAME:CEST
END:DAYLIGHT
END:VTIMEZONE
END:VCALENDAR