
BEGIN:VCALENDAR
VERSION:2.0
PRODID:-//wp-events-plugin.com//6.6.3//EN
TZID:Europe/Berlin
X-WR-TIMEZONE:Europe/Berlin
BEGIN:VEVENT
UID:0-402@veranstaltungen.muenchen.de
DTSTART;TZID=Europe/Berlin:20250705T110000
DTEND;TZID=Europe/Berlin:20250705T120000
DTSTAMP:20250701T142601Z
URL:https://veranstaltungen.muenchen.de/plan/veranstaltungen/fuehrung-dach
 garten-zam-in-freiham-2/
SUMMARY:11 Uhr: Führung Dachgarten Z'am in Freiham
DESCRIPTION:[caption id="attachment_1699" align="alignnone" width="473"] Fo
 to: Dominik Dittberner[/caption]\n\n&nbsp\;\n\nDie Genossenschaft RaumFair
  hat in Freiham ein Wohnprojekt mit 61 Wohneinheiten in Holz-Hybrid-Bauwei
 se errichtet. Der 300 Quadratmeter große Dachgarten steht allen Bewohner*
 innen zur Verfügung. Er teilt sich auf in eine 120 Quadratmeter große An
 baufläche\, ein Heckenzimmer sowie ein 30 Quadratmeter großes Glashaus.\
 n\nDas Dach ist barrierefrei zugänglich.\n\n&nbsp\;\n\nAuszeichnung: Klim
 aKulturKompetenz der Bayerischen Architektenkammer\n\n&nbsp\;\n\nLandschaf
 tsarchitektur: Wamsler Rohloff Wirzmüller Freiraumarchitekten\, Regensbur
 g\n\nArchitektur: Zwischenräume Architekten und Stadtplaner\, München\n\
 nAusführung: Gartenidee Kuchler\, Geisenfeld\n\n&nbsp\;\n\nFührung: 11 U
 hr\n\nAnmeldung: brodmeier@raumfair.de\n\nmaximale Teilnehmerzahl: 25\n\nT
 reffpunkt: Otto-Meitinger-Straße 10
LOCATION:Z'am in Freiham\, Otto-Meitinger-Straße 10\, München\, Bayern\, 
 81248\, Deutschland
GEO:48.150167;11.406707
X-APPLE-STRUCTURED-LOCATION;VALUE=URI;X-ADDRESS=Otto-Meitinger-Straße 10\,
  München\, Bayern\, 81248\, Deutschland;X-APPLE-RADIUS=100;X-TITLE=Z'am i
 n Freiham:geo:48.150167,11.406707
END:VEVENT
BEGIN:VTIMEZONE
TZID:Europe/Berlin
X-LIC-LOCATION:Europe/Berlin
BEGIN:DAYLIGHT
DTSTART:20250330T030000
TZOFFSETFROM:+0100
TZOFFSETTO:+0200
TZNAME:CEST
END:DAYLIGHT
END:VTIMEZONE
END:VCALENDAR