
BEGIN:VCALENDAR
VERSION:2.0
PRODID:-//wp-events-plugin.com//6.6.3//EN
TZID:Europe/Berlin
X-WR-TIMEZONE:Europe/Berlin
BEGIN:VEVENT
UID:0-25@veranstaltungen.muenchen.de
DTSTART;TZID=Europe/Berlin:20201002T170000
DTEND;TZID=Europe/Berlin:20201002T181500
DTSTAMP:20200930T083839Z
URL:https://veranstaltungen.muenchen.de/plan/veranstaltungen/digitaler-sta
 dtspaziergang-von-baumkirchen-mitte-bis-zur-macherei/
SUMMARY:PlanTreff vor Ort: Von Baumkirchen Mitte bis zur Macherei
DESCRIPTION:[caption id="attachment_294" align="alignnone" width="800"] © 
 Michael Nagy / Landeshauptstadt München[/caption]\n\nDer virtuelle Spazie
 rgang beginnt bei dem neuen Quartier „Baumkirchen Mitte“\, das durch e
 ine innovative Architektur besticht. Danach geht es zum benachbarten\, nat
 urnahen Park. Den Park kann man über Stege und Aussichtsplattformen erkun
 den\, die sich zwischen Birken und alten Bahngleisen hindurchschlängeln. 
 Man erfährt auf Schautafeln Interessantes über die dortige Flora\, Fauna
  und die Geschichte des Ortes. Die letzte Station ist das ehemalige „Tem
 mler-Gelände“ auf dem mit der „Macherei“ eine spannende\, neue Nutz
 ung entsteht.\n\n&nbsp\;\n\nBesonderheit: Der Spaziergang findet digital a
 ls Web-Konferenz statt. Die Teilnehmenden schalten sich kostenfrei über d
 as Online-Tool Zoom in die Web-Konferenz ein und begeben sich auf einen di
 gitalen Rundgang\, bei dem sie Wissenswertes und Neues über die Planungen
  erfahren. Sie haben außerdem die Möglichkeit\, über die Chat-Funktion 
 Fragen zu stellen.\nAnmeldung: Eine Anmeldung ist ab dem 25. September mö
 glich.\nBei erfolgreicher Anmeldung erhalten Sie den Link zur Web-Konferen
 z sowie eine Anleitung zur Technik.\nDatenschutz: Bitte beachten Sie unser
 e Hinweise zum Datenschutz (PDF\, 51 KB).
END:VEVENT
BEGIN:VTIMEZONE
TZID:Europe/Berlin
X-LIC-LOCATION:Europe/Berlin
BEGIN:DAYLIGHT
DTSTART:20200329T030000
TZOFFSETFROM:+0100
TZOFFSETTO:+0200
TZNAME:CEST
END:DAYLIGHT
END:VTIMEZONE
END:VCALENDAR