
BEGIN:VCALENDAR
VERSION:2.0
PRODID:-//wp-events-plugin.com//6.6.3//EN
TZID:Europe/Berlin
X-WR-TIMEZONE:Europe/Berlin
BEGIN:VEVENT
UID:0-378@veranstaltungen.muenchen.de
DTSTART;TZID=Europe/Berlin:20250603T180000
DTEND;TZID=Europe/Berlin:20250603T200000
DTSTAMP:20250505T125923Z
URL:https://veranstaltungen.muenchen.de/plan/veranstaltungen/creating-nebo
 urhoods-together-klimaanpassung/
SUMMARY:Creating NEBourhoods Together - Klimaanpassung
DESCRIPTION:[caption id="attachment_1652" align="alignnone" width="900"] ©
  Patrik Thomas / NEBourhoods[/caption]\n\n&nbsp\;\n\nDie urbane Überhitzu
 ng ist ein weltweites Problem\, das die Gesundheit vieler Menschen in Stä
 dten gefährdet.\n\nIn partizipativen Workshops mit Neuperlacher*innen wur
 den Modelle entwickelt\, die zeigen\, wie klimagerechte Gestaltung nicht n
 ur soziale\, ökologische und wirtschaftliche Vorteile bringt\, sondern au
 ch das Gemeinschaftsgefühl stärkt und so dazu beiträgt\, dass Städte i
 nklusiver schöner\, lebenswerter und nachhaltiger werden.\n\nAußerdem wi
 rd das Projekt der Energiegemeinschaften vorgestellt: Nachbar*innen haben 
 gemeinsam ihre Energieversorgung selbst in die Hand genommen.\n\n&nbsp\;\n
 \nReferent*innen:\n\n 	Serena Keller\, Lehrstuhl für Gebäudetechnologie 
 und klimagerechtes Bauen TUM\n 	Sebastian Koth\, Lehrstuhl für Gebäudete
 chnologie und klimagerechtes Bauen TUM\n 	Florian Rödiger\, Campus di Mon
 aco - Internationale Montessorischule München berichtet über Möglichkei
 ten der Verstetigung\n\n&nbsp\;\n\nHinweis:\nDer Eintritt ist frei. Der Pl
 anTreff ist rollstuhlgerecht zugänglich\, eine barrierefreie Toilette ist
  vorhanden.\n\n&nbsp\;\n\nAnmeldung: Die Teilnehmerzahl ist begrenzt.\n\n&
 nbsp\;
CATEGORIES:PlanTreff-Programm
LOCATION:PlanTreff\, Blumenstraße 31\, München\, Deutschland
GEO:48.131599;11.570085
X-APPLE-STRUCTURED-LOCATION;VALUE=URI;X-ADDRESS=Blumenstraße 31\, München
 \, Deutschland;X-APPLE-RADIUS=100;X-TITLE=PlanTreff:geo:48.131599,11.57008
 5
END:VEVENT
BEGIN:VTIMEZONE
TZID:Europe/Berlin
X-LIC-LOCATION:Europe/Berlin
BEGIN:DAYLIGHT
DTSTART:20250330T030000
TZOFFSETFROM:+0100
TZOFFSETTO:+0200
TZNAME:CEST
END:DAYLIGHT
END:VTIMEZONE
END:VCALENDAR