
BEGIN:VCALENDAR
VERSION:2.0
PRODID:-//wp-events-plugin.com//6.6.3//EN
TZID:Europe/Berlin
X-WR-TIMEZONE:Europe/Berlin
BEGIN:VEVENT
UID:0-317@veranstaltungen.muenchen.de
DTSTART;TZID=Europe/Berlin:20240618T180000
DTEND;TZID=Europe/Berlin:20240618T200000
DTSTAMP:20240612T070037Z
URL:https://veranstaltungen.muenchen.de/plan/veranstaltungen/beteiligung-e
 rlebbar-machen/
SUMMARY:Beteiligung erlebbar machen
DESCRIPTION:\n\nNeue digitale Werkzeuge für interaktive Bürger*innenbetei
 ligung in der Stadtentwicklung\n\n&nbsp\;\n\nFür den Dialog und die Öffe
 ntlichkeitsbeteiligung zu den Themen der Stadtentwicklung und Stadtplanung
  nutzt und entwickelt das Referat für Stadtplanung und Bauordnung zusamme
 n mit anderen Referaten und Unternehmen neben bewährten Methoden auch st
 ändig neue digitale\, innovative und interaktive Werkzeuge\, die komplexe
  Themen verständlich und inklusiv vermitteln.\n\n&nbsp\;\n\nAn dem Abend 
 gibt es einen „Blick in den Maschinenraum“. Wir zeigen fünf Tools\, d
 ie momentan für einen zukünftigen Einsatz erprobt\, entwickelt oder erfo
 rscht werden. Nach einer kurzen Vorstellung der einzelnen Projekte können
  alle Anwendungen direkt vor Ort von den Bürger*innen selbst ausprobiert 
 werden.\n\n&nbsp\;\n\n 	VIRTUS\nDas transdisziplinäres Forschungsprojekt 
 arbeitet daran mit VR-Technologie Partizipationsangebote in städtebaulich
 en Planungsprozessen breitenwirksam und barrierefrei zu ermöglichen.\n 	J
 ugendbeteiligung mit GeoGuessr\nIm Rahmen der Öffentlichkeitsbeteiligung 
 zum Handlungsraumkonzept Innenstadt konnten Jugendliche in Workshops unter
  anderem spielerisch beliebte (und weniger beliebte) Orte in der Innenstad
 t kennenlernen. Weitere Informationen unter: muenchen.de/innenstadt und ht
 tps://innenstadt.medienzentrum-muc.de/\n 	Energiepositiver Stadtteil Harth
 of 3-D\nMit dem Projekt ASCEND wird das Ziel verfolgt das Quartier Harthof
  im Norden Münchens in den kommenden fünf Jahren zu einem energiepositiv
 en Stadtteil umzubauen.\nDer Geodaten Service München des Kommunalreferat
 s hat ein 3-D-gedrucktes Modell des Quartiers erstellt. Das Modell erlaubt
  in Kombination mit einem interaktiven Touchtable einen neuen Blick auf un
 terschiedliche Fachkarten.\n 	DiPAS-Stories\nMit der DiPAS Storytelling-An
 wendung können z.B. die Inhalte des Stadtentwicklungsplans 2040 online un
 d interaktiv vermittelt werden.\n 	Simulation Klimaanpassung Hackenplatz\n
 Mithilfe des Digitalen Zwillings wurde vom Geodaten Service München in Zu
 sammenarbeit mit dem Planungsreferat eine 3D-Darstellung des Hackenplatzes
  und der Hackenstraße erstellt. Durch Virtual Reality lässt sich in Zuku
 nftsszenarien eintauchen und die kühlende Wirkung von Maßnahmen zur Klim
 aanpassung wird bereits heute erlebbar.\n\n&nbsp\;\n\nHinweis: Der Eintrit
 t ist frei. Der PlanTreff ist rollstuhlgerecht zugänglich\, eine barriere
 freie Toilette ist vorhanden.\n\n&nbsp\;\n\nAnmeldung: Die Teilnehmerzahl 
 ist begrenzt.
CATEGORIES:Innenstadt weiterdenken!,PlanTreff-Programm
LOCATION:PlanTreff\, Blumenstraße 31\, München\, Deutschland
GEO:48.131599;11.570085
X-APPLE-STRUCTURED-LOCATION;VALUE=URI;X-ADDRESS=Blumenstraße 31\, München
 \, Deutschland;X-APPLE-RADIUS=100;X-TITLE=PlanTreff:geo:48.131599,11.57008
 5
END:VEVENT
BEGIN:VTIMEZONE
TZID:Europe/Berlin
X-LIC-LOCATION:Europe/Berlin
BEGIN:DAYLIGHT
DTSTART:20240331T030000
TZOFFSETFROM:+0100
TZOFFSETTO:+0200
TZNAME:CEST
END:DAYLIGHT
END:VTIMEZONE
END:VCALENDAR