
BEGIN:VCALENDAR
VERSION:2.0
PRODID:-//wp-events-plugin.com//6.6.3//EN
TZID:Europe/Berlin
X-WR-TIMEZONE:Europe/Berlin
BEGIN:VEVENT
UID:0-261@veranstaltungen.muenchen.de
DTSTART;TZID=Europe/Berlin:20230706T180000
DTEND;TZID=Europe/Berlin:20230706T210000
DTSTAMP:20230630T113245Z
URL:https://veranstaltungen.muenchen.de/plan/veranstaltungen/baukultur-som
 merreise-2023/
SUMMARY:Baukultur Sommerreise 2023
DESCRIPTION:\n\nIm Sommer 2023 reist die Bundesstiftung Baukultur wieder zw
 ei Wochen lang mit ihrem Baukulturmobil durch Deutschland\, um bundesweit 
 Engagierte\, Interessierte und Schaufenster der Baukultur zu besuchen. In 
 München macht das Baukulturmobil Halt beim PlanTreff\, der Plattform zur 
 Münchner Stadtentwicklung.\n\n&nbsp\;\n\nBegrüßung:\n\n 	Elisabeth Merk
 \, Stadtbaurätin\n 	Reiner Nagel\, Vorstandsvorsitzender Bundesstiftung B
 aukultur\n 	Arne Lorz\, Hauptabteilungsleiter Stadtentwicklungsplanung\n\n
 &nbsp\;\n\nDer PlanTreff:\n\nSeit 1995 steht der PlanTreff für die Planun
 gs- und Beteiligungskultur der Stadt München. Seit 2020 begrüßt die Pla
 ttform alle an Stadtentwicklung Interessierten in neuen Räumen und mit ei
 nem neuen Konzept.\n\n„Wir schaffen Angebote für verschiedene Zielgrupp
 en und ermöglichen es sich mit Stadt mal intensiv\, mal kreativ auseinand
 erzusetzen.“\n\n&nbsp\;\n\n 	Anne Hogeback\, Dina Straße und das PlanTr
 eff-Team stellen das Konzept und einzelne Formate des PlanTreff vor.\n\n&n
 bsp\;\n\nIm Anschluss:\nAustausch und Ausklang mit Apéro\, DJ und Tischte
 nnis\n\n&nbsp\;\n\nRahmenprogramm:\nAusstellungsführung\nMünchner Schül
 er*innen Wettbewerb zur Stadtentwicklung – Ergebnisse 2023
CATEGORIES:PlanTreff-Programm
LOCATION:PlanTreff\, Blumenstraße 31\, München\, Deutschland
GEO:48.131599;11.570085
X-APPLE-STRUCTURED-LOCATION;VALUE=URI;X-ADDRESS=Blumenstraße 31\, München
 \, Deutschland;X-APPLE-RADIUS=100;X-TITLE=PlanTreff:geo:48.131599,11.57008
 5
END:VEVENT
BEGIN:VTIMEZONE
TZID:Europe/Berlin
X-LIC-LOCATION:Europe/Berlin
BEGIN:DAYLIGHT
DTSTART:20230326T030000
TZOFFSETFROM:+0100
TZOFFSETTO:+0200
TZNAME:CEST
END:DAYLIGHT
END:VTIMEZONE
END:VCALENDAR