
BEGIN:VCALENDAR
VERSION:2.0
PRODID:-//wp-events-plugin.com//6.6.3//EN
TZID:Europe/Berlin
X-WR-TIMEZONE:Europe/Berlin
BEGIN:VEVENT
UID:0-427@veranstaltungen.muenchen.de
DTSTART;TZID=Europe/Berlin:20250917T180000
DTEND;TZID=Europe/Berlin:20250917T200000
DTSTAMP:20250917T150732Z
URL:https://veranstaltungen.muenchen.de/plan/veranstaltungen/ausstellungse
 roeffnung-stadtentwicklungimdialog/
SUMMARY:Ausstellungseröffnung: Stadtentwicklung im Dialog
DESCRIPTION:\n\n&nbsp\;\n\nmitdenken\, mitreden\, mitplanen\n\n\n&nbsp\;\n\
 nIn einer Stadt wie München\, in der vielfältige Interessen zusammenkomm
 en\, spielt der Dialog mit allen eine zentrale Rolle. Die Ausstellung im P
 lanTreff zeigt den demokratischen Prozess hinter der Weiterentwicklung uns
 erer Stadt. Vorgestellt werden anhand von aktuellen Planungen und Projekte
 n verschiedene Instrumente\, innovative Methoden und kreative Beteiligungs
 prozesse\, die immer wieder dazu einladen\, sich mit der Stadt auseinander
 zusetzen.\n\n&nbsp\;\n\nAnlass der Ausstellung ist ein Jubiläum: Als sich
 tbares Zeichen einer offenen Planungs- und Beteiligungskultur wurde vor 30
  Jahren der PlanTreff als Plattform zur Stadtentwicklung gegründet.\n\n&n
 bsp\;\n\nDie Ausstellungseröffnung findet im Beisein von Stadtbaurätin E
 lisabeth Merk statt.\n\n&nbsp\;\n\nWeitere Informationen finden Sie unter 
 muenchen.de/plantreff\n\n&nbsp\;\n\nHinweis: Der Eintritt ist frei. Der Pl
 anTreff ist rollstuhlgerecht zugänglich\, eine barrierefreie Toilette ist
  vorhanden.\n\n&nbsp\;\n\nAnmeldung: Die Teilnehmerzahl ist begrenzt.
CATEGORIES:PlanTreff-Programm,Stadtentwicklung im Dialog
LOCATION:PlanTreff\, Blumenstraße 31\, München\, Deutschland
GEO:48.131599;11.570085
X-APPLE-STRUCTURED-LOCATION;VALUE=URI;X-ADDRESS=Blumenstraße 31\, München
 \, Deutschland;X-APPLE-RADIUS=100;X-TITLE=PlanTreff:geo:48.131599,11.57008
 5
END:VEVENT
BEGIN:VTIMEZONE
TZID:Europe/Berlin
X-LIC-LOCATION:Europe/Berlin
BEGIN:DAYLIGHT
DTSTART:20250330T030000
TZOFFSETFROM:+0100
TZOFFSETTO:+0200
TZNAME:CEST
END:DAYLIGHT
END:VTIMEZONE
END:VCALENDAR