
BEGIN:VCALENDAR
VERSION:2.0
PRODID:-//wp-events-plugin.com//6.6.3//EN
TZID:Europe/Berlin
X-WR-TIMEZONE:Europe/Berlin
BEGIN:VEVENT
UID:0-235@veranstaltungen.muenchen.de
DTSTART;TZID=Europe/Berlin:20230215T180000
DTEND;TZID=Europe/Berlin:20230215T200000
DTSTAMP:20230213T124728Z
URL:https://veranstaltungen.muenchen.de/plan/veranstaltungen/abendveransta
 ltung-stadtraum-neu-denken/
SUMMARY:Abendveranstaltung "Stadtraum neu denken"
DESCRIPTION:[caption id="attachment_895" align="alignnone" width="855"] © 
 LHM[/caption]\n\nMünchen steht für eine hohe Lebensqualität. Die hierf
 ür besonders wichtigen öffentlichen Flächen geraten jedoch in der dicht
 er werdenden Stadt unter großen Druck. Vielfältige Nutzungsansprüche st
 ehen zum Teil in starkem Widerspruch zueinander. Nicht zuletzt die Coronap
 andemie hat sehr deutlich gemacht\, wie wichtig Freiräume in der Nähe de
 r Wohnung sind\, die einfach erreicht und von allen ohne Konsumzwang genut
 zt werden können.\n\n&nbsp\;\n\nWie sehen Konzepte aus\, die allen Bürge
 r*innen eine vielfältige Nutzung erlauben und zugleich ökologisch und ge
 recht sind?\n\n&nbsp\;\n\nBegrüßung: Prof. Dr. (Univ. Florenz) Elisabeth
  Merk\, Stadtbaurätin\n\n&nbsp\;\n\nModeration: Sybille Giel\, Bayerische
 r Rundfunk\n\n&nbsp\;\n\nGäste:\n\n 	Max Wagner\, Geschäftsführer\, Gas
 teig München GmbH\n 	Prof. Dr. Martina Baum\, Direktorin des Städtebau-I
 nstituts\, Universität Stuttgart\n 	Leila Unland\, Kollektiv "Point of no
  Return"\n 	Lorenz Lachmann\, Programm "Fit im Park" des Referats für Bil
 dung und Sport (Gast der 1. Reihe)\n 	Anna Hanusch\, Vorsitzende des Beira
 ts der Stiftung "Weiter-Denken. Protestantische Kultur und Stadtgesellscha
 ft" (Gast der 1. Reihe)\n\n&nbsp\;\n\nHinweis: Der Eintritt ist frei. Die 
 Rathausgalerie ist rollstuhlgerecht zugänglich\, eine barrierefreie Toile
 tte ist vorhanden.\n\n&nbsp\;\n\nAnmeldung: Die Teilnehmerzahl ist begrenz
 t.\n\n&nbsp\;\n\nDie Veranstaltung findet im Rahmen der Ausstellung "In al
 ler Öffentlichkeit - Stadtgestalt und öffentlicher Raum in München" des
  Referats für Stadtplanung und Bauordnung statt.
LOCATION:Rathausgalerie\, Marienplatz 8\, München\, Bayern\, 80331\, Deuts
 chland
GEO:48.137788;11.5753436670172
X-APPLE-STRUCTURED-LOCATION;VALUE=URI;X-ADDRESS=Marienplatz 8\, München\, 
 Bayern\, 80331\, Deutschland;X-APPLE-RADIUS=100;X-TITLE=Rathausgalerie:geo
 :48.137788,11.5753436670172
END:VEVENT
BEGIN:VTIMEZONE
TZID:Europe/Berlin
X-LIC-LOCATION:Europe/Berlin
BEGIN:STANDARD
DTSTART:20221030T020000
TZOFFSETFROM:+0200
TZOFFSETTO:+0100
TZNAME:CET
END:STANDARD
END:VTIMEZONE
END:VCALENDAR