
BEGIN:VCALENDAR
VERSION:2.0
PRODID:-//wp-events-plugin.com//6.6.3//EN
TZID:Europe/Berlin
X-WR-TIMEZONE:Europe/Berlin
BEGIN:VEVENT
UID:0-299@veranstaltungen.muenchen.de
DTSTART;TZID=Europe/Berlin:20240229T180000
DTEND;TZID=Europe/Berlin:20240229T210000
DTSTAMP:20240226T141640Z
URL:https://veranstaltungen.muenchen.de/plan/veranstaltungen/abendveransta
 ltung-smart-city-interest-group-muenchen/
SUMMARY:Abendveranstaltung: Smart City Interest Group München
DESCRIPTION:\n\nSmartes München - ein Gemeinschaftswerk\n\n&nbsp\;\n\nUnte
 r dem Titel "Smartes München – ein Gemeinschaftswerk" werden eine Vielz
 ahl laufender Smart City Aktivitäten aus den verschiedensten Referaten un
 d städtischen Eigenbetrieben vorgestellt. Von A wie Automatisierung bis Z
  wie (Digitaler) Zwilling\, entstehen in der Zusammenarbeit der Referate z
 ahlreiche Projekte\, die München zukunftsfähig machen.\n\n&nbsp\;\n\nDie
  Smart City Interest Group (SCIG) ist ein Austauschformat der Landeshaupts
 tadt München mit der interessierten Fachöffentlichkeit rund um das Thema
  Smart City München. Die SCIG wurde 2016 im Zusammenhang mit dem Projekt 
 "Smarter Together" eingerichtet\, in der Corona-Pandemie kamen die ein- bi
 s zweijährlichen Treffen dieses Formates zum Erliegen und sollen nun wied
 er neu gestartet werden. Die Landeshauptstadt München hat sich inzwischen
  deutlich breiter in den Bereichen Smart City und digitale Transformation 
 aufgestellt und die Informationen darüber wollen wir gerne teilen.\n\n&nb
 sp\;\n\nBegrüßung: Prof. Dr. (Univ. Florenz) Elisabeth Merk\, Stadtbaur
 ätin\nModeration: Klaus Illigmann\, Abteilungsleiter Strategische Stadten
 twicklungsplanung\n\n&nbsp\;\n\nGäste: (angefragt)\n\n 	Dr. Steffen Braun
 \, Stellvertretender Institutsleiter Fraunhofer Institut für Arbeitswirts
 chaft und Organisation IAO\n 	Clemens Baumgärtner\, Referent für Arbeit 
 und Wirtschaft\n 	Dr. Laura Dornheim\, IT-Referentin\n 	Georg Dunkel\, Mob
 ilitätsreferent\n 	Dr. Jeanne-Marie Ehbauer\, Baureferentin\n 	Kristina F
 rank\, Kommunalreferentin\n\n&nbsp\;\n\n&nbsp\;\n\nHinweis: Der Eintritt i
 st frei. Die Rathausgalerie ist rollstuhlgerecht zugänglich\, eine barrie
 refreie Toilette ist vorhanden.\n\n&nbsp\;\n\nAnmeldung: Die Teilnehmerzah
 l ist begrenzt.\n\n&nbsp\;\n\nDie Veranstaltung findet im Rahmen der Ausst
 ellung "Zukunftsfähige Quartiere: Nebenan\, mittendrin\, daheim" des Refe
 rats für Stadtplanung und Bauordnung statt.
LOCATION:Rathausgalerie\, Marienplatz 8\, München\, Bayern\, 80331\, Deuts
 chland
GEO:48.137788;11.5753436670172
X-APPLE-STRUCTURED-LOCATION;VALUE=URI;X-ADDRESS=Marienplatz 8\, München\, 
 Bayern\, 80331\, Deutschland;X-APPLE-RADIUS=100;X-TITLE=Rathausgalerie:geo
 :48.137788,11.5753436670172
END:VEVENT
BEGIN:VTIMEZONE
TZID:Europe/Berlin
X-LIC-LOCATION:Europe/Berlin
BEGIN:STANDARD
DTSTART:20231029T020000
TZOFFSETFROM:+0200
TZOFFSETTO:+0100
TZNAME:CET
END:STANDARD
END:VTIMEZONE
END:VCALENDAR