
BEGIN:VCALENDAR
VERSION:2.0
PRODID:-//wp-events-plugin.com//6.6.3//EN
TZID:Europe/Berlin
X-WR-TIMEZONE:Europe/Berlin
BEGIN:VEVENT
UID:0-234@veranstaltungen.muenchen.de
DTSTART;TZID=Europe/Berlin:20230202T180000
DTEND;TZID=Europe/Berlin:20230202T200000
DTSTAMP:20230201T073734Z
URL:https://veranstaltungen.muenchen.de/plan/veranstaltungen/abendveransta
 ltung-innenstadt-weiterdenken/
SUMMARY:Abendveranstaltung "Innenstadt weiterdenken"
DESCRIPTION:[caption id="attachment_898" align="alignnone" width="855"] © 
 LHM[/caption]\n\nDie Münchner Innenstadt hat für die Landeshauptstadt un
 d die Region eine wichtige Funktion. Sie ist Schaufenster und Identifikati
 onsort zugleich – und wegen ihrer hohen Frequentierung  und ihres kultu
 rellen Werts auch weit über die Region hinaus von Bedeutung. Sie ist glei
 chzeitig ein Ort des Wandels\, auch in Zukunft wird sie durch starke Verä
 nderungsprozesse geprägt sein\, die von Trends und Herausforderungen\, wi
 e dem Klimawandel\, sozialen und demografischen Prozessen\, der Digitalisi
 erung\, der Umstrukturierung des Handels\, der Mobilitätswende sowie der 
 Coronapandemie verstärkt werden.\n\n&nbsp\;\n\nWie können innerstädtisc
 he\, öffentliche Räume gestaltet werden\, um diesen Anforderungen nachzu
 kommen?\n\n&nbsp\;\n\nBegrüßung: Prof. Dr. (Univ. Florenz) Elisabeth Mer
 k\, Stadtbaurätin\n\n&nbsp\;\n\nModeration: Sybille Giel\, Bayerischer Ru
 ndfunk\n\n&nbsp\;\n\nGäste:\n\n 	Andrea Gebhard\, Mahl Gebhard Konzepte\,
  Präsidentin der Bundesarchitektenkammer\n 	Michaela Pichlbauer\, Vorstä
 ndin\, Günther Rid-Stiftung für den bayerischen Einzelhandel\n 	Oliver M
 ay-Beckmann\, Leiter M-Cube – Münchner Cluster für die Zukunft der Mob
 ilität in Metropolregionen\n 	Sven Thorissen\, Director and Architect MVR
 DV\n 	Michi Kern\, Initiator der Zwischennutzungen Sugar Mountain und Fluf
 fy Clouds\n\n&nbsp\;\n\nHinweis: Der Eintritt ist frei. Die Rathausgalerie
  ist rollstuhlgerecht zugänglich\, eine barrierefreie Toilette ist vorhan
 den.\n\n&nbsp\;\n\nAnmeldung: Die Teilnehmerzahl ist begrenzt.\n\n&nbsp\;\
 n\nDie Veranstaltung findet im Rahmen der Ausstellung "In aller Öffentlic
 hkeit - Stadtgestalt und öffentlicher Raum in München" des Referats für
  Stadtplanung und Bauordnung statt.
LOCATION:Rathausgalerie\, Marienplatz 8\, München\, Bayern\, 80331\, Deuts
 chland
GEO:48.137788;11.5753436670172
X-APPLE-STRUCTURED-LOCATION;VALUE=URI;X-ADDRESS=Marienplatz 8\, München\, 
 Bayern\, 80331\, Deutschland;X-APPLE-RADIUS=100;X-TITLE=Rathausgalerie:geo
 :48.137788,11.5753436670172
END:VEVENT
BEGIN:VTIMEZONE
TZID:Europe/Berlin
X-LIC-LOCATION:Europe/Berlin
BEGIN:STANDARD
DTSTART:20221030T020000
TZOFFSETFROM:+0200
TZOFFSETTO:+0100
TZNAME:CET
END:STANDARD
END:VTIMEZONE
END:VCALENDAR