
BEGIN:VCALENDAR
VERSION:2.0
PRODID:-//wp-events-plugin.com//6.6.3//EN
TZID:Europe/Berlin
X-WR-TIMEZONE:Europe/Berlin
BEGIN:VEVENT
UID:0-190@veranstaltungen.muenchen.de
DTSTART;TZID=Europe/Berlin:20220629T170000
DTEND;TZID=Europe/Berlin:20220629T190000
DTSTAMP:20220627T101242Z
URL:https://veranstaltungen.muenchen.de/plan/veranstaltungen/a7-stadtteil-
 neuperlach-per-rad-tour-1/
SUMMARY:A7 - Stadt:Teil – Neuperlach per Rad (Tour 1)
DESCRIPTION:[caption id="attachment_703" align="alignnone" width="800"] © 
 Klaus Leidorf[/caption]\n\nDie Radtour um 18 Uhr wurde mit dieser Tour zus
 ammengelegt. Die Tour ist ausgebucht. Es ist keine Anmeldung mehr möglich
 .\n\n\n&nbsp\;\n\nWarum wird der erst 50 Jahre „junge“ Stadtteil Neupe
 rlach fit für die Zukunft gemacht? Welche Ziele werden verfolgt? Welche P
 rojekte werden angeschoben? Zum Start der Stadtsanierung und des integrier
 ten Handlungsraumkonzeptes in Neuperlach laden die Projektverantwortlichen
  des Referats für Stadtplanung und Bauordnung alle interessierten Bürger
 *innen ein\, sich aufs Radl zu schwingen und vor Ort an verschiedenen Stat
 ionen in Neuperlach Einblicke zu Themen\, Zielen und Projekten in Neuperla
 ch zu erhalten.\n\n&nbsp\;\n\n„Die Vorbereitung und die Umsetzung der Sa
 nierung in Neuperlach werden gefördert im Bund-Land-Städtebauförderungs
 programm „Wachstum und nachhaltige Erneuerung – lebenswerte Quartiere 
 gestalten“ und über die Landeshauptstadt München kofinanziert.\n\n&nbs
 p\;\n\nReferent*innen: \n\n 	Hannah Dahlmeier\n 	Dr. Brigitte Kaiser\n 	we
 itere Gastreferent*innen\n\n&nbsp\;\n\nDie Veranstaltung findet im Rahmen 
 der 7. Architekturwoche A7 statt.\n\n&nbsp\;\n\n&nbsp\;\n\nHinweis:\nDer E
 intritt ist frei.
CATEGORIES:PlanTreff-Programm
END:VEVENT
BEGIN:VTIMEZONE
TZID:Europe/Berlin
X-LIC-LOCATION:Europe/Berlin
BEGIN:DAYLIGHT
DTSTART:20220327T030000
TZOFFSETFROM:+0100
TZOFFSETTO:+0200
TZNAME:CEST
END:DAYLIGHT
END:VTIMEZONE
END:VCALENDAR