
BEGIN:VCALENDAR
VERSION:2.0
PRODID:-//wp-events-plugin.com//6.6.3//EN
TZID:Europe/Berlin
X-WR-TIMEZONE:Europe/Berlin
BEGIN:VEVENT
UID:0-131@veranstaltungen.muenchen.de
DTSTART;TZID=Europe/Berlin:20250526T193000
DTEND;TZID=Europe/Berlin:20250526T210000
DTSTAMP:20250505T070942Z
URL:https://veranstaltungen.muenchen.de/mor/veranstaltungen/informationsve
 ranstaltung-weissenburger-strasse/
SUMMARY:Informationsveranstaltung Weißenburger Straße
DESCRIPTION:Im Rahmen einer Informationsveranstaltung zur Testphase der Fu
 ßgängerzone Weißenburger Straße informiert das Mobilitätsreferat geme
 insam mit dem Bezirksausschuss 5 über den aktuellen Stand des Projekts.\n
 \n&nbsp\;\n\nInteressierten Anwohner*innen und Gewerbetreibenden werden di
 e nächsten Schritte wie zum Beispiel Befragungen und verkehrliche Untersu
 chungen vorgestellt\, die in den kommenden Wochen durchgeführt werden. Au
 ßerdem haben die Teilnehmenden dort die Gelegenheit\, dem Mobilitätsrefe
 rat Feedback\, Fragen\, und Erfahrungen mitzuteilen.\n\n&nbsp\;\n\n\n\n&nb
 sp\;\n\nMelden Sie sich hier bis spätestens zum Donnerstag\, 22. Mai 2025
  zur Informationsveranstaltung Weißenburger Straße an!\n\n&nbsp\;\n\n&nb
 sp\;
CATEGORIES:Bürgerveranstaltungen
LOCATION:Katholische Stiftungshochschule\, Preysingstraße 95\, München\, 
 Bayern\, 81667\, Deutschland
GEO:48.132729;11.603258
X-APPLE-STRUCTURED-LOCATION;VALUE=URI;X-ADDRESS=Preysingstraße 95\, Münch
 en\, Bayern\, 81667\, Deutschland;X-APPLE-RADIUS=100;X-TITLE=Katholische S
 tiftungshochschule:geo:48.132729,11.603258
END:VEVENT
BEGIN:VEVENT
UID:0-116@veranstaltungen.muenchen.de
DTSTART;TZID=Europe/Berlin:20260418T100000
DTEND;TZID=Europe/Berlin:20260418T123000
DTSTAMP:20260402T094116Z
URL:https://veranstaltungen.muenchen.de/mor/veranstaltungen/radtour-innens
 tadt/
SUMMARY:Radtour: Innenstadt
DESCRIPTION:Erlebnis Innenstadt-Tour
ATTACH;FMTTYPE=image/jpeg:https://veranstaltungen.muenchen.de/mor/wp-conte
 nt/uploads/sites/27/2026_Anmeldeplattform_Teaserbild_Radtouren_LHM-MOR-Dob
 nerAngermann.jpg
CATEGORIES:Radtouren
LOCATION:Eingang Justizgebäude (Neue Maxburg)\, Lenbachplatz 7\, München\
 , Bayern\, 80333\, Deutschland
GEO:48.140523;11.568956
X-APPLE-STRUCTURED-LOCATION;VALUE=URI;X-ADDRESS=Lenbachplatz 7\, München\,
  Bayern\, 80333\, Deutschland;X-APPLE-RADIUS=100;X-TITLE=Eingang Justizgeb
 äude (Neue Maxburg):geo:48.140523,11.568956
END:VEVENT
BEGIN:VEVENT
UID:0-154@veranstaltungen.muenchen.de
DTSTART;TZID=Europe/Berlin:20260424T170000
DTEND;TZID=Europe/Berlin:20260424T193000
DTSTAMP:20260413T061531Z
URL:https://veranstaltungen.muenchen.de/mor/veranstaltungen/radtour-histor
 ischer-westen/
SUMMARY:Radtour: Historischer Westen
DESCRIPTION:Von der alten Messe durch Münchens historische Westviertel
ATTACH;FMTTYPE=image/jpeg:https://veranstaltungen.muenchen.de/mor/wp-conte
 nt/uploads/sites/27/2026_Anmeldeplattform_Teaserbild_Radtouren_LHM-MOR-Dob
 nerAngermann.jpg
CATEGORIES:Radtouren
LOCATION:Rischart Backhaus Café\, Theresienhöhe 40\, München\, Bayern\, 
 80339\, Deutschland
GEO:48.127587;11.544334
X-APPLE-STRUCTURED-LOCATION;VALUE=URI;X-ADDRESS=Theresienhöhe 40\, Münche
 n\, Bayern\, 80339\, Deutschland;X-APPLE-RADIUS=100;X-TITLE=Rischart Backh
 aus Café:geo:48.127587,11.544334
END:VEVENT
BEGIN:VEVENT
UID:0-155@veranstaltungen.muenchen.de
DTSTART;TZID=Europe/Berlin:20260430T170000
DTEND;TZID=Europe/Berlin:20260430T193000
DTSTAMP:20260420T060925Z
URL:https://veranstaltungen.muenchen.de/mor/veranstaltungen/radtour-altsta
 dtradlring/
SUMMARY:Radtour: Altstadtradlring
DESCRIPTION:Altstadtradlring und mehr
ATTACH;FMTTYPE=image/jpeg:https://veranstaltungen.muenchen.de/mor/wp-conte
 nt/uploads/sites/27/2026_Anmeldeplattform_Teaserbild_Radtouren_LHM-MOR-Dob
 nerAngermann.jpg
CATEGORIES:Radtouren
LOCATION:Müller Café und Bäckerei\, Lindwurmstraße 1\, München\, Bayer
 n\, 80337\, Deutschland
GEO:48.132776;11.565787
X-APPLE-STRUCTURED-LOCATION;VALUE=URI;X-ADDRESS=Lindwurmstraße 1\, Münche
 n\, Bayern\, 80337\, Deutschland;X-APPLE-RADIUS=100;X-TITLE=Müller Café 
 und Bäckerei:geo:48.132776,11.565787
END:VEVENT
BEGIN:VEVENT
UID:0-156@veranstaltungen.muenchen.de
DTSTART;TZID=Europe/Berlin:20260506T170000
DTEND;TZID=Europe/Berlin:20260506T193000
DTSTAMP:20260220T124722Z
URL:https://veranstaltungen.muenchen.de/mor/veranstaltungen/radtour-olympi
 apark-2/
SUMMARY:Radtour: Olympiapark
DESCRIPTION:Der vielseitige Münchner Norden rund um den Olympiapark
ATTACH;FMTTYPE=image/jpeg:https://veranstaltungen.muenchen.de/mor/wp-conte
 nt/uploads/sites/27/2026_Anmeldeplattform_Teaserbild_Radtouren_LHM-MOR-Dob
 nerAngermann.jpg
CATEGORIES:Radtouren
LOCATION:Bally Prell-Brunnen\, Leopoldstraße 77\, München\, Bayern\, 8080
 2\, Deutschland
GEO:48.162728;11.586046
X-APPLE-STRUCTURED-LOCATION;VALUE=URI;X-ADDRESS=Leopoldstraße 77\, Münche
 n\, Bayern\, 80802\, Deutschland;X-APPLE-RADIUS=100;X-TITLE=Bally Prell-Br
 unnen:geo:48.162728,11.586046
END:VEVENT
BEGIN:VEVENT
UID:0-152@veranstaltungen.muenchen.de
DTSTART;TZID=Europe/Berlin:20260512T160000
DTEND;TZID=Europe/Berlin:20260512T183000
DTSTAMP:20260420T094908Z
URL:https://veranstaltungen.muenchen.de/mor/veranstaltungen/radtour-truder
 ing-riem/
SUMMARY:Radtour: Trudering-Riem
DESCRIPTION:Lernen Sie Münchens vielfältige Stadtviertel auf dem Rad kenn
 en! In jedem Stadtviertel lässt sich etwas Spannendes entdecken - radeln 
 Sie mit!\n&nbsp\;\nEin erfahrener Radlguide zeigt Ihnen auf der Radtour du
 rch Trudering-Riem neue Ecken\, Sehenswürdigkeiten oder auch Altbekanntes
  aus einer neuen Perspektive. Teilnehmen kann jede*r über 18 Jahre mit ei
 genem Fahrrad\, bei Minderjährigen muss ein Erziehungsberechtigte*r die A
 nmeldung durchführen. Wir empfehlen das Tragen eines Fahrradhelms. Mitrad
 elnde Kinder sollten möglichst die bayerische Radfahrausbildung an der Sc
 hule absolviert haben.\n\n\n\n&nbsp\;\nBitte beachten:\nAnmeldebeginn: Die
  Anmeldung ist ab 27. April möglich.\nAnmeldeschluss: Montag\, 11. Mai 20
 26 um 12 Uhr\nKosten: Die Teilnahme ist kostenfrei.\n\n&nbsp\;\n\nWeitere 
 Informationen zur Radtour auf München unterwegs
ATTACH;FMTTYPE=image/jpeg:https://veranstaltungen.muenchen.de/mor/wp-conte
 nt/uploads/sites/27/2026_Anmeldeplattform_Teaserbild_Radtouren_LHM-MOR-Dob
 nerAngermann.jpg
CATEGORIES:Radtouren
LOCATION:Platz der Menschenrechte (Nordseite)\, Platz der Menschenrechte\, 
 München\, Bayern\, Deutschland
GEO:48.131516;11.691469
X-APPLE-STRUCTURED-LOCATION;VALUE=URI;X-ADDRESS=Platz der Menschenrechte\, 
 München\, Bayern\, Deutschland;X-APPLE-RADIUS=100;X-TITLE=Platz der Mensc
 henrechte (Nordseite):geo:48.131516,11.691469
END:VEVENT
BEGIN:VEVENT
UID:0-157@veranstaltungen.muenchen.de
DTSTART;TZID=Europe/Berlin:20260529T170000
DTEND;TZID=Europe/Berlin:20260529T193000
DTSTAMP:20260220T124808Z
URL:https://veranstaltungen.muenchen.de/mor/veranstaltungen/radtour-stadte
 rweiterung/
SUMMARY:Radtour: Stadterweiterung
DESCRIPTION:Auf den Spuren der historischen Stadterweiterung
ATTACH;FMTTYPE=image/jpeg:https://veranstaltungen.muenchen.de/mor/wp-conte
 nt/uploads/sites/27/2026_Anmeldeplattform_Teaserbild_Radtouren_LHM-MOR-Dob
 nerAngermann.jpg
CATEGORIES:Radtouren
LOCATION:Eingang Glyptothek\, Königsplatz 3\, München\, Bayern\, 80333\, 
 Deutschland
GEO:48.146574;11.566201
X-APPLE-STRUCTURED-LOCATION;VALUE=URI;X-ADDRESS=Königsplatz 3\, München\,
  Bayern\, 80333\, Deutschland;X-APPLE-RADIUS=100;X-TITLE=Eingang Glyptothe
 k:geo:48.146574,11.566201
END:VEVENT
BEGIN:VEVENT
UID:0-158@veranstaltungen.muenchen.de
DTSTART;TZID=Europe/Berlin:20260603T170000
DTEND;TZID=Europe/Berlin:20260603T193000
DTSTAMP:20260413T061609Z
URL:https://veranstaltungen.muenchen.de/mor/veranstaltungen/radtour-histor
 ischer-westen-2/
SUMMARY:Radtour: Historischer Westen
DESCRIPTION:Von der alten Messe durch Münchens historische Westviertel
ATTACH;FMTTYPE=image/jpeg:https://veranstaltungen.muenchen.de/mor/wp-conte
 nt/uploads/sites/27/2026_Anmeldeplattform_Teaserbild_Radtouren_LHM-MOR-Dob
 nerAngermann.jpg
CATEGORIES:Radtouren
LOCATION:Rischart Backhaus Café\, Theresienhöhe 40\, München\, Bayern\, 
 80339\, Deutschland
GEO:48.127587;11.544334
X-APPLE-STRUCTURED-LOCATION;VALUE=URI;X-ADDRESS=Theresienhöhe 40\, Münche
 n\, Bayern\, 80339\, Deutschland;X-APPLE-RADIUS=100;X-TITLE=Rischart Backh
 aus Café:geo:48.127587,11.544334
END:VEVENT
BEGIN:VEVENT
UID:0-159@veranstaltungen.muenchen.de
DTSTART;TZID=Europe/Berlin:20260612T170000
DTEND;TZID=Europe/Berlin:20260612T193000
DTSTAMP:20260331T135547Z
URL:https://veranstaltungen.muenchen.de/mor/veranstaltungen/radtour-rund-u
 m-freiham/
SUMMARY:Radtour: Rund um Freiham
DESCRIPTION:Rund um Freiham
ATTACH;FMTTYPE=image/jpeg:https://veranstaltungen.muenchen.de/mor/wp-conte
 nt/uploads/sites/27/2026_Anmeldeplattform_Teaserbild_Radtouren_LHM-MOR-Dob
 nerAngermann.jpg
CATEGORIES:Radtouren
LOCATION:Eingang Müller Café & Bäckerei\, Mahatma-Gandhi-Platz 5\, Münc
 hen\, Bayern\, 81248\, Deutschland
GEO:48.141157;11.409668
X-APPLE-STRUCTURED-LOCATION;VALUE=URI;X-ADDRESS=Mahatma-Gandhi-Platz 5\, M
 ünchen\, Bayern\, 81248\, Deutschland;X-APPLE-RADIUS=100;X-TITLE=Eingang 
 Müller Café & Bäckerei:geo:48.141157,11.409668
END:VEVENT
BEGIN:VEVENT
UID:0-160@veranstaltungen.muenchen.de
DTSTART;TZID=Europe/Berlin:20260625T170000
DTEND;TZID=Europe/Berlin:20260625T193000
DTSTAMP:20260220T125204Z
URL:https://veranstaltungen.muenchen.de/mor/veranstaltungen/radtour-prinz-
 eugen-park/
SUMMARY:Radtour: Prinz Eugen Park
DESCRIPTION:Erlebnistour Nordosten - von der Münchner Freiheit zum Prinz-E
 ugen-Park
ATTACH;FMTTYPE=image/jpeg:https://veranstaltungen.muenchen.de/mor/wp-conte
 nt/uploads/sites/27/2026_Anmeldeplattform_Teaserbild_Radtouren_LHM-MOR-Dob
 nerAngermann.jpg
CATEGORIES:Radtouren
LOCATION:St. Ursula Apotheke\, Münchner Freiheit 8\, München\, Bayern\, 8
 0802\, Deutschland
GEO:48.162411;11.587276
X-APPLE-STRUCTURED-LOCATION;VALUE=URI;X-ADDRESS=Münchner Freiheit 8\, Mün
 chen\, Bayern\, 80802\, Deutschland;X-APPLE-RADIUS=100;X-TITLE=St. Ursula 
 Apotheke:geo:48.162411,11.587276
END:VEVENT
BEGIN:VEVENT
UID:0-165@veranstaltungen.muenchen.de
DTSTART;TZID=Europe/Berlin:20260701T170000
DTEND;TZID=Europe/Berlin:20260701T193000
DTSTAMP:20260331T140144Z
URL:https://veranstaltungen.muenchen.de/mor/veranstaltungen/radtour-neuper
 lach/
SUMMARY:Radtour: Neuperlach
DESCRIPTION:Erlebnistour Neuperlach
ATTACH;FMTTYPE=image/jpeg:https://veranstaltungen.muenchen.de/mor/wp-conte
 nt/uploads/sites/27/2026_Anmeldeplattform_Teaserbild_Radtouren_LHM-MOR-Dob
 nerAngermann.jpg
CATEGORIES:Radtouren
LOCATION:Eingang Michaelibad\, Heinrich-Wieland-Straße 24\, München\, Bay
 ern\, 81735\, Deutschland
GEO:48.11668;11.636483
X-APPLE-STRUCTURED-LOCATION;VALUE=URI;X-ADDRESS=Heinrich-Wieland-Straße 24
 \, München\, Bayern\, 81735\, Deutschland;X-APPLE-RADIUS=100;X-TITLE=Eing
 ang Michaelibad:geo:48.11668,11.636483
END:VEVENT
BEGIN:VEVENT
UID:0-164@veranstaltungen.muenchen.de
DTSTART;TZID=Europe/Berlin:20260710T170000
DTEND;TZID=Europe/Berlin:20260710T193000
DTSTAMP:20260402T094158Z
URL:https://veranstaltungen.muenchen.de/mor/veranstaltungen/radtour-innens
 tadt-2/
SUMMARY:Radtour: Innenstadt
DESCRIPTION:Erlebnis Innenstadt-Tour
ATTACH;FMTTYPE=image/jpeg:https://veranstaltungen.muenchen.de/mor/wp-conte
 nt/uploads/sites/27/2026_Anmeldeplattform_Teaserbild_Radtouren_LHM-MOR-Dob
 nerAngermann.jpg
CATEGORIES:Radtouren
LOCATION:Eingang Justizgebäude (Neue Maxburg)\, Lenbachplatz 7\, München\
 , Bayern\, 80333\, Deutschland
GEO:48.140523;11.568956
X-APPLE-STRUCTURED-LOCATION;VALUE=URI;X-ADDRESS=Lenbachplatz 7\, München\,
  Bayern\, 80333\, Deutschland;X-APPLE-RADIUS=100;X-TITLE=Eingang Justizgeb
 äude (Neue Maxburg):geo:48.140523,11.568956
END:VEVENT
BEGIN:VEVENT
UID:0-161@veranstaltungen.muenchen.de
DTSTART;TZID=Europe/Berlin:20260717T160000
DTEND;TZID=Europe/Berlin:20260717T183000
DTSTAMP:20260331T135955Z
URL:https://veranstaltungen.muenchen.de/mor/veranstaltungen/radtour-altsta
 dtradlring-2/
SUMMARY:Radtour: Altstadtradlring
DESCRIPTION:Altstadtradlring und mehr
ATTACH;FMTTYPE=image/jpeg:https://veranstaltungen.muenchen.de/mor/wp-conte
 nt/uploads/sites/27/2026_Anmeldeplattform_Teaserbild_Radtouren_LHM-MOR-Dob
 nerAngermann.jpg
CATEGORIES:Radtouren
LOCATION:Müller Café und Bäckerei\, Lindwurmstraße 1\, München\, Bayer
 n\, 80337\, Deutschland
GEO:48.132776;11.565787
X-APPLE-STRUCTURED-LOCATION;VALUE=URI;X-ADDRESS=Lindwurmstraße 1\, Münche
 n\, Bayern\, 80337\, Deutschland;X-APPLE-RADIUS=100;X-TITLE=Müller Café 
 und Bäckerei:geo:48.132776,11.565787
END:VEVENT
BEGIN:VEVENT
UID:0-166@veranstaltungen.muenchen.de
DTSTART;TZID=Europe/Berlin:20260723T170000
DTEND;TZID=Europe/Berlin:20260723T193000
DTSTAMP:20260220T124736Z
URL:https://veranstaltungen.muenchen.de/mor/veranstaltungen/radtour-olympi
 apark/
SUMMARY:Radtour: Olympiapark
DESCRIPTION:Der vielseitige Münchner Norden rund um den Olympiapark
ATTACH;FMTTYPE=image/jpeg:https://veranstaltungen.muenchen.de/mor/wp-conte
 nt/uploads/sites/27/2026_Anmeldeplattform_Teaserbild_Radtouren_LHM-MOR-Dob
 nerAngermann.jpg
CATEGORIES:Radtouren
LOCATION:Bally Prell-Brunnen\, Leopoldstraße 77\, München\, Bayern\, 8080
 2\, Deutschland
GEO:48.162728;11.586046
X-APPLE-STRUCTURED-LOCATION;VALUE=URI;X-ADDRESS=Leopoldstraße 77\, Münche
 n\, Bayern\, 80802\, Deutschland;X-APPLE-RADIUS=100;X-TITLE=Bally Prell-Br
 unnen:geo:48.162728,11.586046
END:VEVENT
BEGIN:VEVENT
UID:0-167@veranstaltungen.muenchen.de
DTSTART;TZID=Europe/Berlin:20260916T170000
DTEND;TZID=Europe/Berlin:20260916T193000
DTSTAMP:20260220T125218Z
URL:https://veranstaltungen.muenchen.de/mor/veranstaltungen/radtour-prinz-
 eugen-park-2/
SUMMARY:Radtour: Prinz Eugen Park
DESCRIPTION:Erlebnistour Nordosten - von der Münchner Freiheit zum Prinz-E
 ugen-Park
ATTACH;FMTTYPE=image/jpeg:https://veranstaltungen.muenchen.de/mor/wp-conte
 nt/uploads/sites/27/2026_Anmeldeplattform_Teaserbild_Radtouren_LHM-MOR-Dob
 nerAngermann.jpg
CATEGORIES:Radtouren
LOCATION:Stadtteilbibliothek Rosenkavalierplatz\, Rosenkavalierplatz 16\, M
 ünchen\, Bayern\, 81925\, Deutschland
GEO:48.151794;11.619633
X-APPLE-STRUCTURED-LOCATION;VALUE=URI;X-ADDRESS=Rosenkavalierplatz 16\, Mü
 nchen\, Bayern\, 81925\, Deutschland;X-APPLE-RADIUS=100;X-TITLE=Stadtteilb
 ibliothek Rosenkavalierplatz:geo:48.151794,11.619633
END:VEVENT
BEGIN:VEVENT
UID:0-168@veranstaltungen.muenchen.de
DTSTART;TZID=Europe/Berlin:20260918T170000
DTEND;TZID=Europe/Berlin:20260918T193000
DTSTAMP:20260220T124824Z
URL:https://veranstaltungen.muenchen.de/mor/veranstaltungen/radtour-stadte
 rweiterung-2/
SUMMARY:Radtour: Stadterweiterung
DESCRIPTION:Auf den Spuren der historischen Stadterweiterung
ATTACH;FMTTYPE=image/jpeg:https://veranstaltungen.muenchen.de/mor/wp-conte
 nt/uploads/sites/27/2026_Anmeldeplattform_Teaserbild_Radtouren_LHM-MOR-Dob
 nerAngermann.jpg
CATEGORIES:Radtouren
LOCATION:Eingang Glyptothek\, Königsplatz 3\, München\, Bayern\, 80333\, 
 Deutschland
GEO:48.146574;11.566201
X-APPLE-STRUCTURED-LOCATION;VALUE=URI;X-ADDRESS=Königsplatz 3\, München\,
  Bayern\, 80333\, Deutschland;X-APPLE-RADIUS=100;X-TITLE=Eingang Glyptothe
 k:geo:48.146574,11.566201
END:VEVENT
BEGIN:VEVENT
UID:0-169@veranstaltungen.muenchen.de
DTSTART;TZID=Europe/Berlin:20260925T170000
DTEND;TZID=Europe/Berlin:20260925T193000
DTSTAMP:20260220T125416Z
URL:https://veranstaltungen.muenchen.de/mor/veranstaltungen/radtour-von-fr
 eiham-in-die-innenstadt/
SUMMARY:Radtour: Von Freiham in die Innenstadt
DESCRIPTION:Von Freiham in die Münchner Innenstadt
ATTACH;FMTTYPE=image/jpeg:https://veranstaltungen.muenchen.de/mor/wp-conte
 nt/uploads/sites/27/2026_Anmeldeplattform_Teaserbild_Radtouren_LHM-MOR-Dob
 nerAngermann.jpg
CATEGORIES:Radtouren
LOCATION:Eingang Müller Café & Bäckerei\, Mahatma-Gandhi-Platz 5\, Münc
 hen\, Bayern\, 81248\, Deutschland
GEO:48.141157;11.409668
X-APPLE-STRUCTURED-LOCATION;VALUE=URI;X-ADDRESS=Mahatma-Gandhi-Platz 5\, M
 ünchen\, Bayern\, 81248\, Deutschland;X-APPLE-RADIUS=100;X-TITLE=Eingang 
 Müller Café & Bäckerei:geo:48.141157,11.409668
END:VEVENT
BEGIN:VEVENT
UID:0-170@veranstaltungen.muenchen.de
DTSTART;TZID=Europe/Berlin:20261008T170000
DTEND;TZID=Europe/Berlin:20261008T193000
DTSTAMP:20260220T124102Z
URL:https://veranstaltungen.muenchen.de/mor/veranstaltungen/radtour-altsta
 dtradlring-3/
SUMMARY:Radtour: Altstadtradlring
DESCRIPTION:Altstadtradlring und mehr
ATTACH;FMTTYPE=image/jpeg:https://veranstaltungen.muenchen.de/mor/wp-conte
 nt/uploads/sites/27/2026_Anmeldeplattform_Teaserbild_Radtouren_LHM-MOR-Dob
 nerAngermann.jpg
CATEGORIES:Radtouren
LOCATION:Müller Café und Bäckerei\, Lindwurmstraße 1\, München\, Bayer
 n\, 80337\, Deutschland
GEO:48.132776;11.565787
X-APPLE-STRUCTURED-LOCATION;VALUE=URI;X-ADDRESS=Lindwurmstraße 1\, Münche
 n\, Bayern\, 80337\, Deutschland;X-APPLE-RADIUS=100;X-TITLE=Müller Café 
 und Bäckerei:geo:48.132776,11.565787
END:VEVENT
BEGIN:VEVENT
UID:0-171@veranstaltungen.muenchen.de
DTSTART;TZID=Europe/Berlin:20261009T170000
DTEND;TZID=Europe/Berlin:20261009T193000
DTSTAMP:20260413T061635Z
URL:https://veranstaltungen.muenchen.de/mor/veranstaltungen/radtour-histor
 ischer-westen-3/
SUMMARY:Radtour: Historischer Westen
DESCRIPTION:Von der alten Messe durch Münchens historische Westviertel
ATTACH;FMTTYPE=image/jpeg:https://veranstaltungen.muenchen.de/mor/wp-conte
 nt/uploads/sites/27/2026_Anmeldeplattform_Teaserbild_Radtouren_LHM-MOR-Dob
 nerAngermann.jpg
CATEGORIES:Radtouren
LOCATION:Rischart Backhaus Café\, Theresienhöhe 40\, München\, Bayern\, 
 80339\, Deutschland
GEO:48.127587;11.544334
X-APPLE-STRUCTURED-LOCATION;VALUE=URI;X-ADDRESS=Theresienhöhe 40\, Münche
 n\, Bayern\, 80339\, Deutschland;X-APPLE-RADIUS=100;X-TITLE=Rischart Backh
 aus Café:geo:48.127587,11.544334
END:VEVENT
BEGIN:VEVENT
UID:0-172@veranstaltungen.muenchen.de
DTSTART;TZID=Europe/Berlin:20261016T160000
DTEND;TZID=Europe/Berlin:20261016T183000
DTSTAMP:20260220T125327Z
URL:https://veranstaltungen.muenchen.de/mor/veranstaltungen/radtour-neuper
 lach-2/
SUMMARY:Radtour: Neuperlach
DESCRIPTION:Erlebnistour Neuperlach
ATTACH;FMTTYPE=image/jpeg:https://veranstaltungen.muenchen.de/mor/wp-conte
 nt/uploads/sites/27/2026_Anmeldeplattform_Teaserbild_Radtouren_LHM-MOR-Dob
 nerAngermann.jpg
CATEGORIES:Radtouren
LOCATION:Eingang Michaelibad\, Heinrich-Wieland-Straße 24\, München\, Bay
 ern\, 81735\, Deutschland
GEO:48.11668;11.636483
X-APPLE-STRUCTURED-LOCATION;VALUE=URI;X-ADDRESS=Heinrich-Wieland-Straße 24
 \, München\, Bayern\, 81735\, Deutschland;X-APPLE-RADIUS=100;X-TITLE=Eing
 ang Michaelibad:geo:48.11668,11.636483
END:VEVENT
BEGIN:VTIMEZONE
TZID:Europe/Berlin
X-LIC-LOCATION:Europe/Berlin
BEGIN:DAYLIGHT
DTSTART:20250330T030000
TZOFFSETFROM:+0100
TZOFFSETTO:+0200
TZNAME:CEST
END:DAYLIGHT
BEGIN:STANDARD
DTSTART:20251026T020000
TZOFFSETFROM:+0200
TZOFFSETTO:+0100
TZNAME:CET
END:STANDARD
BEGIN:DAYLIGHT
DTSTART:20260329T030000
TZOFFSETFROM:+0100
TZOFFSETTO:+0200
TZNAME:CEST
END:DAYLIGHT
END:VTIMEZONE
END:VCALENDAR