
BEGIN:VCALENDAR
VERSION:2.0
PRODID:-//wp-events-plugin.com//6.6.3//EN
TZID:Europe/Berlin
X-WR-TIMEZONE:Europe/Berlin
BEGIN:VEVENT
UID:0-174@veranstaltungen.muenchen.de
DTSTART;TZID=Europe/Berlin:20260520T183000
DTEND;TZID=Europe/Berlin:20260520T200000
DTSTAMP:20260424T123024Z
URL:https://veranstaltungen.muenchen.de/mor/veranstaltungen/abschlussveran
 staltung-allach-untermenzing/
SUMMARY:Abschlussveranstaltung Allach-Untermenzing
DESCRIPTION:Abschlussveranstaltung Nahmobilitätskonzept Allach-Untermenzin
 g\n\n\nWir laden Sie herzlich zur Präsentation der Ergebnisse des Nahmobi
 litätskonzepts ein\, das in den letzten eineinhalb Jahren mit Ihrer Unter
 stützung entwickelt wurde. Die Verkehrsplaner*innen stellen die Erkenntni
 sse und Maßnahmenvorschläge vor.\n\nNutzen Sie die Gelegenheit\, Fragen 
 zu stellen und Feedback zu geben.\n\n\n\n\n\nWir freuen uns auf Ihre Teiln
 ahme!\n\n\n\nEine Sitzecke mit Spielmaterialien für Kinder steht bereit.\
 n\n\n\n\nMelden Sie sich hier bis spätestens Sonntag\, 17. Mai 2026\, zur
  Veranstaltung an.\n\n\n&nbsp\;
CATEGORIES:Bürgerveranstaltungen
LOCATION:Louise-Schröder-Gymnasium\, Pfarrer-Grimm-Straße 1\, München\, 
 Bayern\, 80999\, Deutschland
GEO:48.179632;11.463339
X-APPLE-STRUCTURED-LOCATION;VALUE=URI;X-ADDRESS=Pfarrer-Grimm-Straße 1\, M
 ünchen\, Bayern\, 80999\, Deutschland;X-APPLE-RADIUS=100;X-TITLE=Louise-S
 chröder-Gymnasium:geo:48.179632,11.463339
END:VEVENT
BEGIN:VTIMEZONE
TZID:Europe/Berlin
X-LIC-LOCATION:Europe/Berlin
BEGIN:DAYLIGHT
DTSTART:20260329T030000
TZOFFSETFROM:+0100
TZOFFSETTO:+0200
TZNAME:CEST
END:DAYLIGHT
END:VTIMEZONE
END:VCALENDAR