
BEGIN:VCALENDAR
VERSION:2.0
PRODID:-//wp-events-plugin.com//6.6.3//EN
TZID:Europe/Berlin
X-WR-TIMEZONE:Europe/Berlin
BEGIN:VEVENT
UID:0-63@veranstaltungen.muenchen.de
DTSTART;TZID=Europe/Berlin:20240207T133000
DTEND;TZID=Europe/Berlin:20240207T163000
DTSTAMP:20240206T151822Z
URL:https://veranstaltungen.muenchen.de/lhm/veranstaltungen/hans-weinberge
 r-akademie-der-awo-aubing/
SUMMARY:Hans-Weinberger-Akademie der AWO\, Aubing
DESCRIPTION:Ablaufplan\n\nInformationen zur generalistischen Pflegeausbildu
 ng an der HWA\nVorstellung des Simulationszentrums für die Pflegeausbildu
 ng inkl. Übungen an Simulationspuppen\n\nZeiten\n13:30 – 15:00 Uhr\n15:
 00 – 16:30 Uhr\nOrt\nBerufsfachschulen für Pflege und Altenpflegehilfe 
 der Hans-Weinberger-Akademie der AWO e.V.\nIndustriestr. 31\n81245 Münche
 n\nInformationen zur Schule\nWir bieten an: Die Ausbildung zur/zum\n\nPfle
 gefachfrau/ Pflegefachmann (3 Jahre\, generalistische Ausbildung)\nPflegef
 achhilfe (Altenpflege) (1 Jahr)\n\nBildungseinrichtung im Sozial- und Gesu
 ndheitsbereich.\nBildungskonzept: Selbstorganisiertes Lernen (SOL) mit Med
 iativen Kompetenzen.\nwww.hwa-online.de/kontakt/muenchen/\n
CATEGORIES:Praxistag Pflege
LOCATION:Berufsfachschulen für Pflege und Altenpflegehilfe der Hans-Weinbe
 rger-Akademie der AWO e.V.\, Industriestr. 31\, München\, 81245\, Deutsch
 land
GEO:48.158304;11.41768
X-APPLE-STRUCTURED-LOCATION;VALUE=URI;X-ADDRESS=Industriestr. 31\, München
 \, 81245\, Deutschland;X-APPLE-RADIUS=100;X-TITLE=Berufsfachschulen für P
 flege und Altenpflegehilfe der Hans-Weinberger-Akademie der AWO e.V.:geo:4
 8.158304,11.41768
END:VEVENT
BEGIN:VTIMEZONE
TZID:Europe/Berlin
X-LIC-LOCATION:Europe/Berlin
BEGIN:STANDARD
DTSTART:20231029T020000
TZOFFSETFROM:+0200
TZOFFSETTO:+0100
TZNAME:CET
END:STANDARD
END:VTIMEZONE
END:VCALENDAR