
BEGIN:VCALENDAR
VERSION:2.0
PRODID:-//wp-events-plugin.com//6.6.3//EN
TZID:Europe/Berlin
X-WR-TIMEZONE:Europe/Berlin
BEGIN:VEVENT
UID:0-30@veranstaltungen.muenchen.de
DTSTART;TZID=Europe/Berlin:20220630T210000
DTEND;TZID=Europe/Berlin:20220701T210000
DTSTAMP:20220621T141937Z
URL:https://veranstaltungen.muenchen.de/kult/veranstaltungen/leichte-sprac
 he-symposium-zu-kunst-und-teilhabe/
SUMMARY:Symposium - Leichte Sprache. Symposium zu Kunst und Teilhabe / 30. 
 Juni - 01. Juli 2022
DESCRIPTION:Leichte Sprache. Symposium zu Kunst und Teilhabe\n\nIm Haus der
  Kunst\, Auditorium\, Prinzregentenstr. 1\, 80538 München\n\n&nbsp\;\n\nD
 onnerstag\, 30. Juni 18.00 - 20.30 Uhr\n\nund \n\nFreitag\, 01. Juli 10.00
  - 18.00 Uhr\n\n&nbsp\;\n\nDurch Leichte Sprache können Zugänge zu Kunst
  und Kultur geschaffen werden\, um möglichst vielen Menschen Teilhabe zu 
 ermöglichen. Worin aber unterscheiden sich Leichte Sprache\, Einfache Spr
 ache und Standardsprache? Wie kommen diese im Kunstkontext bereits zum Ein
 satz?\n\nBei dem Symposium wird diskutiert\, wie auch Museen und Ausstellu
 ngshäuser Informationen vermehrt in Leichter Sprache einsetzen und damit 
 einen Beitrag zur Barrierefreiheit und Inklusion leisten.\n\nIn verschiede
 nen Vorträgen von Fachwissenschaftler*innen\, Projektvorstellungen aus de
 r Praxis und Diskussionen wird Leichte Sprache in den Mittelpunkt gestellt
 .\n\n&nbsp\;\n\nProgramm:\n\nDonnerstag\, 30. Juni 2022\, 18.00 - 20.30 Uh
 r\n\n&nbsp\;\n\nModeration: Sabine Brantl\, Haus der Kunst und Luisa Wöll
 isch\, Freie Schauspielerin\n\n&nbsp\;\n\nGrußwort von Dr. Andrea Lissoni
 \, Künstlerischer Geschäftsführer Haus der Kunst\n\n&nbsp\;\n\n 	Vortra
 g: Was ist Leichte Sprache?  von Verena Reinhard\, Einfach verstehen. Med
 ienwerkstatt für Leichte Sprache\n 	Vortrag: Die Lust am Sprechen – Int
 egrale Sprache und Kunstvermittlung von Klaus Mecherlein\, Leiter des EUWA
 RD Archiv und des Atelier Augustinum\n 	Künstlerische Intervention: Zur W
 ahrhaftigkeit fließen von und mit Laura Schwörer\, Künstlerin und Bildu
 ngsfachkraft für Inklusion\n\n&nbsp\;\n\nFreitag\, 01. Juli 2022\, 10.00 
 - 18.00 Uhr\n\n&nbsp\;\n\nModeration: Sabine Brantl\, Haus der Kunst und C
 hristopher Förch\, Kulturreferat der Landeshauptstadt München\n\n&nbsp\;
 \n\nBegrüßung durch Maximilian Dorner\, Kulturreferat der Landeshauptsta
 dt München\n\n&nbsp\;\n\n 	10.30 Uhr - Vortrag: LEICHTE SPRACHE im Dilemm
 a zwischen emanzipatorischer Inklusions- &amp\; Teilhabeorientierung vs. a
 nti-ästhetischer Simplifizierung &amp\; Ableismus - Prof. Dr. Saskia Schu
 ppener\, Universität Leipzig\, Erziehungswissenschaftliche Fakultät\n\n&
 nbsp\;\n\n 	11.15 Uhr - Vortrag: Leichte Sprache und ihre Umsetzung aus de
 signtheoretischer und museumspädagogischer Sicht - Dorothee Mammel\, Gale
 rie Bezirk Oberbayern und Sabina Sieghart\, Designerin und Designforscheri
 n\n\n&nbsp\;\n\n12.00 - 14.00 Uhr - Mittagspause - es werden Kurzführunge
 n in der Galerie Bezirk Oberbayern und im Haus der Kunst angeboten\n\n&nbs
 p\;\n\n 	14.00 - 15.30 Uhr - Projekte aus der Praxis:\n 	Ein Wochenende Le
 ichte Sprache. Ein Atelier Ortswechsel-Projekt mit Petra Waidosch und Kili
 an Ihler\n 	Leichte Sprache und Design in der Galerie Bezirk Oberbayern: e
 in Praxisbeispiel interdisziplinärer Zusammenarbeit mit Dorothee Mammel u
 nd Sabina Sieghart\n 	Augen die sichtbar werden mit Jutta Pöstges\, Anne
  Leichtfuß und Luisa Koall\n\n&nbsp\;\n\n15.30 - 16.00 Uhr - Pause\n\n&nb
 sp\;\n\n 	16.00 Uhr - Diskussion Leichte Sprache. Wie gehts weiter?\n\nmit
 :\n\nSabine Brantl\, Haus der Kunst\n\nRuth Lobenhofer\, Dipl. Soz. Päd\,
  Kunsthistorikerin M.A.\n\nAnne Marr\, Leitung Kunstvermittlung\, Museum V
 illa Stuck\n\nLaura Schwörer\, Künstlerin und Bildungsfachkraft für Ink
 lusion\n\nModeration: Maximilian Dorner und Stephanie Lyakine-Schönweitz\
 , Kulturreferat der Landeshauptstadt München\n\n&nbsp\;\n\n 	17.30 Uhr - 
 Ausblick und Verabschiedung\n\n&nbsp\;\n\n&nbsp\;\n\nDie Veranstaltung ist
  kostenfrei.\n\n\n&nbsp\;\n\nBitte buchen Sie alle Tage an denen Sie teiln
 ehmen möchten - Donnerstag  / Freitag - \n\noder wenn Sie an beiden Tage
 n teilnehmen möchten:  Bitte für beide Tage einen Platz buchen\n\n\n&nb
 sp\;\n\nAnmeldeschluss ist der 20. Juni 2022.\n\nMit der Teilnahme erklär
 en Sie sich mit der Erstellung und Veröffentlichung von Fotografien der V
 eranstaltungen einverstanden.\n\nAm Donnerstag\, 30. Juni und Freitag\, 01
 . Juli 2022 erhalten Sie nach Veranstaltungsende kostenfreien Zugang zu de
 n Ausstellungen von Christine Sun Kim und Tony Cokes im Haus der Kunst\, g
 eöffnet bis 22.00 Uhr (Donnerstag) und 20.00 Uhr (Freitag).\n\n&nbsp\;\n\
 nEine Veranstaltung des Kulturreferats der Landeshauptstadt München in Ko
 operation mit dem Haus der Kunst mit Unterstützung des Bezirk Oberbayern.
 \n\n&nbsp\;\n\nFalls fragen:\n\nOrganisatorisches / Koordination Veranstal
 tungen:\n\nbirgit.sandhof@muenchen.de oder telefonisch unter 01525 79 46 4
 65\n\n&nbsp\;
CATEGORIES:Stabstelle Diversität und Inklusion
LOCATION:Haus der Kunst\, Prinzregentenstraße 1\, München\, Bayern\, 8053
 8\, Deutschland
GEO:48.143829;11.585834
X-APPLE-STRUCTURED-LOCATION;VALUE=URI;X-ADDRESS=Prinzregentenstraße 1\, M
 ünchen\, Bayern\, 80538\, Deutschland;X-APPLE-RADIUS=100;X-TITLE=Haus der
  Kunst:geo:48.143829,11.585834
END:VEVENT
BEGIN:VTIMEZONE
TZID:Europe/Berlin
X-LIC-LOCATION:Europe/Berlin
BEGIN:DAYLIGHT
DTSTART:20220327T030000
TZOFFSETFROM:+0100
TZOFFSETTO:+0200
TZNAME:CEST
END:DAYLIGHT
END:VTIMEZONE
END:VCALENDAR