
BEGIN:VCALENDAR
VERSION:2.0
PRODID:-//wp-events-plugin.com//6.6.3//EN
TZID:Europe/Berlin
X-WR-TIMEZONE:Europe/Berlin
BEGIN:VEVENT
UID:0-64@veranstaltungen.muenchen.de
DTSTART;TZID=Europe/Berlin:20260119T170000
DTEND;TZID=Europe/Berlin:20260119T170000
DTSTAMP:20260113T140900Z
URL:https://veranstaltungen.muenchen.de/kult/veranstaltungen/ausstellungse
 roeffnung-lastseen/
SUMMARY:Ausstellungseröffnung: Festgehalten. Verschleppt aus Deutschland 1
 938-1945
DESCRIPTION:Mehr als 200.000 Menschen sind in den Jahren 1938 bis 1945 aus 
 Deutschland verschleppt und im deutschbesetzten Osteuropa ermordet worden.
  Wenige Menschen haben überlebt. Zentral für das Mordgeschehen waren die
  zahllosen Deportationstransporte. Diese Deportationen sind oftmals fotogr
 afiert worden. #LastSeen. Bilder der NS-Deportationen sichert\, sammelt\, 
 erforscht und veröffentlicht Fotos von Deportationen der Jüdinnen und Ju
 den\, Sinti*zze und Rom*nja\, sowie von Opfern der NS-„Euthanasie“ in 
 einem digitalen Atlas und stellt sie niedrigschwellig und ethisch sensibel
  für die Forschung\, Bildungs- und Gedenkarbeit zur Verfügung. Mittlerwe
 ile sind Fotografien aus mehr als 70 deutschen Orten bekannt.\n\n&nbsp\;\n
 \nDie Wanderausstellung Festgehalten führt kompakt in die Geschichte der 
 Deportationen und der Deportationsfotografien ein und hebt die besondere R
 olle der Zuschauenden vor. Die Auseinandersetzung mit ihnen ist wichtig f
 ür die deutsche Erinnerungskultur und wirft auch für uns heute Fragen na
 ch persönlicher Verantwortung und individuellen Handlungsmacht auf. Für 
 die erste Station der Ausstellung in München wurde ein lokaler Einstieg i
 n den Bildatlas von #LastSeen umgesetzt\, der die Verbindung der Geschehni
 sse mit konkreten Orten ermöglicht.\n\n&nbsp\;\n\nAusstellungseröffnung\
 n\nMontag\, 19. Januar\, im Foyer des Bayerischen Rundfunks (Eingang: Arnu
 lfstraße 42)\n\nEinlass: ab 16.30 Uhr\n\nBeginn: 17.00 Uhr\n\n&nbsp\;\n\n
 Im Anschluss an die Eröffnung laden wir Sie zu einem Empfang und einer Ku
 rator*innen-Führung durch die Ausstellung ein. Für den musikalischen Rah
 men sorgt ein Streicherensemble des Münchner Rundfunkorchesters.\n\n&nbsp
 \;\n\nAlle Reden sowie die Kurator*innen-Führung werden in Deutsche Gebä
 rdensprache übersetzt. Der Zugang zum Veranstaltungsort ist barrierefrei.
  Bitte nutzen Sie den linken Eingang und melden sich per Klingel beim Empf
 angspersonal.\n\n&nbsp\;\n\nEintritt: frei\, Anmeldung erforderlich\n\n&nb
 sp\;\n\nPersonen\, die rechtsextremen Parteien oder Organisationen angehö
 ren oder der rechtsextremen Szene zuzuordnen sind\, sind von der Veranstal
 tung ausgeschlossen. Das Gleiche gilt für Personen die bereits in der Ver
 gangenheit durch nationalistische\, verschwörungsideologische\, rassistis
 che\, antisemitische oder sonstige menschenverachtende Äußerungen in Ers
 cheinung getreten sind oder Parteien oder Organisationen angehören\, die 
 durch solche Äußerungen in Erscheinung getreten sind.\n\n&nbsp\;\n\nEs w
 ird für Pressezwecke fotografiert. Sprechen Sie uns bitte an\, wenn Sie n
 icht fotografiert werden möchten.\n\n&nbsp\;\n\nDas Projekt #LastSeen. Bi
 lder der NS-Deportationen und die Ausstellung Festgehalten. Verschleppt au
 s Deutschland 1938 bis 1945 werden von der Alfred Landecker Foundation gef
 ördert. Public History im Kulturreferat der Landeshauptstadt München ist
  einer der Partner im Projektverbund und war mitverantwortlich für die En
 twicklung des Serious Games zu den Münchner Deportationsbildern. Der Baye
 rische Rundfunk ist Gastgeber der Veranstaltung.
CATEGORIES:Public History
LOCATION:Bayerischer Rundfunk (Foyer)\, Arnulfstraße 42\, München\, Bayer
 n\, 80335\, Deutschland
GEO:48.142809;11.553938
X-APPLE-STRUCTURED-LOCATION;VALUE=URI;X-ADDRESS=Arnulfstraße 42\, München
 \, Bayern\, 80335\, Deutschland;X-APPLE-RADIUS=100;X-TITLE=Bayerischer Run
 dfunk (Foyer):geo:48.142809,11.553938
END:VEVENT
BEGIN:VTIMEZONE
TZID:Europe/Berlin
X-LIC-LOCATION:Europe/Berlin
BEGIN:STANDARD
DTSTART:20251026T020000
TZOFFSETFROM:+0200
TZOFFSETTO:+0100
TZNAME:CET
END:STANDARD
END:VTIMEZONE
END:VCALENDAR