
BEGIN:VCALENDAR
VERSION:2.0
PRODID:-//wp-events-plugin.com//6.6.3//EN
TZID:Europe/Berlin
X-WR-TIMEZONE:Europe/Berlin
BEGIN:VEVENT
UID:0-26@veranstaltungen.muenchen.de
DTSTART;TZID=Europe/Berlin;VALUE=DATE:20270501
DTEND;TZID=Europe/Berlin;VALUE=DATE:20271102
DTSTAMP:20260319T100200Z
URL:https://veranstaltungen.muenchen.de/kr/veranstaltungen/krautgarten-gut
 -riem/
SUMMARY:Krautgarten - Riem 2027
DESCRIPTION:Hier können Sie verbindlich eine Krautgartenparzelle für den 
 Standort Riem auf Basis der derzeit gültigen Vertragsbedingungen für di
 e angegebene Saison bestellen. Der Vertrag kommt mit dem Begleichen der Re
 chnung verbindlich zustande.\n\n&nbsp\;\n\nSollten Sie an einem anderen St
 andort interessiert sein\, dann werfen Sie gerne einen Blick auf unsere Kr
 autgartenübersicht.
CATEGORIES:Stadtgüter München
LOCATION:Krautgarten Riem\, Riemerstraße\, München\, Bayern\, 81829\, Deu
 tschland
GEO:48.141907;11.671761
X-APPLE-STRUCTURED-LOCATION;VALUE=URI;X-ADDRESS=Riemerstraße\, München\, 
 Bayern\, 81829\, Deutschland;X-APPLE-RADIUS=100;X-TITLE=Krautgarten Riem:g
 eo:48.141907,11.671761
END:VEVENT
BEGIN:VTIMEZONE
TZID:Europe/Berlin
X-LIC-LOCATION:Europe/Berlin
BEGIN:DAYLIGHT
DTSTART:20270328T030000
TZOFFSETFROM:+0100
TZOFFSETTO:+0200
TZNAME:CEST
END:DAYLIGHT
BEGIN:STANDARD
DTSTART:20271031T020000
TZOFFSETFROM:+0200
TZOFFSETTO:+0100
TZNAME:CET
END:STANDARD
END:VTIMEZONE
END:VCALENDAR