
BEGIN:VCALENDAR
VERSION:2.0
PRODID:-//wp-events-plugin.com//6.6.3//EN
TZID:Europe/Berlin
X-WR-TIMEZONE:Europe/Berlin
BEGIN:VEVENT
UID:0-28@veranstaltungen.muenchen.de
DTSTART;TZID=Europe/Berlin;VALUE=DATE:20270501
DTEND;TZID=Europe/Berlin;VALUE=DATE:20271102
DTSTAMP:20260319T100541Z
URL:https://veranstaltungen.muenchen.de/kr/veranstaltungen/krautgarten-gro
 nsdorf/
SUMMARY:Krautgarten - Gronsdorf 2027
DESCRIPTION:Hier können Sie verbindlich eine Krautgartenparzelle für den 
 Standort Gronsdorf auf Basis der derzeit gültigen Vertragsbedingungen f
 ür die angegebene Saison bestellen. Der Vertrag kommt mit dem Begleichen 
 der Rechnung verbindlich zustande.\n&nbsp\;\nSollten Sie an einem anderen 
 Standort interessiert sein\, dann werfen Sie gerne einen Blick auf unsere 
 Krautgartenübersicht.
CATEGORIES:Stadtgüter München
LOCATION:Krautgarten - Gronsdorf\, Schneiderhofstraße\, Haar\, Bayern\, 85
 540\, Landkreis München\, Deutschland
GEO:48.122531;11.70383
X-APPLE-STRUCTURED-LOCATION;VALUE=URI;X-ADDRESS=Schneiderhofstraße\, Haar\
 , Bayern\, 85540\, Landkreis München\, Deutschland;X-APPLE-RADIUS=100;X-T
 ITLE=Krautgarten - Gronsdorf:geo:48.122531,11.70383
END:VEVENT
BEGIN:VTIMEZONE
TZID:Europe/Berlin
X-LIC-LOCATION:Europe/Berlin
BEGIN:DAYLIGHT
DTSTART:20270328T030000
TZOFFSETFROM:+0100
TZOFFSETTO:+0200
TZNAME:CEST
END:DAYLIGHT
BEGIN:STANDARD
DTSTART:20271031T020000
TZOFFSETFROM:+0200
TZOFFSETTO:+0100
TZNAME:CET
END:STANDARD
END:VTIMEZONE
END:VCALENDAR