
BEGIN:VCALENDAR
VERSION:2.0
PRODID:-//wp-events-plugin.com//6.6.3//EN
TZID:Europe/Berlin
X-WR-TIMEZONE:Europe/Berlin
BEGIN:VEVENT
UID:0-29@veranstaltungen.muenchen.de
DTSTART;TZID=Europe/Berlin;VALUE=DATE:20270501
DTEND;TZID=Europe/Berlin;VALUE=DATE:20271102
DTSTAMP:20260319T151538Z
URL:https://veranstaltungen.muenchen.de/kr/veranstaltungen/krautgarten-ber
 g-am-laim/
SUMMARY:Krautgarten - Berg am Laim 2027
DESCRIPTION:Hier können Sie verbindlich eine Krautgartenparzelle für den 
 Standort Berg am Laim auf Grundlage der derzeit gültigen Vertragsbedingun
 gen für die angegebene Saison bestellen. Der Vertrag kommt mit dem Beglei
 chen der Rechnung verbindlich zustande.\n&nbsp\;\nHinweis zur Buchung am S
 tandort Berg am Laim:\n&nbsp\;\nFür Bestandskund*innen ist die Buchung e
 iner Krautgartenparzelle in Berg am Laim direkt möglich.\n&nbsp\;\nFür N
 eukund*innen  ist die Buchung einer Krautgartenparzelle nur unter Angabe 
 eines Alternativstandortes möglich\, da der Krautgartenstandort Berg am L
 aim derzeit vollständig durch Bestandskunden belegt ist. Neukund*innen er
 halten in jedem Fall eine Parzelle an Ihrem ausgewählten Alternativstando
 rt.\nSollte am Standort Berg am Laim eine Parzelle frei werden\, informier
 en wir vorgemerkte Neukund*innen bis spätestens 10.12. diesen Jahres. Die
  Vergabe erfolgt in der Reihenfolge des Eingangs der Anmeldungen.\n&nbsp\;
 \nSollten Sie an einem anderen Standort interessiert sein\, dann werfen Si
 e gerne einen Blick auf unsere Krautgartenübersicht.
CATEGORIES:Stadtgüter München
LOCATION:Krautgarten - Berg am Laim\, St. - Michael - Straße\, München\, 
 Bayern\, 81671\, Deutschland
GEO:48.124153;11.633043
X-APPLE-STRUCTURED-LOCATION;VALUE=URI;X-ADDRESS=St. - Michael - Straße\, M
 ünchen\, Bayern\, 81671\, Deutschland;X-APPLE-RADIUS=100;X-TITLE=Krautgar
 ten - Berg am Laim:geo:48.124153,11.633043
END:VEVENT
BEGIN:VTIMEZONE
TZID:Europe/Berlin
X-LIC-LOCATION:Europe/Berlin
BEGIN:DAYLIGHT
DTSTART:20270328T030000
TZOFFSETFROM:+0100
TZOFFSETTO:+0200
TZNAME:CEST
END:DAYLIGHT
BEGIN:STANDARD
DTSTART:20271031T020000
TZOFFSETFROM:+0200
TZOFFSETTO:+0100
TZNAME:CET
END:STANDARD
END:VTIMEZONE
END:VCALENDAR