
BEGIN:VCALENDAR
VERSION:2.0
PRODID:-//wp-events-plugin.com//6.6.3//EN
TZID:Europe/Berlin
X-WR-TIMEZONE:Europe/Berlin
BEGIN:VEVENT
UID:0-44@veranstaltungen.muenchen.de
DTSTART;TZID=Europe/Berlin:20260506T090000
DTEND;TZID=Europe/Berlin:20260506T170000
DTSTAMP:20260211T090427Z
URL:https://veranstaltungen.muenchen.de/kgl/veranstaltungen/offen-fuer-all
 e-fortbildung-lgbtiq-basic/
SUMMARY:"Offen für ALLE" - Fortbildung LGBTIQ* - Basic
DESCRIPTION:\n\n&nbsp\;\n\nLiebe Fachkräfte der offenen Kinder- und Jugend
 arbeit\,\n\n&nbsp\;\n\nim Rahmen der Zertifizierung zum Qualitätslabels "
 Offen für ALLE" für die offene Jugendarbeit ist eine Fortbildung notwend
 ig.\n\nInformationen zum Qualitätskonzept "Offen für ALLE" finden Sie au
 f der Internetseite der Koordinierungsstelle zur Gleichstellung von LGBTIQ
 * und dem Aktionsbündnis „Wir sind die Zukunft“  einem Zusammenschlu
 ss von Kreisjugendring München-Stadt\, Münchner Trichter und Fachforum F
 reizeitstätten.\n\n&nbsp\;\n\nDie Fortbildung richtet sich an Fachkräfte
  der Kinder- und Jugendarbeit\, die diese Grundlagenschulung  noch nicht 
 besucht haben (bitte im Rahmen einer Rezertifizierung darauf achten!) und 
 sich erstmalig intensiver mit den Themen der sexuellen und geschlechtliche
 n Identität im Arbeitsfeld beschäftigen.\n\n&nbsp\;\n\nIn der Fortbildun
 g erfahren Sie etwas über ...\n\n... die Themen "sexuelle Identität" und
  "geschlechtliche Identität".\n... Coming Out - und die Situation von jun
 gen queeren Menschen.\n... zu Diskriminierung und Ausgrenzung von LGBTIQ*.
 \n... die Relevanz von LGBTIQ* in Ihrem Arbeitsumfeld.\n... ihre eigenen "
 Bilder" und "Haltungen" zu LGBTIQ*.\n... Handlungsmöglichkeiten in Ihrer 
 Arbeit mit LGBTIQ*.\n... die Münchner Anlaufstellen für LGBTIQ*.\n\n&nbs
 p\;\n\nBringen Sie gerne Ihre Fragen und Beispiele mit!\n\n&nbsp\;\n\nDie 
 Fortbildung wird durchgeführt von den Fachstellen Fortbildung bei LeTRa u
 nd Sub.\n\n&nbsp\;\n\nDie Fortbildung findet statt am Mittwoch\, den 06. M
 ai 2026 von 9.00 Uhr bis 17 Uhr im LeZ - lesbisch queeres Zentrum\, Mülle
 rstraße 26. \nDas LeZ ist barrierefrei. Sollen Sie einen besonderen Bedar
 f haben\, dann melden Sie sich bitte im Vorfeld.\nDie Teilnahme an der For
 tbildung erfolgt kostenfrei.\nBitte melden Sie sich bis zum 30. April 2026
  an.
CATEGORIES:"Offen für ALLE"
LOCATION:LeZ - lesbisch queeres Zentrum\, Müllerstraße 26\, München\, 80
 639\, Deutschland
GEO:48.131591;11.571676
X-APPLE-STRUCTURED-LOCATION;VALUE=URI;X-ADDRESS=Müllerstraße 26\, Münche
 n\, 80639\, Deutschland;X-APPLE-RADIUS=100;X-TITLE=LeZ - lesbisch queeres 
 Zentrum:geo:48.131591,11.571676
END:VEVENT
BEGIN:VTIMEZONE
TZID:Europe/Berlin
X-LIC-LOCATION:Europe/Berlin
BEGIN:DAYLIGHT
DTSTART:20260329T030000
TZOFFSETFROM:+0100
TZOFFSETTO:+0200
TZNAME:CEST
END:DAYLIGHT
END:VTIMEZONE
END:VCALENDAR