
BEGIN:VCALENDAR
VERSION:2.0
PRODID:-//wp-events-plugin.com//6.6.3//EN
TZID:Europe/Berlin
X-WR-TIMEZONE:Europe/Berlin
BEGIN:VEVENT
UID:0-18@veranstaltungen.muenchen.de
DTSTART;TZID=Europe/Berlin:20251010T100000
DTEND;TZID=Europe/Berlin:20251010T190000
DTSTAMP:20251008T140653Z
URL:https://veranstaltungen.muenchen.de/gst/veranstaltungen/feministisches
 -rathaus/
SUMMARY:Feministisches Rathaus für Frauen und alle Geschlechter - 4. Münc
 hner Frauen*konferenz
DESCRIPTION:Am 1. Oktober 1985 wurde die Gleichstellungsstelle für Frauen 
 im Münchner Rathaus eingerichtet und startete ihre erfolgreiche Arbeit. A
 nlässlich ihres 40-jährigen Jubiläums lädt die Gleichstellungsstelle S
 tadtgesellschaft\, Politik und Aktivist*innen in ein „Feministisches Rat
 haus“ ein\, um gemeinsam zu feiern und feministische Zukunftsperspektive
 n für München zu entwickeln.\n\n&nbsp\;\n\nFeiern Sie mit uns!\n\n&nbsp\
 ;\nFeministisches Rathaus für Frauen und alle Geschlechter:\n4. Münchner
  Frauen*konferenz\nim Alten und Neuen Rathaus\nmit feministischen und quee
 r-feministischen Foren\, Lesungen\, Performances\, Ausstellungen\, Infost
 änden\, Filmen und Gesprächsrunden\n\nEine Übersicht über das Veransta
 ltungsprogramm finden Sie auf der Internetseite der Gleichstellungsstelle 
 für Frauen.\n\n&nbsp\;\n\nDie Teilnahme ist kostenfrei.\n\n&nbsp\;\n\n&nb
 sp\;\n\nHinweise zur Veranstaltung:\n\n 	Eine Anmeldung zur Veranstaltung 
 ist notwendig. Bitte nutzen sie nachfolgendes Anmeldeformular. Die E-Mail-
 Buchungsbestätigung dient als Einlasskarte.\n 	Kinder bis 14 Jahre dürfe
 n an den Veranstaltungen tagsüber nur in Begleitung einer erziehungsberec
 htigten oder einer erziehungsbeauftragten Person oder bei alleiniger Teiln
 ahme mit deren schriftlicher Einverständniserklärung teilnehmen.\n\n&nbs
 p\;\n\nInformationen zur Barrierefreiheit:\n\n\n 	Das Alte und Neue Rathau
 s sind grundsätzlich rollstuhlgerecht erreichbar. In allen Räumen sind P
 lätze für Rollstuhlfahrer*innen vorgesehen.\n 	Für die Teilnahme am Pro
 gramm stehen mehrere Gebärdensprachdolmetscher*innen zur Verfügung.\n 	W
 eitere Informationen zu Awareness und Inklusion beim "Feministischen Ratha
 us" finden Sie im Programmheft (ab circa Mitte August auf der Internetseit
 e der Gleichstellungsstelle für Frauen).\n\n&nbsp\;\n\nHinweis zu Foto- u
 nd Filmaufnahmen:\n\nWährend der Veranstaltungen werden Foto- und Filmauf
 nahmen getätigt. Die Aufnahmen finden im Rahmen unserer Presse- und Öffe
 ntlichkeitsarbeit Verwendung. Wenn Sie nicht fotografiert / gefilmt werden
  möchten\, können Sie sich am Welcome-Desk einen Sticker "Bitte nicht fo
 tografieren" holen und die anwesende Fotografin ansprechen\, damit Ihr Wun
 sch berücksichtigt werden kann. Außerdem wird in den Veranstaltungsräum
 en jeweils im hinteren linken Bereich nicht fotografiert/gefilmt.
LOCATION:Rathaus München\, Marienplatz 8\, München\, Bayern\, 80331\, Deu
 tschland
GEO:48.137788;11.575344
X-APPLE-STRUCTURED-LOCATION;VALUE=URI;X-ADDRESS=Marienplatz 8\, München\, 
 Bayern\, 80331\, Deutschland;X-APPLE-RADIUS=100;X-TITLE=Rathaus München:g
 eo:48.137788,11.575344
END:VEVENT
BEGIN:VTIMEZONE
TZID:Europe/Berlin
X-LIC-LOCATION:Europe/Berlin
BEGIN:DAYLIGHT
DTSTART:20250330T030000
TZOFFSETFROM:+0100
TZOFFSETTO:+0200
TZNAME:CEST
END:DAYLIGHT
END:VTIMEZONE
END:VCALENDAR