
BEGIN:VCALENDAR
VERSION:2.0
PRODID:-//wp-events-plugin.com//6.6.3//EN
TZID:Europe/Berlin
X-WR-TIMEZONE:Europe/Berlin
BEGIN:VEVENT
UID:0-21@veranstaltungen.muenchen.de
DTSTART;TZID=Europe/Berlin:20251010T190000
DTEND;TZID=Europe/Berlin:20251010T220000
DTSTAMP:20251008T140856Z
URL:https://veranstaltungen.muenchen.de/gst/veranstaltungen/feministisches
 -rathaus-fest/
SUMMARY:Feministisches Rathaus für Frauen und alle Geschlechter - Ausklang
  mit Musik und Tanz
DESCRIPTION:Im Rahmen unseres Feministischen Rathauses für Frauen und alle
  Geschlechter laden wir ab 19 Uhr alle herzlich ein\, bei Musik und Tanz e
 inen inspirierenden Tag voller Workshops\, Diskussionen\, Ausstellungen un
 d wertvollem Austausch in entspannter Atmosphäre gemeinsam ausklingen zu 
 lassen.\nLassen Sie uns im Großen Sitzungssaal auf die gemeinsamen Erfolg
 e anstoßen!\nDJ Kim_Twiddle sorgt mit tanzbaren Beats für Stimmung und S
 ie können sich an der Bar im Ausschusszimmer mit erfrischenden Getränken
  versorgen.\n&nbsp\;\n\nHinweise zur Veranstaltung:\n\n 	Eine Anmeldung zu
 r Veranstaltung ist notwendig. Bitte nutzen sie nachfolgendes Anmeldeformu
 lar. Die E-Mail-Buchungsbestätigung dient als Einlasskarte.\n 	Kinder und
  Jugendliche unter 16 Jahren dürfen an der Abendveranstaltung mit Musik u
 nd Tanz nur in Begleitung einer erziehungsberechtigten oder einer erziehun
 gsbeauftragten Person oder bei alleiniger Teilnahme mit deren schriftliche
 r Einverständniserklärung teilnehmen. Eine Einverständniserklärung kan
 n über gst@muenchen.de angefordert werden.\n\n&nbsp\;\n\nInformationen zu
 r Barrierefreiheit:\n\n 	Das Neue Rathaus ist grundsätzlich rollstuhlgere
 cht erreichbar.\n 	Weitere Informationen zu Awareness und Inklusion beim 
 “Feministischen Rathaus” finden Sie im Programmheft (ab ca. Mitte Augu
 st der Internetseite der Gleichstellungsstelle für Frauen).\n\n&nbsp\;\n\
 nHinweis zu Foto- und Filmaufnahmen:\nDas Feministische Rathaus ist eine 
 öffentliche Veranstaltung. Es wird voraussichtlich viel fotografiert und 
 gefilmt werden. Nicht alle Menschen möchten das. Deshalb haben wir in all
 en Veranstaltungsräumen einen Bereich markiert (meist im hinteren linken 
 Bereich)\, in dem nicht fotografiert und gefilmt wird. Ebenso geben wir am
  Einlass Sticker („Bitte nicht fotografieren“) aus. Wir bitten alle Ve
 ranstaltungsteilnehmer*innen\, auch selbst darauf zu achten\, keine Mensch
 en zu fotografieren oder zu filmen\, die dies nicht möchten.\n\n&nbsp\;
LOCATION:Neues Rathaus\, Marienplatz 8\, 80331 München\, Deutschland
GEO:48.137327;11.576052000000004
X-APPLE-STRUCTURED-LOCATION;VALUE=URI;X-ADDRESS=Marienplatz 8\, 80331 Münc
 hen\, Deutschland;X-APPLE-RADIUS=100;X-TITLE=Neues Rathaus:geo:48.137327,1
 1.576052000000004
END:VEVENT
BEGIN:VTIMEZONE
TZID:Europe/Berlin
X-LIC-LOCATION:Europe/Berlin
BEGIN:DAYLIGHT
DTSTART:20250330T030000
TZOFFSETFROM:+0100
TZOFFSETTO:+0200
TZNAME:CEST
END:DAYLIGHT
END:VTIMEZONE
END:VCALENDAR