
BEGIN:VCALENDAR
VERSION:2.0
PRODID:-//wp-events-plugin.com//6.6.3//EN
TZID:Europe/Berlin
X-WR-TIMEZONE:Europe/Berlin
BEGIN:VEVENT
UID:0-360@veranstaltungen.muenchen.de
DTSTART;TZID=Europe/Berlin:20240711T150000
DTEND;TZID=Europe/Berlin:20240711T170000
DTSTAMP:20240429T105400Z
URL:https://veranstaltungen.muenchen.de/gsr/veranstaltungen/runder-tisch-p
 flege_072024/
SUMMARY:Runder Tisch Pflege für Hygienebeauftragte stationärer Pflegeeinr
 ichtungen im Stadtgebiet München
DESCRIPTION:
LOCATION:Gesundheitsreferat\, Raum 1009a\, Bayerstraße 28a\, München\, 80
 335\, Deutschland
GEO:48.139409;11.552618
X-APPLE-STRUCTURED-LOCATION;VALUE=URI;X-ADDRESS=Bayerstraße 28a\, München
 \, 80335\, Deutschland;X-APPLE-RADIUS=100;X-TITLE=Gesundheitsreferat\, Rau
 m 1009a:geo:48.139409,11.552618
END:VEVENT
BEGIN:VTIMEZONE
TZID:Europe/Berlin
X-LIC-LOCATION:Europe/Berlin
BEGIN:DAYLIGHT
DTSTART:20240331T030000
TZOFFSETFROM:+0100
TZOFFSETTO:+0200
TZNAME:CEST
END:DAYLIGHT
END:VTIMEZONE
END:VCALENDAR