
BEGIN:VCALENDAR
VERSION:2.0
PRODID:-//wp-events-plugin.com//6.6.3//EN
TZID:Europe/Berlin
X-WR-TIMEZONE:Europe/Berlin
BEGIN:VEVENT
UID:0-333@veranstaltungen.muenchen.de
DTSTART;TZID=Europe/Berlin:20220503T180000
DTEND;TZID=Europe/Berlin:20220503T193000
DTSTAMP:20220503T063950Z
URL:https://veranstaltungen.muenchen.de/gsr/veranstaltungen/hpv_palliativv
 ersorgung_altenhilfe/
SUMMARY:Palliative Versorgung in der stationären Altenhilfe
DESCRIPTION:
LOCATION:Gemeindesaal St. Bonifaz\, Karlstr. 34\, München\, Deutschland
GEO:48.144064;11.564215
X-APPLE-STRUCTURED-LOCATION;VALUE=URI;X-ADDRESS=Karlstr. 34\, München\, De
 utschland;X-APPLE-RADIUS=100;X-TITLE=Gemeindesaal St. Bonifaz:geo:48.14406
 4,11.564215
END:VEVENT
BEGIN:VTIMEZONE
TZID:Europe/Berlin
X-LIC-LOCATION:Europe/Berlin
BEGIN:DAYLIGHT
DTSTART:20220327T030000
TZOFFSETFROM:+0100
TZOFFSETTO:+0200
TZNAME:CEST
END:DAYLIGHT
END:VTIMEZONE
END:VCALENDAR