
BEGIN:VCALENDAR
VERSION:2.0
PRODID:-//wp-events-plugin.com//6.6.3//EN
TZID:Europe/Berlin
X-WR-TIMEZONE:Europe/Berlin
BEGIN:VEVENT
UID:0-375@veranstaltungen.muenchen.de
DTSTART;TZID=Europe/Berlin:20241009T093000
DTEND;TZID=Europe/Berlin:20241009T143000
DTSTAMP:20240909T115303Z
URL:https://veranstaltungen.muenchen.de/gsr/veranstaltungen/gesundheitskon
 ferenz-2024-online/
SUMMARY:Gesundheitskonferenz 2024 (online)
DESCRIPTION:Thema der digitalen Gesundheitskonferenz: "Die Gesundheit von K
 indern und Jugendlichen stärken"\n\n&nbsp\;\n\nEs werden nur die Tickets 
 angezeigt\, für die es noch freie Plätze gibt. Weitere Informationen zum
  Programm und den Workshops finden Sie auf der Homepage des Gesundheitsbei
 rats.\n\n&nbsp\;\n\n&nbsp\;
END:VEVENT
BEGIN:VTIMEZONE
TZID:Europe/Berlin
X-LIC-LOCATION:Europe/Berlin
BEGIN:DAYLIGHT
DTSTART:20240331T030000
TZOFFSETFROM:+0100
TZOFFSETTO:+0200
TZNAME:CEST
END:DAYLIGHT
END:VTIMEZONE
END:VCALENDAR