
BEGIN:VCALENDAR
VERSION:2.0
PRODID:-//wp-events-plugin.com//6.6.3//EN
TZID:Europe/Berlin
X-WR-TIMEZONE:Europe/Berlin
BEGIN:VEVENT
UID:0-347@veranstaltungen.muenchen.de
DTSTART;TZID=Europe/Berlin:20231012T093000
DTEND;TZID=Europe/Berlin:20231012T153000
DTSTAMP:20231010T082204Z
URL:https://veranstaltungen.muenchen.de/gsr/veranstaltungen/gesundheitskon
 ferenz-2023_vorort/
SUMMARY:Gesundheitskonferenz 2023 (vor Ort)
DESCRIPTION:"Gesundheit und Armut - gesundheitliche Chancen(un)gleichheit"\
 n\n&nbsp\;\n\n&nbsp\;\n\nProgramm \n\n&nbsp\;\n\nBitte melden Sie sich fü
 r ein Forum an. Es werden nur die Foren angezeigt\, für die es noch freie
  Plätze gibt.\n\n&nbsp\;\n\n Die Veranstaltung wird in Deutsche Gebärden
 sprache übersetzt.\n\n&nbsp\;\n\n&nbsp\;\n\n&nbsp\;\n\n&nbsp\;\n\n&nbsp\;
 \n\n&nbsp\;\n\n&nbsp\;
LOCATION:Alter Rathaussaal\, Marienplatz 15\, München\, Bayern\, 80331\, D
 eutschland
GEO:48.137384;11.576073
X-APPLE-STRUCTURED-LOCATION;VALUE=URI;X-ADDRESS=Marienplatz 15\, München\,
  Bayern\, 80331\, Deutschland;X-APPLE-RADIUS=100;X-TITLE=Alter Rathaussaal
 :geo:48.137384,11.576073
END:VEVENT
BEGIN:VTIMEZONE
TZID:Europe/Berlin
X-LIC-LOCATION:Europe/Berlin
BEGIN:DAYLIGHT
DTSTART:20230326T030000
TZOFFSETFROM:+0100
TZOFFSETTO:+0200
TZNAME:CEST
END:DAYLIGHT
END:VTIMEZONE
END:VCALENDAR