
BEGIN:VCALENDAR
VERSION:2.0
PRODID:-//wp-events-plugin.com//6.6.3//EN
TZID:Europe/Berlin
X-WR-TIMEZONE:Europe/Berlin
BEGIN:VEVENT
UID:0-5539@veranstaltungen.muenchen.de
DTSTART;TZID=Europe/Berlin:20250414T110000
DTEND;TZID=Europe/Berlin:20250417T160000
DTSTAMP:20241011T074835Z
URL:https://veranstaltungen.muenchen.de/ferienangebote-familienpass/verans
 taltungen/netcompss-computerfuehrerschein-9-bis-12-jahre-4/
SUMMARY:Netcomp@ss Computerführerschein (9 bis 12 Jahre)
DESCRIPTION:Beim Net-comp@ss Computerführerschein für Kinder vermitteln w
 ir auf spielerische Art und Weise\, wie ein PC funktioniert\, wie das Inne
 nleben des PCs ausschaut\, Internet\, Social Media\, Textverarbeitung\, Se
 lbst- und Datenschutz\, Rechtliche Aspekte und vieles mehr.\n\n\n\nAlter\n
 9 bis 12 Jahre\, maximal 14 Teilnehmende\n\n\n\nKosten\n10 Euro (statt 15 
 Euro)\n\n\n\nWichtige Hinweise\nJedes Kind arbeitet an einem eigenen PC\, 
 bitte ausreichend Brotzeit und Getränke mitbringen\n\n\n\nWo\nCafé Netzw
 erk\, medienpädagogische Facheinrichtung des KJR-Mü-Stadt\, Schertlinstr
 aße 4\, 81379 München\, U3 Machtlfingestraße\n\n\n\nAnmeldung\nper E-Ma
 il an team@cafe-netzwerk.de oder telefonisch unter 089 54832700
CATEGORIES:Ferienpassangebot
LOCATION:Cafe Netzwerk\, Schertlinstraße 4\,\, München\, Bayern\, 81379\,
  Deutschland
GEO:48.0957536;11.5181747
X-APPLE-STRUCTURED-LOCATION;VALUE=URI;X-ADDRESS=Schertlinstraße 4\,\, Mün
 chen\, Bayern\, 81379\, Deutschland;X-APPLE-RADIUS=100;X-TITLE=Cafe Netzwe
 rk:geo:48.0957536,11.5181747
END:VEVENT
BEGIN:VTIMEZONE
TZID:Europe/Berlin
X-LIC-LOCATION:Europe/Berlin
BEGIN:DAYLIGHT
DTSTART:20250330T030000
TZOFFSETFROM:+0100
TZOFFSETTO:+0200
TZNAME:CEST
END:DAYLIGHT
END:VTIMEZONE
END:VCALENDAR