
BEGIN:VCALENDAR
VERSION:2.0
PRODID:-//wp-events-plugin.com//6.6.3//EN
TZID:Europe/Berlin
X-WR-TIMEZONE:Europe/Berlin
BEGIN:VEVENT
UID:0-6092@veranstaltungen.muenchen.de
DTSTART;TZID=Europe/Berlin:20260218T110000
DTEND;TZID=Europe/Berlin:20260220T160000
DTSTAMP:20250916T101219Z
URL:https://veranstaltungen.muenchen.de/ferienangebote-familienpass/verans
 taltungen/netcompss-computerfuehrerschein-9-bis-12-jahre-15/
SUMMARY:netcomp@ss Computerführerschein (9 bis 12 Jahre)
DESCRIPTION:Beim netcomp@ss Computerführerschein für Kinder vermitteln wi
 r Dir auf spielerische Art und Weise\, wie ein PC funktioniert und wie das
  Innenleben des Computers aussieht.\n\nDu lernst alles über das Internet\
 , Social Media\, Textverarbeitung\, Selbst- und Datenschutz\, rechtliche A
 spekte und vieles mehr!\n\n\n\nAlter\n9 bis 12 Jahre\, maximal 14 Teilnehm
 ende\n\n\n\nKosten\n10 Euro (statt 15 Euro)\n\n\n\nWichtige Hinweise\nJede
 s Kind arbeitet an einem eigenen PC\, bitte ausreichend Brotzeit und Getr
 änke mitbringen\n\n\n\nWo\nCafé Netzwerk (Kreisjugendring München-Stadt
 )\, Karlstraße 33\, 80333 München\n\n\n\nAnmeldung\nper E-Mail an team@c
 afe-netzwerk.de oder telefonisch unter 089 54 83 27 00
ATTACH;FMTTYPE=image/jpeg:https://veranstaltungen.muenchen.de/ferienangebo
 te-familienpass/wp-content/uploads/sites/6/Technik-Medien-netcomp@ss-Compu
 terfuehrerschein_2-scaled.jpg
CATEGORIES:Ferienpassangebot,Technik &amp; Medien
LOCATION:Cafe Netzwerk\, Schertlinstraße 4\,\, München\, Bayern\, 81379\,
  Deutschland
GEO:48.0957536;11.5181747
X-APPLE-STRUCTURED-LOCATION;VALUE=URI;X-ADDRESS=Schertlinstraße 4\,\, Mün
 chen\, Bayern\, 81379\, Deutschland;X-APPLE-RADIUS=100;X-TITLE=Cafe Netzwe
 rk:geo:48.0957536,11.5181747
END:VEVENT
BEGIN:VTIMEZONE
TZID:Europe/Berlin
X-LIC-LOCATION:Europe/Berlin
BEGIN:STANDARD
DTSTART:20251026T020000
TZOFFSETFROM:+0200
TZOFFSETTO:+0100
TZNAME:CET
END:STANDARD
END:VTIMEZONE
END:VCALENDAR