
BEGIN:VCALENDAR
VERSION:2.0
PRODID:-//wp-events-plugin.com//6.6.3//EN
TZID:Europe/Berlin
X-WR-TIMEZONE:Europe/Berlin
BEGIN:VEVENT
UID:0-5280@veranstaltungen.muenchen.de
DTSTART;TZID=Europe/Berlin:20240303T133000
DTEND;TZID=Europe/Berlin:20240303T163000
DTSTAMP:20240205T053038Z
URL:https://veranstaltungen.muenchen.de/ferienangebote-familienpass/verans
 taltungen/fledermaeuse-einmal-anders-ab-8-jahre-2/
SUMMARY:Fledermäuse einmal anders (ab 8 Jahre)
DESCRIPTION:Fledermäuse leisten einen wichtigen Beitrag in Ökosystemen\, 
 indem sie beispielsweise Pflanzenschädlinge oder Insekten über Kuhweiden
  fressen und Nahrungsnetze im Gleichgewicht halten. Dafür muss man wissen
  und verstehen\, welche Gebiete häufig von Fledermäusen genutzt werden. 
 Wie sieht das in der Wissenschaft aus? Wie orientiert sich die Fledermaus?
  Und welche Arten gibt es in Bayern? Durch spielerisch\, forschendes Entde
 cken lernen wir die Welt der Fledermäuse ganz anders kennen.\n\n\n\nAlter
 \nAb 8 Jahre\n\n\n\nTeilnehmerzahl\nMaximal 20 Personen\n\n\n\nKosten\nPro
  Person 3 Euro\, Museumseintritt für Erwachsene 3\,50 Euro\n\n\n\nWichtig
 e Hinweise\nMindestens eine erwachsene Begleitperson\n\n\n\nTreffpunkt\nIn
  der Eingangshalle des Museums Mensch und Natur\, Schloß Nymphenburg (im 
 Schloßrondell)\, 80638 München\n\n\n\nIn Kooperation mit\nMuseum Mensch 
 und Natur\n\n&nbsp\;
CATEGORIES:Familienpassangebot
LOCATION:Museum Mensch und Natur\, Schloss Nymphenburg\, München\, 80638\,
  Deutschland
GEO:48.1582675;11.503314300000056
X-APPLE-STRUCTURED-LOCATION;VALUE=URI;X-ADDRESS=Schloss Nymphenburg\, Münc
 hen\, 80638\, Deutschland;X-APPLE-RADIUS=100;X-TITLE=Museum Mensch und Nat
 ur:geo:48.1582675,11.503314300000056
END:VEVENT
BEGIN:VTIMEZONE
TZID:Europe/Berlin
X-LIC-LOCATION:Europe/Berlin
BEGIN:STANDARD
DTSTART:20231029T020000
TZOFFSETFROM:+0200
TZOFFSETTO:+0100
TZNAME:CET
END:STANDARD
END:VTIMEZONE
END:VCALENDAR