
BEGIN:VCALENDAR
VERSION:2.0
PRODID:-//wp-events-plugin.com//6.6.3//EN
TZID:Europe/Berlin
X-WR-TIMEZONE:Europe/Berlin
BEGIN:VEVENT
UID:0-261@veranstaltungen.muenchen.de
DTSTART;TZID=Europe/Berlin:20210210T090000
DTEND;TZID=Europe/Berlin:20210210T120000
DTSTAMP:20210331T143527Z
URL:https://veranstaltungen.muenchen.de/bauzentrum/veranstaltungen/web-sem
 inar-kompakt-waermedaemm-verbundsysteme/
SUMMARY:Web-Seminar Kompakt: Wärmedämm-Verbundsysteme (WDVS)
DESCRIPTION:Web-Seminar Kompakt:\nWärmedämm-Verbundsysteme (WDVS)\nDauerh
 aftigkeit - Aufdopplung - Befall durch Algen und / oder Schwärzepilze\n\n
 &nbsp\;\n\nAnerkannte Fortbildungspunkte Energieeffizienz-Expertenliste:\n
 4 Unterrichtseinheiten Wohngebäude (KfW)\n4 Unterrichtseinheiten Nichtwoh
 ngebäude (KfW)\n4 Unterrichtseinheiten Energieberatung im Mittelstand (BA
 FA)\n\n&nbsp\;\n\nSchriftliche Anmeldung erforderlich\nEntweder direkt onl
 ine (siehe ganz unten auf dieser Seite)\noder mit dem Anmeldeformular (pdf
 ) per E-Mail oder Fax.\n\nBestellschein Abo-Teilnahmekarten (pdf)\n\n&nbsp
 \;\n\nAlle Online-Veranstaltungen vom Bauzentrum München werden mit Webex
  Events durchgeführt:\nhttps://help.webex.com/de-de/kwmj5eb/Join-a-Cisco-
 Webex-Event\nAngemeldete Personen erhalten rechtzeitig vor der Veranstaltu
 ng den Einladungs-Link per E-Mail.\n\n&nbsp\;\n\nReferent\n\nProf. Dr.-Ing
 . Martin Krus\n1995 Promotion an Universität Stuttgart. Seit 2/95 Gruppen
 leiter „Feuchtemanagement“ am Fraunhofer Institut für Bauphysik. Seit
  3/2015 Honorarprofessor der Universität Stuttgart. Die Hauptarbeitsgebie
 te sind alle im Baubereich vorkommende Themen mit Bezug zu Feuchte. Dies b
 etrifft sowohl Transportmechanismen im Material als auch Schimmelpilz-Prob
 lematik sowie Algenwachstum.\n\n&nbsp\;\n\nThema\n\nWärmedämm-Verbundsys
 teme werden seit über 50 Jahren am Markt angeboten. Das Seminar gibt eine
 n Überblick über die Dauerhaftigkeit dieses Dämmsystems und vermittelt 
 das erforderliche Grundwissen für die Überarbeitung der in die Jahre gek
 ommenen WDVS durch sogenannte Aufdopplung auf heute übliche Dämmstandard
 s. Ein grundsätzliches Problem der WDVS besteht in dem gegenüber anderen
  Konstruktionen erhöhten Risiko eines mikrobiellen Befalls durch Algen un
 d / oder Schwärzepilze. Es werden die Ursachen dargelegt sowie bauphysika
 lische Ansätze zur Reduktion dieses Bewuchsrisikos aufgezeigt und bewerte
 t und interessante Praxisbeispiele vorgestellt. Abschließend wird der Sta
 nd des Wissens zur Dauerhaftigkeit und Wirkung von Bioziden zur Bewuchsver
 meidung vermittelt.\n\n&nbsp\;\n\nInhalt\n\n- Dauerhaftigkeit und Langzeit
 bewährung von Fassaden mit WDVS\n- Aufdopplung: Hygrothermische Berechnun
 g der Einsatzgrenzen unterschiedlicher Systeme\n- Mikroorganismen an Fassa
 den – Ursachen und bauphysikalische Lösungsansätze\n- Erkenntnisse aus
  biologischen\, rechnerischen sowie Freiland-Untersuchungen\n- Vermeidungs
 strategien\n- Praxisbeispiele „Fugenprobleme“\n- Dauerhaftigkeit und W
 irkung von Bioziden in Außenbeschichtungen\n\n&nbsp\;\n\nZielgruppe\n\nAr
 chitekt*innen\, Fachplaner*innen\, Bauingenieur*innen\, Verantwortliche in
  der Gebäude- und Immobilienwirtschaft\, Eigentümer*innen und Bauherr*in
 nen\n\n&nbsp\;\n\nTeilnahmebedingungen für Seminare\n\nFalls ein/eine gem
 eldete/r Teilnehmer*in verhindert sein sollte\, muss die Abmeldung spätes
 tens am dritten Werktag vor der Veranstaltung schriftlich im Bauzentrum M
 ünchen eingegangen sein. Die volle Teilnahmegebühr wird fällig\, wenn d
 ie schriftliche Abmeldung zu spät eingeht oder der / die gemeldete Teilne
 hmer*in nicht bei der Veranstaltung erscheint. Bei Ausfall der Veranstaltu
 ng werden keine Gebühren erhoben. Darüber hinaus besteht kein Ersatzansp
 ruch. Die Bezahlung erfolgt ausschließlich per Überweisung nach Erhalt e
 iner Rechnung. Die Rechnungsstellung erfolgt nach der Veranstaltung.
CATEGORIES:Seminare
END:VEVENT
BEGIN:VTIMEZONE
TZID:Europe/Berlin
X-LIC-LOCATION:Europe/Berlin
BEGIN:STANDARD
DTSTART:20201025T020000
TZOFFSETFROM:+0200
TZOFFSETTO:+0100
TZNAME:CET
END:STANDARD
END:VTIMEZONE
END:VCALENDAR