
BEGIN:VCALENDAR
VERSION:2.0
PRODID:-//wp-events-plugin.com//6.6.3//EN
TZID:Europe/Berlin
X-WR-TIMEZONE:Europe/Berlin
BEGIN:VEVENT
UID:0-458@veranstaltungen.muenchen.de
DTSTART;TZID=Europe/Berlin:20211116T140000
DTEND;TZID=Europe/Berlin:20211116T170000
DTSTAMP:20210920T131717Z
URL:https://veranstaltungen.muenchen.de/bauzentrum/veranstaltungen/web-sem
 inar-kompakt-waermebruecken_2/
SUMMARY:Web-Seminar Kompakt: Workshop Wärmebrücken II
DESCRIPTION:Web-Seminar Kompakt vom Bauzentrum München:\nWorkshop Wärmebr
 ücken II\n- Detaillierte Berechnung über psi-Werte\n- Wirtschaftlichere 
 Realisierung von Effizienzhäusern\n\n&nbsp\;\n\nAnerkannte Fortbildungspu
 nkte Energieeffizienz-Expertenliste:\n\n4 Unterrichtseinheiten Wohngebäud
 e\n4 Unterrichtseinheiten Nichtwohngebäude\n4 Unterrichtseinheiten Energi
 eaudit DIN 16247\n\n&nbsp\;\n\nSchriftliche Anmeldung erforderlich\nEntwed
 er direkt online (siehe ganz unten auf dieser Seite)\noder mit dem Anmelde
 formular (pdf) per E-Mail oder Fax.\n\nBestellschein Abo-Teilnahmekarten (
 pdf)\n\n&nbsp\;\n\nDiese Veranstaltung findet statt in Kooperation mit der
  Bayerischen Architektenkammer.\n\n&nbsp\;\n\nAlle Online-Veranstaltungen 
 vom Bauzentrum München werden mit Webex Events durchgeführt.\nAngemeldet
 e Personen erhalten rechtzeitig vor der Veranstaltung den Teilnahme-Link p
 er E-Mail.\n\n&nbsp\;\n\nReferent\n\nJohannes Volland\, Dipl.-Ing. (FH)\nS
 elbständiger Bauingenieur\, Sachverständiger nach ZVEnEV\, Sachverständ
 iger für hygrothermische Bauphysik\, zertifizierter Energieberater nach H
 WK. Schwerpunkte Bauphysik\, Hochbauplanung und Energieberatung\, umfangre
 iche Seminartätigkeit an diversen Fortbildungseinrichtungen und Mitglied 
 im Energieberaterverein BAYERNenergie e.V.\n\n&nbsp\;\n\nThema\n\nWenn bei
  hoch wärmegedämmten Gebäuden die Wärmebrücken nicht beachtet werden\
 , kommt es zu unnötigen Wärmeverlusten und Tauwasserschäden. Nur fundie
 rte Kenntnisse und ein rechnerischer Nachweis von Wärmebrücken gewährle
 isten eine schadensfreie Gebäudehülle. Eine Alternative zum Gleichwertig
 keitsnachweis ist der detaillierte Nachweis der Wärmeverluste über die W
 ärmebrücken durch Berechnung der psi-Werte. Werden die Wärmebrücken an
  einem Gebäude sauber ausgeführt\, kann in der Regel mit einem kleineren
  Wärmebrückenfaktor von UWB = 0\,05 bzw. 0\,03 W/(m²K) gerechnet werden
 \, womit der Effizienzhaus 55 bzw. 40 Standard wirtschaftlicher umgesetzt 
 werden kann.\n\n&nbsp\;\n\nInhalt\n\n- Einfluss der Wärmebrücken auf die
  Energiebilanz\n- Erläuterung des psi-Werts\n- Randbedingungen für die B
 erechnung des psi-Werts\n- Detailwissen für die Berechnung des psi-Werts 
 bei Fensteranschlüssen und im Erdreich\n- Beispiel Einfamilienhaus: Detai
 llierte Wärmebrückenberechnung\n\n&nbsp\;\n\nZielgruppe\n\nArchitekt*inn
 en\, Planer*innen\, Bauingenieur*innen\, Energieberater*innen\, Sachverst
 ändige\, Handwerker*innen (insbesondere Zimmereien\, Fensterbau- und WDVS
 -Verarbeitungs-Betriebe)\, Bauträger\, Bauunternehmen\, technisch interes
 sierte Verwalter*innen\n\n&nbsp\;\n\nTeilnahmebedingungen für Seminare\n\
 nFalls ein/eine gemeldete/r Teilnehmer*in verhindert sein sollte\, muss di
 e Abmeldung spätestens am dritten Werktag vor der Veranstaltung schriftli
 ch im Bauzentrum München eingegangen sein. Die volle Teilnahmegebühr wir
 d fällig\, wenn die schriftliche Abmeldung zu spät eingeht oder der / di
 e gemeldete Teilnehmer*in nicht bei der Veranstaltung erscheint. Bei Ausfa
 ll der Veranstaltung werden keine Gebühren erhoben. Darüber hinaus beste
 ht kein Ersatzanspruch. Die Bezahlung erfolgt ausschließlich per Überwei
 sung nach Erhalt einer Rechnung. Die Rechnungsstellung erfolgt nach der Ve
 ranstaltung.
CATEGORIES:Seminare
END:VEVENT
BEGIN:VTIMEZONE
TZID:Europe/Berlin
X-LIC-LOCATION:Europe/Berlin
BEGIN:STANDARD
DTSTART:20211031T020000
TZOFFSETFROM:+0200
TZOFFSETTO:+0100
TZNAME:CET
END:STANDARD
END:VTIMEZONE
END:VCALENDAR