
BEGIN:VCALENDAR
VERSION:2.0
PRODID:-//wp-events-plugin.com//6.6.3//EN
TZID:Europe/Berlin
X-WR-TIMEZONE:Europe/Berlin
BEGIN:VEVENT
UID:0-333@veranstaltungen.muenchen.de
DTSTART;TZID=Europe/Berlin:20210511T090000
DTEND;TZID=Europe/Berlin:20210511T113000
DTSTAMP:20210504T131047Z
URL:https://veranstaltungen.muenchen.de/bauzentrum/veranstaltungen/web-sem
 inar-kompakt-tiefgaragen/
SUMMARY:Web-Seminar Kompakt: Tiefgaragen und Weiße Wannen
DESCRIPTION:Web-Seminar Kompakt vom Bauzentrum München:\nTiefgaragen und W
 eiße Wannen\n&nbsp\;\n\nAnerkannte Fortbildungspunkte Energieeffizienz-Ex
 pertenliste:\n\n0 Unterrichtseinheiten Wohngebäude\n0 Unterrichtseinheite
 n Nichtwohngebäude\n0 Unterrichtseinheiten Energieaudit DIN 16247\n\n&nbs
 p\;\n\nDiese Veranstaltung findet statt in Kooperation mit der Bayerischen
  Architektenkammer.\n\n&nbsp\;\n\nSchriftliche Anmeldung erforderlich\nEnt
 weder direkt online (siehe ganz unten auf dieser Seite)\noder mit dem Anme
 ldeformular (pdf) per E-Mail oder Fax.\n\nBestellschein Abo-Teilnahmekarte
 n (pdf)\n\n&nbsp\;\n\nAlle Online-Veranstaltungen vom Bauzentrum München 
 werden mit Webex Events durchgeführt.\nAngemeldete Personen erhalten rech
 tzeitig vor der Veranstaltung den Teilnahme-Link per E-Mail.\n\n&nbsp\;\n\
 nReferent\n\nDr.-Ing. Christian Dialer\, BYIK VDI\nIngenieur- und Sachvers
 tändigenbüro\, Beratender Ingenieur (Bayerische Ingenieurekammer-Bau)\, 
 Sachverständiger für Schäden im Bauwesen\, Lehrbeauftragter an der Hoch
 schule München\n\n&nbsp\;\n\nThema\n\nObwohl die wiederkehrenden Schäden
  an Tiefgaragen (meist in Form der Bauweise „Weiße Wanne“ ausgeführt
 ) seit langem bekannt sind\, treten diese auch in neueren Bauwerken leider
  immer wieder auf. In diesem Seminar werden an Hand von Praxisbeispielen d
 ie wesentlichen Entwurfskriterien aus bautechnischer Sicht diskutiert und 
 erläutert. Dabei wird neben den typischen Korrosionsschäden auch auf Ris
 se\, Fugen\, Entwässerung und die Instandsetzung von Schäden im Stahlbet
 onbau Bezug genommen.\n\n&nbsp\;\n\nInhalt\n\n- Grundsätzliche Entwurfsan
 forderungen an Tiefgaragen\n- Müssen Tiefgaragen entwässert sein?\n- Wel
 che Instandsetzungen sind Standard\, welche eher praxisfremd?\n- Ist jeder
  Riss ein Mangel oder ab wann ist ein Riss ein Riss?\n- Müssen Tiefgarage
 n beschichtet sein?\n- Wie sieht es mit der Entwässerung von Lichtschäch
 ten aus?\n- Welche Methoden der Prüfung der Dichtheit gibt es?\n- Kritisc
 he Beurteilung von Messwerten und Messgeräten\n- Von wem können Mängel 
 verursacht werden?\n\n&nbsp\;\n\nZielgruppe\n\nArchitekt*innen\, Planer*in
 nen\, Bauingenieur*innen\, Energieberater*innen\, Bausachverständige\, Ha
 ndwerker*innen\, Bauträger*innen\, Bauunternehmen\, Hausverwaltungen\, Ve
 rwaltungsbeirät*innen\, Rechtsanwält*innen\, Versicherungen\, Makler*inn
 en\, Immobilienfachwirt*innen und Studierende\n\n&nbsp\;\n\nTeilnahmebedin
 gungen für Seminare\n\nFalls ein/eine gemeldete/r Teilnehmer*in verhinder
 t sein sollte\, muss die Abmeldung spätestens am dritten Werktag vor der 
 Veranstaltung schriftlich im Bauzentrum München eingegangen sein. Die vol
 le Teilnahmegebühr wird fällig\, wenn die schriftliche Abmeldung zu spä
 t eingeht oder der / die gemeldete Teilnehmer*in nicht bei der Veranstaltu
 ng erscheint. Bei Ausfall der Veranstaltung werden keine Gebühren erhoben
 . Darüber hinaus besteht kein Ersatzanspruch. Die Bezahlung erfolgt aussc
 hließlich per Überweisung nach Erhalt einer Rechnung. Die Rechnungsstell
 ung erfolgt nach der Veranstaltung.
CATEGORIES:Seminare
END:VEVENT
BEGIN:VTIMEZONE
TZID:Europe/Berlin
X-LIC-LOCATION:Europe/Berlin
BEGIN:DAYLIGHT
DTSTART:20210328T030000
TZOFFSETFROM:+0100
TZOFFSETTO:+0200
TZNAME:CEST
END:DAYLIGHT
END:VTIMEZONE
END:VCALENDAR