
BEGIN:VCALENDAR
VERSION:2.0
PRODID:-//wp-events-plugin.com//6.6.3//EN
TZID:Europe/Berlin
X-WR-TIMEZONE:Europe/Berlin
BEGIN:VEVENT
UID:0-481@veranstaltungen.muenchen.de
DTSTART;TZID=Europe/Berlin:20211130T100000
DTEND;TZID=Europe/Berlin:20211130T130000
DTSTAMP:20211007T113246Z
URL:https://veranstaltungen.muenchen.de/bauzentrum/veranstaltungen/web-sem
 inar-kompakt-stromspeicher-pv/
SUMMARY:Web-Seminar Kompakt: Stromspeicher für Photovoltaik-Anlagen in Woh
 ngebäuden und Gewerbebetrieben
DESCRIPTION:Web-Seminar Kompakt vom Bauzentrum München:\nStromspeicher fü
 r Photovoltaik-Anlagen in Wohngebäuden und Gewerbebetrieben:\nGrundlagen\
 , Technik und Auslegung\n\n&nbsp\;\n\nAnerkannte Fortbildungspunkte Energi
 eeffizienz-Expertenliste:\n\n4 Unterrichtseinheiten Wohngebäude\n4 Unterr
 ichtseinheiten Nichtwohngebäude\n4 Unterrichtseinheiten Energieaudit DIN 
 16247\n\n&nbsp\;\n\nSchriftliche Anmeldung erforderlich\nEntweder direkt o
 nline (siehe ganz unten auf dieser Seite)\noder mit dem Anmeldeformular (p
 df) per E-Mail oder Fax.\n\nBestellschein Abo-Teilnahmekarten (pdf)\n\n&nb
 sp\;\n\nDiese Veranstaltung findet statt in Kooperation mit GIH Bayern e.
 V. und der Bayerischen Architektenkammer.\n\n&nbsp\;\n\nAlle Online-Verans
 taltungen vom Bauzentrum München werden mit Webex Events durchgeführt.\n
 Angemeldete Personen erhalten rechtzeitig vor der Veranstaltung den Teilna
 hme-Link per E-Mail.\n\n&nbsp\;\n\nDiese Veranstaltung unterstützt Wattbe
 werb München:  muenchen.de/wattbewerb.\n\n&nbsp\;\n\nReferent\n\nDr.-Ing
 . Johannes Weniger\nWissenschaftlicher Mitarbeiter in der Forschungsgruppe
  Solarspeichersysteme an der Hochschule für Technik und Wirtschaft HTW Be
 rlin\, Lehrbeauftragter im Studiengang Regenerative Energien an der HTW Be
 rlin\n\n&nbsp\;\n\nThema\n\nMit einer Photovoltaik-Anlage auf dem Dach und
  einem Batteriespeicher im Haus können sich Privathaushalte und Gewerbebe
 triebe überwiegend selbst mit Strom versorgen. Dabei kann die Speicherung
  des Solarstroms durch sehr unterschiedliche Systemkonzepte realisiert wer
 den. Für einen ökologisch und ökonomisch sinnvollen Einsatz der Batteri
 esysteme ist neben der bedarfsgerechten Batterieauslegung auch eine hohe S
 ystemeffizienz entscheidend.\n\n&nbsp\;\n\nInhalt\n\n- Grundlagen und Unte
 rscheidungsmerkmale von Batteriesystemen\n- Überblick über die Systemtec
 hnik zur Speicherung von Solarstrom\n- Vergleich der unterschiedlichen Sys
 temkonzepte (AC-/DC-Kopplung der Batteriespeicher)\n- Kenngrößen zur Sys
 temauslegung: Eigenverbrauchsanteil /Autarkiegrad richtig interpretieren\n
 - Batterieauslegung in Wohngebäuden: Welchen Einfluss haben Elektrofahrze
 uge und Wärmepumpen auf die erforderliche Speicherkapazität?\n- Batterie
 auslegung in Gewerbebetrieben: Praxisbeispiele\, Lastprofilanalyse und Aus
 legungsempfehlungen\n- Hilfreiche Online-Tools zur Systemauslegung\n\n&nbs
 p\;\n\nZielgruppe\n\nArchitekten*innen\, Bauingenieure*innen\, Fachplaner*
 innen\, Handwerker*innen\, Sachverständige\, Bauträger*innen\, Investor*
 innen\, Unternehmer*innen\, Verwalter*innen\, Beiträt*innen\, Bauherr*inn
 en und Studierende\n\n&nbsp\;\n\nTeilnahmebedingungen für Seminare\n\nFal
 ls ein/eine gemeldete/r Teilnehmer*in verhindert sein sollte\, muss die Ab
 meldung spätestens am dritten Werktag vor der Veranstaltung schriftlich i
 m Bauzentrum München eingegangen sein. Die volle Teilnahmegebühr wird f
 ällig\, wenn die schriftliche Abmeldung zu spät eingeht oder der / die g
 emeldete Teilnehmer*in nicht bei der Veranstaltung erscheint. Bei Ausfall 
 der Veranstaltung werden keine Gebühren erhoben. Darüber hinaus besteht 
 kein Ersatzanspruch. Die Bezahlung erfolgt ausschließlich per Überweisun
 g nach Erhalt einer Rechnung. Die Rechnungsstellung erfolgt nach der Veran
 staltung.
CATEGORIES:Seminare,Veranstaltungen zur Solarenergie
END:VEVENT
BEGIN:VTIMEZONE
TZID:Europe/Berlin
X-LIC-LOCATION:Europe/Berlin
BEGIN:STANDARD
DTSTART:20211031T020000
TZOFFSETFROM:+0200
TZOFFSETTO:+0100
TZNAME:CET
END:STANDARD
END:VTIMEZONE
END:VCALENDAR