
BEGIN:VCALENDAR
VERSION:2.0
PRODID:-//wp-events-plugin.com//6.6.3//EN
TZID:Europe/Berlin
X-WR-TIMEZONE:Europe/Berlin
BEGIN:VEVENT
UID:0-394@veranstaltungen.muenchen.de
DTSTART;TZID=Europe/Berlin:20210623T090000
DTEND;TZID=Europe/Berlin:20210623T120000
DTSTAMP:20210608T093525Z
URL:https://veranstaltungen.muenchen.de/bauzentrum/veranstaltungen/web-sem
 inar-kompakt-sommerlicher-waermeschutz/
SUMMARY:Web-Seminar Kompakt: Sommerlicher Wärmeschutz: Schwerpunkt Fenster
DESCRIPTION:Web-Seminar Kompakt vom Bauzentrum München:\nSommerlicher Wär
 meschutz: Schwerpunkt Fenster\n&nbsp\;\n\nAnerkannte Fortbildungspunkte En
 ergieeffizienz-Expertenliste:\n\n4 Unterrichtseinheiten Wohngebäude\n4 Un
 terrichtseinheiten Nichtwohngebäude\n4 Unterrichtseinheiten Energieaudit 
 DIN 16247\n\n&nbsp\;\n\nDiese Veranstaltung findet statt in Kooperation mi
 t der Bayerischen Architektenkammer.\n\n&nbsp\;\n\nSchriftliche Anmeldung 
 erforderlich\nEntweder direkt online (siehe ganz unten auf dieser Seite)\n
 oder mit dem Anmeldeformular (pdf) per E-Mail oder Fax.\n\nBestellschein A
 bo-Teilnahmekarten (pdf)\n\n&nbsp\;\n\nAlle Online-Veranstaltungen vom Bau
 zentrum München werden mit Webex Events durchgeführt.\nAngemeldete Perso
 nen erhalten rechtzeitig vor der Veranstaltung den Teilnahme-Link per E-Ma
 il.\n\n&nbsp\;\n\nReferent*in\n\n Martin Delker\, Dipl.-Ing. (Univ.) Archi
 tekt\nBauherrenberater\, Passivhausplaner\, Büroinhaber Architekten Limme
 rt + Delker\n\n&nbsp\;\n\nThema\n\nEine ausreichende Tageslichtbeleuchtung
  hat positive Auswirkungen auf das Wohlbefinden der Menschen. Große Fenst
 erflächen bei Neubauten sind nicht nur „en vogue“ – sie helfen auch
  dabei in den Wintermonaten hohe solare Wärmegewinne zu erreichen. Gleich
 zeitig macht uns die zunehmende Häufigkeit heißer Sommertage zu schaffen
  – der sommerliche Wärmeschutz gerät zunehmend in den Fokus von Bauher
 r*innen\, Architekt*innen und Ingenieur*innen. Während die europäische T
 ageslichtnorm DIN EN 17037 Aussagen über die ausreichende Tageslichtverso
 rgung von Innenräumen trifft\, ist auch im seit 1. Nov. 2020 (statt der b
 isherigen EnEV) geltenden GEG die DIN 4108-2 – und somit der Nachweis de
 s sommerlichen Wärmeschutzes – fester Bestandteil.\n\n&nbsp\;\n\nInhalt
 \n\n- Welche Normen sind in diesem Zusammenhang rechtlich verbindlich\, we
 lche haben nur Empfehlungscharakter?\n- Steht die europäische Tageslichtn
 orm DIN EN 17037 dem erforderlichen „sommerlichen Wärmeschutz“ nach G
 EG entgegen?\n- Welche grundsätzlichen Berechnungswerkzeuge stehen zur Ve
 rfügung?\n- Worin liegen die wesentlichen Unterschiede in den Berechnungs
 verfahren?\n\n&nbsp\;\n\nZielgruppe\n\nArchitekt*innen\, Planer*innen\, Ba
 uingenieur*innen\, Energieberater*innen\, Handwerker*innen\, Bausachverst
 ändige\, Bauträger*innen\, Bauunternehmen\, Hausverwaltungen\, Verwaltun
 gsbeirät*innen\, Rechtsanwält*innen\, Versicherungen\, Makler*innen\, Im
 mobilienfachwirt*innen und Studierende\n\n&nbsp\;\n\nTeilnahmebedingungen 
 für Seminare\n\nFalls ein/eine gemeldete/r Teilnehmer*in verhindert sein 
 sollte\, muss die Abmeldung spätestens am dritten Werktag vor der Veranst
 altung schriftlich im Bauzentrum München eingegangen sein. Die volle Teil
 nahmegebühr wird fällig\, wenn die schriftliche Abmeldung zu spät einge
 ht oder der / die gemeldete Teilnehmer*in nicht bei der Veranstaltung ersc
 heint. Bei Ausfall der Veranstaltung werden keine Gebühren erhoben. Darü
 ber hinaus besteht kein Ersatzanspruch. Die Bezahlung erfolgt ausschließl
 ich per Überweisung nach Erhalt einer Rechnung. Die Rechnungsstellung erf
 olgt nach der Veranstaltung.
CATEGORIES:Seminare
END:VEVENT
BEGIN:VTIMEZONE
TZID:Europe/Berlin
X-LIC-LOCATION:Europe/Berlin
BEGIN:DAYLIGHT
DTSTART:20210328T030000
TZOFFSETFROM:+0100
TZOFFSETTO:+0200
TZNAME:CEST
END:DAYLIGHT
END:VTIMEZONE
END:VCALENDAR