
BEGIN:VCALENDAR
VERSION:2.0
PRODID:-//wp-events-plugin.com//6.6.3//EN
TZID:Europe/Berlin
X-WR-TIMEZONE:Europe/Berlin
BEGIN:VEVENT
UID:0-291@veranstaltungen.muenchen.de
DTSTART;TZID=Europe/Berlin:20210224T140000
DTEND;TZID=Europe/Berlin:20210224T163000
DTSTAMP:20210331T143646Z
URL:https://veranstaltungen.muenchen.de/bauzentrum/veranstaltungen/web-sem
 inar-kompakt-solarenergie-geg/
SUMMARY:Web-Seminar Kompakt: Solarenergie nutzen: Photovoltaik und Solarthe
 rmie im Gebäudeenergiegesetz
DESCRIPTION:Web-Seminar Kompakt:\nSolarenergie nutzen: Photovoltaik und Sol
 arthermie im Gebäudeenergiegesetz\n&nbsp\;\n\nAnerkannte Fortbildungspunk
 te Energieeffizienz-Expertenliste:\n3 Unterrichtseinheiten Wohngebäude (K
 fW)\n3 Unterrichtseinheiten Nichtwohngebäude (KfW)\n3 Unterrichtseinheite
 n Energieberatung im Mittelstand (BAFA)\n\n&nbsp\;\n\nSchriftliche Anmeldu
 ng erforderlich\nEntweder direkt online (siehe ganz unten auf dieser Seite
 )\noder mit dem Anmeldeformular (pdf) per E-Mail oder Fax.\n\nBestellschei
 n Abo-Teilnahmekarten (pdf)\n\n&nbsp\;\n\nAlle Online-Veranstaltungen vom 
 Bauzentrum München werden mit Webex Events durchgeführt:\nhttps://help.w
 ebex.com/de-de/kwmj5eb/Join-a-Cisco-Webex-Event\nAngemeldete Personen erha
 lten rechtzeitig vor der Veranstaltung den Einladungs-Link per E-Mail.\n\n
 &nbsp\;\n\nReferent\n\nAxel Horn\, Dipl.-Ing. (FH)\nIngenieurbüro solar e
 nergie information\, Sauerlach\; Programmautor der Simulationssoftware Get
 Solar\, Experte in Theorie und Praxis für solarthermische Anlagen\; Gastd
 ozent an der Technischen Hochschule Rosenheim und der Technischen Hochschu
 le Ulm\n\n&nbsp\;\n\nThema\n\nDas Gebäudeenergiegesetz (GEG) hatte eine s
 chweren Start. Über mehrere Jahre veröffentlichte die Bundesregierung Re
 ferentenentwürfe\, die von den Fachverbänden teils heftig kritisiert\, t
 eils als Schritt in die richtige Richtung akzeptiert wurden. Was hat sich 
 nun im Hinblick auf die Nutzung von „Anlagen zur Erzeugung von Strom aus
  solarer Strahlungsenergie“ oder „solarthermischen Anlagen zur Wärme-
  und Kälteerzeugung“ gegenüber dem alten EEWärmeG und der EnEV verän
 dert? Wo kann mit Altbekanntem weitergearbeitet werden? Welche Chancen bie
 tet das GEG\, um durch Einsatz von Photovoltaik und / oder Solarthermie ei
 n Gebäude zukunftssicher zu planen?\n\n&nbsp\;\n\nInhalt\n\n- Anrechnung 
 von Strom aus erneuerbaren Energien\n- Nutzung erneuerbarer Energien (Sola
 rwärme und -strom) zur Deckung des Wärme- und Kälteenergiebedarfs\n- Vo
 rgaben zur Solarenergie im vereinfachten Nachweisverfahren nach Anhang 5\n
 - Finanzielle Förderung der Nutzung erneuerbarer Energien\n\n&nbsp\;\n\nZ
 ielgruppe\n\nArchitekt*innen\, Bauingenieur*innen\, Fachplaner*innen\, Sac
 hverständige\, Handwerker*innen\, Bauträger*innen\, Verwalter*innen\, Be
 iträte\, Investor*innen\, Bauherr*innen und Studierende\n\n&nbsp\;\n\nTei
 lnahmebedingungen für Seminare\n\nFalls ein/eine gemeldete/r Teilnehmer*i
 n verhindert sein sollte\, muss die Abmeldung spätestens am dritten Werkt
 ag vor der Veranstaltung schriftlich im Bauzentrum München eingegangen se
 in. Die volle Teilnahmegebühr wird fällig\, wenn die schriftliche Abmeld
 ung zu spät eingeht oder der / die gemeldete Teilnehmer*in nicht bei der 
 Veranstaltung erscheint. Bei Ausfall der Veranstaltung werden keine Gebüh
 ren erhoben. Darüber hinaus besteht kein Ersatzanspruch. Die Bezahlung er
 folgt ausschließlich per Überweisung nach Erhalt einer Rechnung. Die Rec
 hnungsstellung erfolgt nach der Veranstaltung.
CATEGORIES:Seminare
END:VEVENT
BEGIN:VTIMEZONE
TZID:Europe/Berlin
X-LIC-LOCATION:Europe/Berlin
BEGIN:STANDARD
DTSTART:20201025T020000
TZOFFSETFROM:+0200
TZOFFSETTO:+0100
TZNAME:CET
END:STANDARD
END:VTIMEZONE
END:VCALENDAR