
BEGIN:VCALENDAR
VERSION:2.0
PRODID:-//wp-events-plugin.com//6.6.3//EN
TZID:Europe/Berlin
X-WR-TIMEZONE:Europe/Berlin
BEGIN:VEVENT
UID:0-445@veranstaltungen.muenchen.de
DTSTART;TZID=Europe/Berlin:20211027T130000
DTEND;TZID=Europe/Berlin:20211027T160000
DTSTAMP:20211025T062732Z
URL:https://veranstaltungen.muenchen.de/bauzentrum/veranstaltungen/web-sem
 inar-kompakt-schallschutz/
SUMMARY:Web-Seminar Kompakt: Schallschutz bei (nach)verdichteter Bebauung u
 nd Lärmbelastung
DESCRIPTION:Web-Seminar Kompakt vom Bauzentrum München:\nSchallschutz bei 
 (nach)verdichteter Bebauung und Lärmbelastung\n&nbsp\;\n\nAnerkannte Fort
 bildungspunkte Energieeffizienz-Expertenliste:\n\n4 Unterrichtseinheiten W
 ohngebäude\n4 Unterrichtseinheiten Nichtwohngebäude\n4 Unterrichtseinhei
 ten Energieaudit DIN 16247\n\n&nbsp\;\n\nSchriftliche Anmeldung erforderli
 ch\nEntweder direkt online (siehe ganz unten auf dieser Seite)\noder mit d
 em Anmeldeformular (pdf) per E-Mail oder Fax.\n\nBestellschein Abo-Teilnah
 mekarten (pdf)\n\n&nbsp\;\n\nDiese Veranstaltung findet statt in Kooperati
 on mit der Bayerischen Architektenkammer.\n\n&nbsp\;\n\nAlle Online-Verans
 taltungen vom Bauzentrum München werden mit Webex Events durchgeführt.\n
 Angemeldete Personen erhalten rechtzeitig vor der Veranstaltung den Teilna
 hme-Link per E-Mail.\n\n&nbsp\;\n\nReferent*innen\n\n Dr. Thomas Hils\, ö
 .b.u.v. Sachverständiger für\nSchallschutz\, Bau- und Raumakustik\, Wär
 me- und Feuchtigkeitsschutz\; geschäftsführender Gesellschafter hils con
 sult gmbh\, ing.-büro für bauphysik\; Leiter Fachbereich Bau LVS-Bayern 
 e.V.\nSabine Healey\, Dipl.-Ing. Univ.\, Architektin\, geprüfte Sachverst
 ändige für Schäden an Gebäuden (IfS Köln)\, Beratung privater Immobil
 ienerwerber\, Bauherrenberaterin Bauherrenschutzbund e.V.\n\n&nbsp\;\n\nTh
 ema\n\nVor dem Hintergrund einer zunehmenden Verdichtung bei der innerört
 lichen Bebauung zur Schonung von Ressourcen und Entlastung des Wohnungsmar
 kts tritt das Thema Schallbelastung durch Außenlärm zunehmend in den Fok
 us. Der Wegfall von „Pufferzonen“\, aber zum Beispiel auch der zunehme
 nde Einsatz von Wärmepumpen (Stichwort Energiewende) führt zu einem Anst
 ieg bei den schalltechnischen Beschwerde- und Problemfällen. Unterschiedl
 iche Regelwerke und (teilweise widersprüchliche) Rechtsprechung erzeugen 
 ein komplexes Spannungsfeld. Der sachverständigen Abwägung der Belange d
 es Schallschutzes kommt demzufolge im Bauleitplanungs- oder Genehmigungsve
 rfahren entscheidende Bedeutung zu. Durch schalltechnische Quantifizierung
  kann die Situation optimiert werden\, dabei kommt es auf Details an. Im z
 weiten Teil der Veranstaltung werden Beispiele zur baulichen Umsetzung die
 ser schallschutztechnischen Anforderungen vorgestellt. Betrachtet werden L
 ösungen und deren Einsatzbereich im Neubau und Bestand\, insbesondere Ans
 ätze zur Gebäudeorientierung\, Grundrissgestaltung\, konstruktive Detail
 s in der Ausbildung der Gebäudehülle\, sowie lüftungstechnische Maßnah
 men.\n\n&nbsp\;\n\nInhalt\n\n- Anforderungen und Regelwerke beim Schallsch
 utz im Städtebau\n- Schutz von Innen- und Außenräumen (Loggia\, etc.)\n
 - Herausforderungen durch Wärmepumpen\n- Umsetzung in der Praxis\n- Herau
 sforderungen für Architekt*innen\n\n&nbsp\;\n\nZielgruppe\n\nBauingenieur
 *innen\, Architekt*innen\, Sachverständige\, Handwerker*innen\, Bauträge
 r*innen\, Bauherr*innen\, Baufirmen\, Versicherungen\, Unternehmer*innen\,
  Rechtsanwälte’innen\, Hausverwaltungen\, Beirät*innen\, Makler*innen\
 , Immobilienfachwirt*innen und Studierende\n\n&nbsp\;\n\nTeilnahmebedingun
 gen für Seminare\n\nFalls ein/eine gemeldete/r Teilnehmer*in verhindert s
 ein sollte\, muss die Abmeldung spätestens am dritten Werktag vor der Ver
 anstaltung schriftlich im Bauzentrum München eingegangen sein. Die volle 
 Teilnahmegebühr wird fällig\, wenn die schriftliche Abmeldung zu spät e
 ingeht oder der / die gemeldete Teilnehmer*in nicht bei der Veranstaltung 
 erscheint. Bei Ausfall der Veranstaltung werden keine Gebühren erhoben. D
 arüber hinaus besteht kein Ersatzanspruch. Die Bezahlung erfolgt ausschli
 eßlich per Überweisung nach Erhalt einer Rechnung. Die Rechnungsstellung
  erfolgt nach der Veranstaltung.
CATEGORIES:Seminare
END:VEVENT
BEGIN:VTIMEZONE
TZID:Europe/Berlin
X-LIC-LOCATION:Europe/Berlin
BEGIN:DAYLIGHT
DTSTART:20210328T030000
TZOFFSETFROM:+0100
TZOFFSETTO:+0200
TZNAME:CEST
END:DAYLIGHT
END:VTIMEZONE
END:VCALENDAR