
BEGIN:VCALENDAR
VERSION:2.0
PRODID:-//wp-events-plugin.com//6.6.3//EN
TZID:Europe/Berlin
X-WR-TIMEZONE:Europe/Berlin
BEGIN:VEVENT
UID:0-515@veranstaltungen.muenchen.de
DTSTART;TZID=Europe/Berlin:20211203T090000
DTEND;TZID=Europe/Berlin:20211203T110000
DTSTAMP:20211201T111103Z
URL:https://veranstaltungen.muenchen.de/bauzentrum/veranstaltungen/web-sem
 inar-kompakt-neuerungen-beg/
SUMMARY:Web-Seminar Kompakt: Neuerungen zur Bundesförderung für effizient
 e Gebäude (BEG)
DESCRIPTION:Web-Seminar Kompakt vom Bauzentrum München:\nNeuerungen zur Bu
 ndesförderung für effiziente Gebäude (BEG):\nEinstellung Neubauförderu
 ng für das Effizienzhaus/-gebäude 55\n&nbsp\;\n\nAnerkannte Fortbildungs
 punkte Energieeffizienz-Expertenliste:\n\n2 Unterrichtseinheiten Wohngebä
 ude\n2 Unterrichtseinheiten Nichtwohngebäude\n0 Unterrichtseinheiten Ener
 gieaudit DIN 16247\n\n&nbsp\;\n\nSchriftliche Anmeldung erforderlich\nEntw
 eder direkt online (siehe ganz unten auf dieser Seite)\noder mit dem Anmel
 deformular (pdf) per E-Mail oder Fax.\n\nBestellschein Abo-Teilnahmekarten
  (pdf)\n\n&nbsp\;\n\nAlle Online-Veranstaltungen vom Bauzentrum München w
 erden mit Webex Events durchgeführt.\nAngemeldete Personen erhalten recht
 zeitig vor der Veranstaltung den Teilnahme-Link per E-Mail.\n\n&nbsp\;\n\n
 Diese Veranstaltung findet statt in Kooperation mit GIH Bayern e.V.\n\n&n
 bsp\;\n\nReferent\n\nBernhard Funk\, Dipl.-Ing. (FH)\nIngenieurbüro BZS-B
 auphysik GmbH\; Gesellschaftender Geschäftsführer\; Mitglied im Arbeitsk
 reis Energieeffizienz und Nachhaltigkeit im Hochbau der Bayerischen Ingeni
 eurekammer\; Autor verschiedener Fachartikel zum GEG und BEG. Sachverstän
 diger nach AVEn.\n\n&nbsp\;\n\nThema\n\nDie Neubauförderung für den Stan
 dard Effizienzhaus/-gebäude 55 bei Wohn- und Nichtwohngebäuden wird zum 
 01.02.2022 eingestellt. Anträge für das Effizienzhaus/-gebäude 55 im Ne
 ubau können somit nur noch bis 31. Januar 2022 gestellt werden.\n\n&nbsp\
 ;\n\nSeitens des Bundesministerium für Wirtschaft und Energie (BMWI) wurd
 e dies wie folgt begründet:\n"Bisher entfielen in 2021 etwa ein Drittel a
 uf die Einstiegs-Förderstufe im Neubau Effizienzhaus/-gebäude 55. Selbst
  ambitionierte Neubauten haben jedoch aufgrund der bestehenden ordnungsrec
 htlichen Mindestanforderungen eine deutlich geringere Treibhausgas-Einspar
 ung als energetische Sanierungen. Deshalb soll der Fokus stärker auf der 
 Förderung von Sanierungen liegen."\n\n&nbsp\;\n\nInhalt\n\n- Allgemeines\
 n- Was bedeutet die Zielsetzung EH/EG 40 konkret für die Gebäudeplanung 
 für Wohngebäude und Nichtwohngebäude?\n- Können kurzfristig noch förd
 ersichernde Maßnahmen ergriffen werden?\n- Was ist aus Sicht von Bauträg
 ern und Investor*innen zu tun?\n- Abläufe und Fristen zum BEG\n- Sonstige
  Neuerungen im BEG (z.B. Primärenergiefaktoren von Fernwärme)\n\n&nbsp\;
 \n\nZielgruppe\n\nArchitekt*innen\, Bauingenieur*innen\, Fachplaner*innen\
 , Sachverständige\, Handwerker*innen\, Bauträger*innen\, Investor*innen\
 , Bauherr*innen und Studierende\n\n&nbsp\;\n\nTeilnahmebedingungen für Se
 minare\n\nFalls ein/eine gemeldete/r Teilnehmer*in verhindert sein sollte\
 , muss die Abmeldung spätestens am dritten Werktag vor der Veranstaltung 
 schriftlich im Bauzentrum München eingegangen sein. Die volle Teilnahmege
 bühr wird fällig\, wenn die schriftliche Abmeldung zu spät eingeht oder
  der / die gemeldete Teilnehmer*in nicht bei der Veranstaltung erscheint. 
 Bei Ausfall der Veranstaltung werden keine Gebühren erhoben. Darüber hin
 aus besteht kein Ersatzanspruch. Die Bezahlung erfolgt ausschließlich per
  Überweisung nach Erhalt einer Rechnung. Die Rechnungsstellung erfolgt na
 ch der Veranstaltung.
CATEGORIES:Seminare
END:VEVENT
BEGIN:VTIMEZONE
TZID:Europe/Berlin
X-LIC-LOCATION:Europe/Berlin
BEGIN:STANDARD
DTSTART:20211031T020000
TZOFFSETFROM:+0200
TZOFFSETTO:+0100
TZNAME:CET
END:STANDARD
END:VTIMEZONE
END:VCALENDAR