
BEGIN:VCALENDAR
VERSION:2.0
PRODID:-//wp-events-plugin.com//6.6.3//EN
TZID:Europe/Berlin
X-WR-TIMEZONE:Europe/Berlin
BEGIN:VEVENT
UID:0-450@veranstaltungen.muenchen.de
DTSTART;TZID=Europe/Berlin:20211013T090000
DTEND;TZID=Europe/Berlin:20211013T120000
DTSTAMP:20210928T114947Z
URL:https://veranstaltungen.muenchen.de/bauzentrum/veranstaltungen/web-sem
 inar-kompakt-mauerwerk/
SUMMARY:Web-Seminar Kompakt: Risse und Feuchte im Mauerwerk
DESCRIPTION:Web-Seminar Kompakt vom Bauzentrum München:\nRisse und Feuchte
  im Mauerwerk\nUrsachen - Beurteilung - Instandsetzung\n\n&nbsp\;\n\nAnerk
 annte Fortbildungspunkte Energieeffizienz-Expertenliste:\n\n4 Unterrichtse
 inheiten Wohngebäude\n4 Unterrichtseinheiten Nichtwohngebäude\n4 Unterri
 chtseinheiten Energieaudit DIN 16247\n\n&nbsp\;\n\nSchriftliche Anmeldung 
 erforderlich\nEntweder direkt online (siehe ganz unten auf dieser Seite)\n
 oder mit dem Anmeldeformular (pdf) per E-Mail oder Fax.\n\nBestellschein A
 bo-Teilnahmekarten (pdf)\n\n&nbsp\;\n\nDiese Veranstaltung findet statt in
  Kooperation mit der Bayerischen Architektenkammer.\n\n&nbsp\;\n\nAlle Onl
 ine-Veranstaltungen vom Bauzentrum München werden mit Webex Events durchg
 eführt.\nAngemeldete Personen erhalten rechtzeitig vor der Veranstaltung 
 den Teilnahme-Link per E-Mail.\n\n&nbsp\;\n\nReferent\n\nDr.-Ing. Christia
 n Dialer\, BYIK VDI\nIngenieur- und Sachverständigenbüro\, Beratender In
 genieur (Bayerische Ingenieurekammer-Bau)\, Sachverständiger für Schäde
 n im Bauwesen\, Lehrbeauftragter an der Hochschule München\n\n&nbsp\;\n\n
 Thema\n\nMauerwerk ist aufgrund vielfältiger Ausführungsvarianten und Be
 sonderheiten seines Tragverhaltens unterschiedlich zu beurteilen. Die erfo
 lgreiche Instandsetzung erfordert deswegen eine differenzierte Vorgehenswe
 ise\, insbesondere bei Riss-Schäden. In diesem Seminar werden an Hand ein
 er Vielzahl von Praxisbeispielen typische Riss- und Feuchteschäden diskut
 iert und Möglichkeiten zur Instandsetzung erläutert.\n\n&nbsp\;\n\nInhal
 t\n\n- Was ist das Besondere an der Mauerwerksbauweise?\n- Ursachen von Ri
 ss-Schäden\n- Kritische Beurteilung von Messwerten und Messgeräten\n- Wa
 s ist bei Bauteilöffnungen zu beachten?\n- Anmerkungen zur Beweissicherun
 g\n- Ist jeder Riss im Mauerwerksbau ein Mangel?\n- Kann man Risse im Maue
 rwerksbau verpressen?\n- Instandsetzung von Rissen\n- Welche Feuchteschäd
 en sind typisch?\n- Technische Gutachten und Mietminderungen bei Schimmel\
 n\n&nbsp\;\n\nZielgruppe\n\nArchitekt*innen\, Planer*innen\, Bauingenieur*
 innen\, Energieberater*innen\, Handwerker*innen\, Bausachverständige\, Ba
 uträger*innen\, Bauunternehmen\, Hausverwaltungen\, Verwaltungsbeirät*in
 nen\, Rechtsanwält*innen\, Versicherungen\, Makler*innen\, Immobilienfach
 wirt*innen und Studierende\n\n&nbsp\;\n\nTeilnahmebedingungen für Seminar
 e\n\nFalls ein/eine gemeldete/r Teilnehmer*in verhindert sein sollte\, mus
 s die Abmeldung spätestens am dritten Werktag vor der Veranstaltung schri
 ftlich im Bauzentrum München eingegangen sein. Die volle Teilnahmegebühr
  wird fällig\, wenn die schriftliche Abmeldung zu spät eingeht oder der 
 / die gemeldete Teilnehmer*in nicht bei der Veranstaltung erscheint. Bei A
 usfall der Veranstaltung werden keine Gebühren erhoben. Darüber hinaus b
 esteht kein Ersatzanspruch. Die Bezahlung erfolgt ausschließlich per Übe
 rweisung nach Erhalt einer Rechnung. Die Rechnungsstellung erfolgt nach de
 r Veranstaltung.
CATEGORIES:Seminare
END:VEVENT
BEGIN:VTIMEZONE
TZID:Europe/Berlin
X-LIC-LOCATION:Europe/Berlin
BEGIN:DAYLIGHT
DTSTART:20210328T030000
TZOFFSETFROM:+0100
TZOFFSETTO:+0200
TZNAME:CEST
END:DAYLIGHT
END:VTIMEZONE
END:VCALENDAR