
BEGIN:VCALENDAR
VERSION:2.0
PRODID:-//wp-events-plugin.com//6.6.3//EN
TZID:Europe/Berlin
X-WR-TIMEZONE:Europe/Berlin
BEGIN:VEVENT
UID:0-330@veranstaltungen.muenchen.de
DTSTART;TZID=Europe/Berlin:20210505T090000
DTEND;TZID=Europe/Berlin:20210505T120000
DTSTAMP:20210504T130821Z
URL:https://veranstaltungen.muenchen.de/bauzentrum/veranstaltungen/web-sem
 inar-kompakt-elektroautos-laden-teil-2/
SUMMARY:Web-Seminar Kompakt: Elektroautos laden – Teil 2
DESCRIPTION:Web-Seminar Kompakt vom Bauzentrum München:\nElektroautos lade
 n – Teil 2:\n- Lösungen im Detail\n- Laden im Quartier\, beim Arbeitgeb
 er\, im eigenen Gebäude und im öffentlichen Raum\n&nbsp\;\n\nAnerkannte 
 Fortbildungspunkte Energieeffizienz-Expertenliste:\n\n5 Unterrichtseinheit
 en Wohngebäude (KfW)\n5 Unterrichtseinheiten Nichtwohngebäude (KfW)\n5 U
 nterrichtseinheiten Energieaudit DIN 16247\n\n&nbsp\;\n\nDiese Veranstaltu
 ng findet statt in Kooperation mit GIH Bayern e.V. und der Bayerischen Ar
 chitektenkammer.\n\n&nbsp\;\n\nSchriftliche Anmeldung erforderlich\nEntwed
 er direkt online (siehe ganz unten auf dieser Seite)\noder mit dem Anmelde
 formular (pdf) per E-Mail oder Fax.\n\nBestellschein Abo-Teilnahmekarten (
 pdf)\n\n&nbsp\;\n\nAlle Online-Veranstaltungen vom Bauzentrum München wer
 den mit Webex Events durchgeführt.\nAngemeldete Personen erhalten rechtze
 itig vor der Veranstaltung den Teilnahme-Link per E-Mail.\n\n&nbsp\;\n\nRe
 ferent\n\nStefan Sachs\, Dipl.-Ing. (FH)\nDozent der Handwerkskammer für 
 München und Oberbayern für die Fortbildung „Berater/in für Elektromob
 ilität (HWK)“\, Beratungsbüro für Elektromobilität\, Inhaber bc-Sach
 s GmbH\, 30 Jahre Erfahrung im Bereich Elektromobilität (Fahrzeuge und Bo
 ote)\n\n&nbsp\;\n\nThema\n\nBei der Installation von Ladepunkten betreten 
 viele Planer*innen und Eigentümer*innen Neuland. Für einen dauerhaft bef
 riedigenden Aufbau und Betrieb von Ladeinfrastruktur ist eine umfassende P
 lanung nötig\, um Fehlinvestitionen zu vermeiden. Der Kurs vermittelt das
  Basiswissen\, um Konzepte und Ausschreibungen kompetent beurteilen zu kö
 nnen. Aktuelle Beispiele aus der Beratungspraxis laden zum Erfahrungsausta
 usch und zur Entscheidungsfindung bei eignen Projekten ein.\n\n&nbsp\;\n\n
 Inhalt\n\n- Anforderungen von Fahrzeug und Ladepunkt beim Ladevorgang\n- N
 otwendige Planungsunterlagen bei der Errichtung\n- Bedeutung der bestehend
 en Stromversorgung (Lastgangmessung)\n- Unterschiede bei EFH\, WEG\, Firma
 \, Kommune\n- Ladetechnik in Abhängigkeit von der Anzahl der Ladepunkte (
 Lastmanagement)\n- Freischaltung und Abrechnung\n- Szenarien für einen st
 ufenweisen Ausbau\n- Rechtliche Vorgaben und Fragestellungen\n- Checkliste
  für die Auswahl der Ladetechnik\n- Risikofaktoren für die Einhaltung de
 s Gesamtkostenrahmens\n\n&nbsp\;\n\nZielgruppe\n\nArchitekt*innen\, Ingeni
 eur*innen\, Planer*innen\, Energieberater*innen\, Handwerksbetriebe\, Baun
 ternehmen\, Bauträger\, Hausverwaltungen\, Betreiber*innen von Kfz-Flotte
 n und Fuhrparks\, Parkraumbewirtschafter*innen\, Besitzer*innen von Restau
 rants und Hotels\, Firmen\n\n&nbsp\;\n\nTeilnahmebedingungen für Seminare
 \n\nFalls ein/eine gemeldete/r Teilnehmer*in verhindert sein sollte\, muss
  die Abmeldung spätestens am dritten Werktag vor der Veranstaltung schrif
 tlich im Bauzentrum München eingegangen sein. Die volle Teilnahmegebühr 
 wird fällig\, wenn die schriftliche Abmeldung zu spät eingeht oder der /
  die gemeldete Teilnehmer*in nicht bei der Veranstaltung erscheint. Bei Au
 sfall der Veranstaltung werden keine Gebühren erhoben. Darüber hinaus be
 steht kein Ersatzanspruch. Die Bezahlung erfolgt ausschließlich per Über
 weisung nach Erhalt einer Rechnung. Die Rechnungsstellung erfolgt nach der
  Veranstaltung.
CATEGORIES:Seminare
END:VEVENT
BEGIN:VTIMEZONE
TZID:Europe/Berlin
X-LIC-LOCATION:Europe/Berlin
BEGIN:DAYLIGHT
DTSTART:20210328T030000
TZOFFSETFROM:+0100
TZOFFSETTO:+0200
TZNAME:CEST
END:DAYLIGHT
END:VTIMEZONE
END:VCALENDAR