
BEGIN:VCALENDAR
VERSION:2.0
PRODID:-//wp-events-plugin.com//6.6.3//EN
TZID:Europe/Berlin
X-WR-TIMEZONE:Europe/Berlin
BEGIN:VEVENT
UID:0-220@veranstaltungen.muenchen.de
DTSTART;TZID=Europe/Berlin:20210504T090000
DTEND;TZID=Europe/Berlin:20210504T120000
DTSTAMP:20210503T111719Z
URL:https://veranstaltungen.muenchen.de/bauzentrum/veranstaltungen/web-sem
 inar-kompakt-elektroautos-laden-teil-1/
SUMMARY:Web-Seminar Kompakt: Elektroautos laden – Teil 1
DESCRIPTION:Web-Seminar Kompakt vom Bauzentrum München:\nElektroautos lade
 n – Teil 1:\nFuhrparkanalyse – Planung - Wirtschaftlichkeit\n&nbsp\;\n
 \nAnerkannte Fortbildungspunkte Energieeffizienz-Expertenliste:\n1 Unterri
 chtseinheiten Wohngebäude (KfW)\n1 Unterrichtseinheiten Nichtwohngebäude
  (KfW)\n1 Unterrichtseinheiten Energieaudit DIN 16247\n\n&nbsp\;\n\nDiese 
 Veranstaltung findet statt in Kooperation mit GIH Bayern e.V. und der Bay
 erischen Architektenkammer.\n\n&nbsp\;\n\nSchriftliche Anmeldung erforderl
 ich\nEntweder direkt online (siehe ganz unten auf dieser Seite)\noder mit 
 dem Anmeldeformular (pdf) per E-Mail oder Fax.\n\nBestellschein Abo-Teilna
 hmekarten (pdf)\n\n&nbsp\;\n\nAlle Online-Veranstaltungen vom Bauzentrum M
 ünchen werden mit Webex Events durchgeführt.\nAngemeldete Personen erhal
 ten rechtzeitig vor der Veranstaltung den Teilnahme-Link per E-Mail.\n\n&n
 bsp\;\n\nReferent\n\nStefan Sachs\, Dipl.-Ing. (FH)\nDozent der Handwerksk
 ammer für München und Oberbayern für die Fortbildung „Berater/in für
  Elektromobilität (HWK)“\, Beratungsbüro für Elektromobilität\, Inha
 ber bc-Sachs GmbH\, 30 Jahre Erfahrung im Bereich Elektromobilität (Fahrz
 euge und Boote)\n\n&nbsp\;\n\nThema\n\nElektromobilität ist anders! Bei d
 er Umstellung auf Elektromobilität bedarf es einer neuen Organisation der
  Mobilität\, wofür die optimierten Fahr- und Lade-Zyklen zugrunde gelegt
  werden. Diese Planung eröffnet erhebliche Möglichkeiten der Einsparung 
 von Kosten. Das dazu notwendige Grundwissen wird in diesem Kurs vermittelt
 .\n\n&nbsp\;\n\nInhalt\n\n- Grundlagen zur Planung der Elektromobilität\n
 - Durch Fahrverhalten und Bedarfsanalyse zur Fuhrparkbeurteilung\n- Wege z
 ur richtigen Fahrzeugauswahl\n- Sinnvoller Umfang von Mobilitätskonzepten
 \n- Qualifizierte Beratung – oder was muss ich selber wissen\n- Pro und 
 Contra bei Förderprogrammen\n\n&nbsp\;\n\nZielgruppe\n\nArchitekt*innen\,
  Ingenieur*innen\, Planer*innen\, Energieberater*innen\, Handwerksbetriebe
 \, Baunternehmen\, Bauträger\, Hausverwaltungen\, Entscheider in Kommunen
 \, Betreiber*innen von Kfz-Flotten und Fuhrparks\, Parkraumbewirtschafter*
 innen\, Besitzer*innen von Restaurants und Hotels\, Firmen\n\n&nbsp\;\n\nT
 eilnahmebedingungen für Seminare\n\nFalls ein/eine gemeldete/r Teilnehmer
 *in verhindert sein sollte\, muss die Abmeldung spätestens am dritten Wer
 ktag vor der Veranstaltung schriftlich im Bauzentrum München eingegangen 
 sein. Die volle Teilnahmegebühr wird fällig\, wenn die schriftliche Abme
 ldung zu spät eingeht oder der / die gemeldete Teilnehmer*in nicht bei de
 r Veranstaltung erscheint. Bei Ausfall der Veranstaltung werden keine Geb
 ühren erhoben. Darüber hinaus besteht kein Ersatzanspruch. Die Bezahlung
  erfolgt ausschließlich per Überweisung nach Erhalt einer Rechnung. Die 
 Rechnungsstellung erfolgt nach der Veranstaltung.
CATEGORIES:Seminare
END:VEVENT
BEGIN:VTIMEZONE
TZID:Europe/Berlin
X-LIC-LOCATION:Europe/Berlin
BEGIN:DAYLIGHT
DTSTART:20210328T030000
TZOFFSETFROM:+0100
TZOFFSETTO:+0200
TZNAME:CEST
END:DAYLIGHT
END:VTIMEZONE
END:VCALENDAR