
BEGIN:VCALENDAR
VERSION:2.0
PRODID:-//wp-events-plugin.com//6.6.3//EN
TZID:Europe/Berlin
X-WR-TIMEZONE:Europe/Berlin
BEGIN:VEVENT
UID:0-332@veranstaltungen.muenchen.de
DTSTART;TZID=Europe/Berlin:20210614T140000
DTEND;TZID=Europe/Berlin:20210614T170000
DTSTAMP:20210608T093631Z
URL:https://veranstaltungen.muenchen.de/bauzentrum/veranstaltungen/web-sem
 inar-kompakt-brandschutz-tga/
SUMMARY:Web-Seminar Kompakt: Brandschutz in der Technischen Gebäudeausrüs
 tung (TGA)
DESCRIPTION:Web-Seminar Kompakt vom Bauzentrum München:\nBrandschutz in de
 r Technischen Gebäudeausrüstung (TGA)\n&nbsp\;\n\nAnerkannte Fortbildung
 spunkte Energieeffizienz-Expertenliste:\n\n1 Unterrichtseinheit Wohngebäu
 de\n1 Unterrichtseinheit Nichtwohngebäude\n1 Unterrichtseinheit Energieau
 dit DIN 16247\n\n&nbsp\;\n\nDiese Veranstaltung findet statt in Kooperatio
 n mit der Bayerischen Architektenkammer.\n\n&nbsp\;\n\nSchriftliche Anmeld
 ung erforderlich\nEntweder direkt online (siehe ganz unten auf dieser Seit
 e)\noder mit dem Anmeldeformular (pdf) per E-Mail oder Fax.\n\nBestellsche
 in Abo-Teilnahmekarten (pdf)\n\n&nbsp\;\n\nAlle Online-Veranstaltungen vom
  Bauzentrum München werden mit Webex Events durchgeführt.\nAngemeldete P
 ersonen erhalten rechtzeitig vor der Veranstaltung den Teilnahme-Link per 
 E-Mail.\n\n&nbsp\;\n\nReferent*in\n\n Christian Töpfel-Gruber\, Dipl.-Ing
 .\,\nMitarbeiter im vorbeugenden Brandschutz der Berufsfeuerwehr Augsburg\
 , Energieberatungen für Wohn- und Nichtwohngebäude\, BlowerDoor-Messunge
 n\n\n&nbsp\;\n\nThema\n\nDie Technische Gebäudeausrüstung überbrückt\,
  durchdringt oder nutzt vielfältige Bauteile. Unter anderem auch Bauteile
  mit brandschutztechnischen Anforderungen\, die dadurch beeinträchtigt we
 rden. Zudem ergeben sich auch Wechselwirkungen mit der Nutzung von Räumen
 \, wie z.B. den Rettungswegen und Fluren. Als Teil eines brandschutztechni
 schen Gesamtkonzeptes ist es wichtig die Bedeutung der einzelnen Komponent
 en zu erkennen. In diesem Seminar werden die Funktionen dieser Bauteile od
 er Nutzungsaspekte verschiedener Räume aufgezeigt. Daraus ergeben sich An
 forderungen und Möglichkeiten im Rahmen der Planung der TGA. An exemplari
 schen Beispielen werden diese erläutert. Auch formelle Details\, wie baur
 echtliche Zulassungen\, Fachunternehmererklärungen und die Dokumentations
 pflichten werden dargestellt.\n\n&nbsp\;\n\nInhalt\n\nAnhand typischer Bei
 spiele werden für folgende Bauteile die Problemstellungen vorgestellt und
  Lösungswege erläutert:\n- Rettungswege: Anforderungen bei Treppenhäuse
 rn und notwendigen Fluren\n- Wände und Decken mit Brandschutz-Anforderung
 \n- Feuer und Rauch: Verschiedene Gefahren\, verschiedene Anforderungen\n-
  Brandschutzkonzepte verstehen\n- Auswahl geeigneter Brandschutzprodukte\n
 - Dokumentation\n\n&nbsp\;\n\nZielgruppe\n\nBauingenieur*innen\, Architekt
 *innen\, Sachverständige\, Handwerker*innen\, Bauträger*innen\, Bauherr*
 innen\, Baufirmen\, Versicherungen\, Unternehmer*innen\, Rechtsanwälte*in
 nen\, Hausverwaltungen\, Beirät*innen\, Makler*innen\, Immobilienfachwirt
 *innen und Studierende der Fachrichtung Bau\n\n&nbsp\;\n\nTeilnahmebedingu
 ngen für Seminare\n\nFalls ein/eine gemeldete/r Teilnehmer*in verhindert 
 sein sollte\, muss die Abmeldung spätestens am dritten Werktag vor der Ve
 ranstaltung schriftlich im Bauzentrum München eingegangen sein. Die volle
  Teilnahmegebühr wird fällig\, wenn die schriftliche Abmeldung zu spät 
 eingeht oder der / die gemeldete Teilnehmer*in nicht bei der Veranstaltung
  erscheint. Bei Ausfall der Veranstaltung werden keine Gebühren erhoben. 
 Darüber hinaus besteht kein Ersatzanspruch. Die Bezahlung erfolgt ausschl
 ießlich per Überweisung nach Erhalt einer Rechnung. Die Rechnungsstellun
 g erfolgt nach der Veranstaltung.
CATEGORIES:Seminare
END:VEVENT
BEGIN:VTIMEZONE
TZID:Europe/Berlin
X-LIC-LOCATION:Europe/Berlin
BEGIN:DAYLIGHT
DTSTART:20210328T030000
TZOFFSETFROM:+0100
TZOFFSETTO:+0200
TZNAME:CEST
END:DAYLIGHT
END:VTIMEZONE
END:VCALENDAR