
BEGIN:VCALENDAR
VERSION:2.0
PRODID:-//wp-events-plugin.com//6.6.3//EN
TZID:Europe/Berlin
X-WR-TIMEZONE:Europe/Berlin
BEGIN:VEVENT
UID:0-335@veranstaltungen.muenchen.de
DTSTART;TZID=Europe/Berlin:20210611T090000
DTEND;TZID=Europe/Berlin:20210611T120000
DTSTAMP:20210517T110037Z
URL:https://veranstaltungen.muenchen.de/bauzentrum/veranstaltungen/web-sem
 inar-kompakt-brandschutz-konzept-teil-1/
SUMMARY:Web-Seminar Kompakt: Erstellung Brandschutz-Konzept – Teil 1: The
 orie
DESCRIPTION:Web-Seminar Kompakt vom Bauzentrum München:\nErstellung Brands
 chutz-Konzept – Teil 1: Theorie\nSchutzziele und Maßnahmen festlegen\n\
 n&nbsp\;\n\nAnerkannte Fortbildungspunkte Energieeffizienz-Expertenliste:\
 n\n0 Unterrichtseinheiten Wohngebäude\n0 Unterrichtseinheiten Nichtwohnge
 bäude\n0 Unterrichtseinheiten Energieaudit DIN 16247\n\n&nbsp\;\n\nDiese 
 Veranstaltung findet statt in Kooperation mit der Bayerischen Architektenk
 ammer.\n\n&nbsp\;\n\nSchriftliche Anmeldung erforderlich\nEntweder direkt 
 online (siehe ganz unten auf dieser Seite)\noder mit dem Anmeldeformular (
 pdf) per E-Mail oder Fax.\n\nBestellschein Abo-Teilnahmekarten (pdf)\n\n&n
 bsp\;\n\nAlle Online-Veranstaltungen vom Bauzentrum München werden mit We
 bex Events durchgeführt.\nAngemeldete Personen erhalten rechtzeitig vor d
 er Veranstaltung den Teilnahme-Link per E-Mail.\n\n&nbsp\;\n\nReferent*in\
 n\nChristian Töpfel-Gruber\, Dipl.-Ing.\nMitarbeiter im vorbeugenden Bran
 dschutz der Berufsfeuerwehr Augsburg\, Energieberatungen für Wohn- und Ni
 chtwohngebäude\, BlowerDoor-Messungen\n\n&nbsp\;\n\nThema\n\nFür ein sic
 heres Gebäude sind die baulichen\, technischen und organisatorischen Elem
 ente in einem geschlossenen Brandschutzkonzept darzustellen. Einige grundl
 egende Anforderungen an brandschutztechnische Eigenschaften von Bauteilen 
 ergeben sich aus der Größe und Struktur des Gebäudes. So sind zum Beisp
 iel Rettungsweglängen begrenzt oder höhere Gebäude sind in wesentlichen
  Teilen feuerbeständig zu errichten. Verschiedene Nutzungsaspekte bringen
  zusätzliche Anforderungen mit sich\, wie zum Beispiel Krankenhäuser\, V
 ersammlungsräume\, Industriebauten. Technische Einrichtungen\, wie unter 
 anderem Entrauchungssysteme\, Brandmeldeanlagen und Löschanlagen unterst
 ützen die baulichen Gegebenheiten oder können Sonderlösungen ermöglich
 en. Organisatorische Überlegungen oder Vorplanungen eines Feuerwehreinsat
 zes runden die Planungen ab. Schutzziele und Abweichungen sind hierbei aus
 gewogen auszugleichen.\n\n&nbsp\;\n\nZielgruppe\n\nArchitekt*innen\, Plane
 r*innen\, Bauingenieur*innen\, Bausachverständige\, Handwerker*innen (ins
 besondere in den Gewerken Zimmerei\, Trockenbau\, Putz / Stuck\, Fensterba
 u)\, Bauträger*innen und Immobilienverwalter*innen\n\n&nbsp\;\n\nTeilnahm
 ebedingungen für Seminare\n\nFalls ein/eine gemeldete/r Teilnehmer*in ver
 hindert sein sollte\, muss die Abmeldung spätestens am dritten Werktag vo
 r der Veranstaltung schriftlich im Bauzentrum München eingegangen sein. D
 ie volle Teilnahmegebühr wird fällig\, wenn die schriftliche Abmeldung z
 u spät eingeht oder der / die gemeldete Teilnehmer*in nicht bei der Veran
 staltung erscheint. Bei Ausfall der Veranstaltung werden keine Gebühren e
 rhoben. Darüber hinaus besteht kein Ersatzanspruch. Die Bezahlung erfolgt
  ausschließlich per Überweisung nach Erhalt einer Rechnung. Die Rechnung
 sstellung erfolgt nach der Veranstaltung.
CATEGORIES:Seminare
END:VEVENT
BEGIN:VTIMEZONE
TZID:Europe/Berlin
X-LIC-LOCATION:Europe/Berlin
BEGIN:DAYLIGHT
DTSTART:20210328T030000
TZOFFSETFROM:+0100
TZOFFSETTO:+0200
TZNAME:CEST
END:DAYLIGHT
END:VTIMEZONE
END:VCALENDAR