
BEGIN:VCALENDAR
VERSION:2.0
PRODID:-//wp-events-plugin.com//6.6.3//EN
TZID:Europe/Berlin
X-WR-TIMEZONE:Europe/Berlin
BEGIN:VEVENT
UID:0-380@veranstaltungen.muenchen.de
DTSTART;TZID=Europe/Berlin:20210715T090000
DTEND;TZID=Europe/Berlin:20210715T120000
DTSTAMP:20210517T110228Z
URL:https://veranstaltungen.muenchen.de/bauzentrum/veranstaltungen/web-sem
 inar-kompakt-brandschutz-im-bestand/
SUMMARY:Web-Seminar Kompakt: Brandschutz im Bestand
DESCRIPTION:Web-Seminar Kompakt vom Bauzentrum München:\nBrandschutz im Be
 stand\n&nbsp\;\n\nAnerkannte Fortbildungspunkte Energieeffizienz-Expertenl
 iste:\n\n1 Unterrichtseinheiten Wohngebäude\n0 Unterrichtseinheiten Nicht
 wohngebäude\n0 Unterrichtseinheiten Energieaudit DIN 16247\n\n&nbsp\;\n\n
 Schriftliche Anmeldung erforderlich\nEntweder direkt online (siehe ganz un
 ten auf dieser Seite)\noder mit dem Anmeldeformular (pdf) per E-Mail oder 
 Fax.\n\nBestellschein Abo-Teilnahmekarten (pdf)\n\n&nbsp\;\n\nAlle Online-
 Veranstaltungen vom Bauzentrum München werden mit Webex Events durchgefü
 hrt.\nAngemeldete Personen erhalten rechtzeitig vor der Veranstaltung den 
 Teilnahme-Link per E-Mail.\n\n&nbsp\;\n\nReferent*in\n\n Christian Steinle
 hner\, Dipl.-Ing. (FH)\nArchitekt\, Brandschutzfachplaner\, Mitglied in de
 r Vereinigung der Brandschutzplaner e.V. (VdBP)\n\n&nbsp\;\n\nThema\n\nSei
 t der Novellierung der Bayerischen Bauordnung beginnend 1998 und zuletzt i
 m August 2007 (in Kraft getreten am 1. Januar 2008) übernehmen die Planer
 *innen eine größere Verantwortung beim Brandschutz. Hierzu ist ein Brand
 schutz-Nachweis zu erstellen. Beim Bauen im Bestand ist insbesondere der 
 „Bestandsschutz“ von Bedeutung.\n\n&nbsp\;\n\nInhalt\n\nDas Seminar ze
 igt anhand von Beispielen aus der Praxis zunächst wichtige Rechtsgrundlag
 en und Begriffe rund um den Brandschutz auf. Anschließend werden Inhalte 
 und Verantwortlichkeiten eines Brandschutz-Nachweises erläutert. Im näch
 sten Abschnitt werden die Besonderheiten beim Bauen im Bestand im Hinblick
  auf den Brandschutz diskutiert und insbesondere der „Bestandsschutz“ 
 hierbei näher betrachtet.\n- Der Brandschutz-Nachweis\n- Brandschutz im B
 estand\n- Praktische Beispiele\n- Dokumentation von Maßnahmen\n- Notwendi
 ge Qualifikation der Baubeteiligten\n\n&nbsp\;\n\nZielgruppe\n\nArchitekt*
 innen\, Bauingenieur*innen\, Sachverständige\, Handwerker*innen\, Unterne
 hmer*innen\, Bauträger*innen\, Bauherr*innen\, Baufirmen\, Hausverwaltung
 en\, Beirät*innen\, Makler*innen\, Immobilienfachwirt*innen und Studieren
 de\n\n&nbsp\;\n\nTeilnahmebedingungen für Seminare\n\nFalls ein/eine geme
 ldete/r Teilnehmer*in verhindert sein sollte\, muss die Abmeldung spätest
 ens am dritten Werktag vor der Veranstaltung schriftlich im Bauzentrum Mü
 nchen eingegangen sein. Die volle Teilnahmegebühr wird fällig\, wenn die
  schriftliche Abmeldung zu spät eingeht oder der / die gemeldete Teilnehm
 er*in nicht bei der Veranstaltung erscheint. Bei Ausfall der Veranstaltung
  werden keine Gebühren erhoben. Darüber hinaus besteht kein Ersatzanspru
 ch. Die Bezahlung erfolgt ausschließlich per Überweisung nach Erhalt ein
 er Rechnung. Die Rechnungsstellung erfolgt nach der Veranstaltung.
CATEGORIES:Seminare
END:VEVENT
BEGIN:VTIMEZONE
TZID:Europe/Berlin
X-LIC-LOCATION:Europe/Berlin
BEGIN:DAYLIGHT
DTSTART:20210328T030000
TZOFFSETFROM:+0100
TZOFFSETTO:+0200
TZNAME:CEST
END:DAYLIGHT
END:VTIMEZONE
END:VCALENDAR