
BEGIN:VCALENDAR
VERSION:2.0
PRODID:-//wp-events-plugin.com//6.6.3//EN
TZID:Europe/Berlin
X-WR-TIMEZONE:Europe/Berlin
BEGIN:VEVENT
UID:0-392@veranstaltungen.muenchen.de
DTSTART;TZID=Europe/Berlin:20210610T090000
DTEND;TZID=Europe/Berlin:20210610T120000
DTSTAMP:20210610T074816Z
URL:https://veranstaltungen.muenchen.de/bauzentrum/veranstaltungen/web-sem
 inar-kompakt-beg/
SUMMARY:Web-Seminar Kompakt: BEG – Die neue Bundesförderung für effizie
 nte Gebäude
DESCRIPTION:Web-Seminar Kompakt vom Bauzentrum München:\nBEG – Die neue 
 Bundesförderung für effiziente Gebäude\n&nbsp\;\n\nAnerkannte Fortbildu
 ngspunkte Energieeffizienz-Expertenliste:\n\n3 Unterrichtseinheiten Wohnge
 bäude\n0 Unterrichtseinheiten Nichtwohngebäude\n0 Unterrichtseinheiten E
 nergieaudit DIN 16247\n\n&nbsp\;\n\nDiese Veranstaltung findet statt in Ko
 operation mit der Bayerischen Architektenkammer.\n\n&nbsp\;\n\nSchriftlich
 e Anmeldung erforderlich\nEntweder direkt online (siehe ganz unten auf die
 ser Seite)\noder mit dem Anmeldeformular (pdf) per E-Mail oder Fax.\n\nBes
 tellschein Abo-Teilnahmekarten (pdf)\n\n&nbsp\;\n\nAlle Online-Veranstaltu
 ngen vom Bauzentrum München werden mit Webex Events durchgeführt.\nAngem
 eldete Personen erhalten rechtzeitig vor der Veranstaltung den Teilnahme-L
 ink per E-Mail.\n\n&nbsp\;\n\nReferent*innen:\n\n Maria Litke\, M. Eng.\nI
 ngenieurbüro BZS-Bauphysik GmbH\; Leitung der Abteilung thermische Bauphy
 sik und Simulationen\; DGNB Registered Professional\nBernhard Funk\, Dipl.
 -Ing. (FH)\nIngenieurbüro BZS-Bauphysik GmbH\; Gesellschaftender Geschäf
 tsführer\; Mitglied im Arbeitskreis Energieeffizienz und Nachhaltigkeit i
 m Hochbau der Bayerischen Ingenieurekammer\; Autor verschiedener Fachartik
 el zum GEG und BEG. Sachverständiger nach AVEn.\n\n&nbsp\;\n\nThema\nDie 
 neue Bundesförderung für effiziente Gebäude (BEG) ist da. Welche Mögli
 chkeiten und Herausforderungen ergeben sich dadurch? Welche Förderungen w
 erden bereitgestellt und welche Anforderungen verbergen sich dahinter? Wie
  können diese Anforderungen möglichst wirtschaftlich umgesetzt werden? W
 ie sind die Abläufe und welche Fristen sind zu beachten? Das Seminar zum 
 BEG stellt die Antworten auf diese und noch mehr Fragen bereit!\n&nbsp\;\n
 \nInhalt\n1. Allgemeines\n2. Bundesförderung für effiziente Gebäude - B
 EG im Detail\n     a. BEG EM\n     b. BEG WG\n     c. BEG NWG\n
 3. Bonus EE und NH\n4. Ablauf und Fristen\n5. Förderung der Baubegleitung
  / energetischen Fachplanung\n6. Kritik und wichtige Fragestellungen\n&nbs
 p\;\n\nZielgruppe\nArchitekt*innen\, Bauingenieur*innen\, Fachplaner*innen
 \, Sachverständige\, Handwerker*innen\, Bauträger*innen\, Verwalter*inne
 n\, Beiträte\, Investor*innen\, Bauherr*innen und Studierende\n&nbsp\;\n\
 nTeilnahmebedingungen für Seminare\n\nFalls ein/eine gemeldete/r Teilnehm
 er*in verhindert sein sollte\, muss die Abmeldung spätestens am dritten W
 erktag vor der Veranstaltung schriftlich im Bauzentrum München eingegange
 n sein. Die volle Teilnahmegebühr wird fällig\, wenn die schriftliche Ab
 meldung zu spät eingeht oder der / die gemeldete Teilnehmer*in nicht bei 
 der Veranstaltung erscheint. Bei Ausfall der Veranstaltung werden keine Ge
 bühren erhoben. Darüber hinaus besteht kein Ersatzanspruch. Die Bezahlun
 g erfolgt ausschließlich per Überweisung nach Erhalt einer Rechnung. Die
  Rechnungsstellung erfolgt nach der Veranstaltung.
CATEGORIES:Seminare
END:VEVENT
BEGIN:VTIMEZONE
TZID:Europe/Berlin
X-LIC-LOCATION:Europe/Berlin
BEGIN:DAYLIGHT
DTSTART:20210328T030000
TZOFFSETFROM:+0100
TZOFFSETTO:+0200
TZNAME:CEST
END:DAYLIGHT
END:VTIMEZONE
END:VCALENDAR