
BEGIN:VCALENDAR
VERSION:2.0
PRODID:-//wp-events-plugin.com//6.6.3//EN
TZID:Europe/Berlin
X-WR-TIMEZONE:Europe/Berlin
BEGIN:VEVENT
UID:0-395@veranstaltungen.muenchen.de
DTSTART;TZID=Europe/Berlin:20210615T140000
DTEND;TZID=Europe/Berlin:20210615T170000
DTSTAMP:20210610T075009Z
URL:https://veranstaltungen.muenchen.de/bauzentrum/veranstaltungen/web-sem
 inar-kompakt-beg-effizienzhaeuser/
SUMMARY:Web-Seminar Kompakt: Effizienzhäuser im Rahmen der BEG erfolgreich
  umsetzen
DESCRIPTION:Web-Seminar Kompakt vom Bauzentrum München:\nEffizienzhäuser 
 im Rahmen der BEG erfolgreich umsetzen\nEnergetische Fachplanung und unter
 stützende Baubegleitung\n\n&nbsp\;\n\nAnerkannte Fortbildungspunkte Energ
 ieeffizienz-Expertenliste:\n\n4 Unterrichtseinheiten Wohngebäude\n0 Unter
 richtseinheiten Nichtwohngebäude\n0 Unterrichtseinheiten Energieaudit DIN
  16247\n\n&nbsp\;\n\nSchriftliche Anmeldung erforderlich\nEntweder direkt 
 online (siehe ganz unten auf dieser Seite)\noder mit dem Anmeldeformular (
 pdf) per E-Mail oder Fax.\n\nBestellschein Abo-Teilnahmekarten (pdf)\n\n&n
 bsp\;\n\nAlle Online-Veranstaltungen vom Bauzentrum München werden mit We
 bex Events durchgeführt.\nAngemeldete Personen erhalten rechtzeitig vor d
 er Veranstaltung den Teilnahme-Link per E-Mail.\n\n&nbsp\;\n\nReferent*in\
 n\nRainer Feldmann\, Bauingenieur und Zimmermann\nSeit 2002 externer Sachv
 erständiger der KfW\, Energieeffizienz-Experte mit eigenem Büro in Darms
 tadt. Mitgründer der Effizienzhaus-Akademie und ehemaliger wissenschaftli
 cher Mitarbeiter am Institut Wohnen und Umwelt\n\n&nbsp\;\n\nThema\n\nAm 1
 . Juli 2021 startet die Bundesförderung effiziente Gebäude (BEG) Wohngeb
 äude.  Bei der Errichtung oder Sanierung eines Effizienzhauses sind die 
 in der BEG geforderten technischen Mindestleistungen zur energetischen Fac
 hplanung und Baubegleitung die wesentlichen Bausteine für eine sachgerech
 te Umsetzung und Grundlage für die Bestätigung nach Durchführung. Das S
 eminar erläutert welche Leistungen im Rahmen der BEG für die energetisch
 e Konzeptionierung eines Effizienzhauses zu erbringen sind und mit welchen
  Stellschrauben der bauliche Wärmeschutz und der Jahresprimärenergiebeda
 rf eines Gebäudes wesentlich beeinflusst werden kann.\n\n&nbsp\;\n\nInhal
 t\n\n- Hintergründe zu den Mindestleistungen der energetischen Fachplanun
 g\n- Notwendige Schritte und Teilaspekte bei der Baubegleitung von Effizie
 nzhäusern\n- Vorschläge zur Ausarbeitung eines Wärmebrückenkonzepts\n-
  Besonderheiten der EE-Klasse und Neues zum Effizienzhaus 40 PLUS\n- Ansä
 tze zur Erstellung einer nachvollziehbaren Dokumentation\n- Fehlerquellen 
 bei einer Effizienzhaus-Bilanzierung\n\n&nbsp\;\n\nZielgruppe\n\nArchitekt
 *innen\, Bauingenieur*innen\, Fachplaner*innen\, Sachverständige\, Handwe
 rker*innen\, Bauunternehmen\, Bauträger*innen und Bauherr*innen\n\n&nbsp\
 ;\n\nTeilnahmebedingungen für Seminare\n\nFalls ein/eine gemeldete/r Teil
 nehmer*in verhindert sein sollte\, muss die Abmeldung spätestens am dritt
 en Werktag vor der Veranstaltung schriftlich im Bauzentrum München eingeg
 angen sein. Die volle Teilnahmegebühr wird fällig\, wenn die schriftlich
 e Abmeldung zu spät eingeht oder der / die gemeldete Teilnehmer*in nicht 
 bei der Veranstaltung erscheint. Bei Ausfall der Veranstaltung werden kein
 e Gebühren erhoben. Darüber hinaus besteht kein Ersatzanspruch. Die Beza
 hlung erfolgt ausschließlich per Überweisung nach Erhalt einer Rechnung.
  Die Rechnungsstellung erfolgt nach der Veranstaltung.
CATEGORIES:Seminare
END:VEVENT
BEGIN:VTIMEZONE
TZID:Europe/Berlin
X-LIC-LOCATION:Europe/Berlin
BEGIN:DAYLIGHT
DTSTART:20210328T030000
TZOFFSETFROM:+0100
TZOFFSETTO:+0200
TZNAME:CEST
END:DAYLIGHT
END:VTIMEZONE
END:VCALENDAR