
BEGIN:VCALENDAR
VERSION:2.0
PRODID:-//wp-events-plugin.com//6.6.3//EN
TZID:Europe/Berlin
X-WR-TIMEZONE:Europe/Berlin
BEGIN:VEVENT
UID:0-223@veranstaltungen.muenchen.de
DTSTART;TZID=Europe/Berlin:20201117T090000
DTEND;TZID=Europe/Berlin:20201117T120000
DTSTAMP:20210331T144322Z
URL:https://veranstaltungen.muenchen.de/bauzentrum/veranstaltungen/web-sem
 inar-kompakt-bauphysikalische-planung/
SUMMARY:Web-Seminar Kompakt: Bauphysikalische Planung jenseits vom Glaser-V
 erfahren
DESCRIPTION:Web-Seminar Kompakt:\nBauphysikalische Planung jenseits vom Gla
 ser-Verfahren\n&nbsp\;\n\nAnerkannte Fortbildungspunkte Energieeffizienz-E
 xpertenliste:\n\n4 Unterrichtseinheiten Wohngebäude (KfW)\n4 Unterrichtse
 inheiten Nichtwohngebäude (KfW)\n4 Unterrichtseinheiten Energieberatung i
 m Mittelstand (BAFA)\n\n&nbsp\;\n\nSchriftliche Anmeldung erforderlich\nEn
 tweder direkt online (siehe ganz unten auf dieser Seite)\noder mit dem Anm
 eldeformular (pdf) per E-Mail oder Fax.\n\nBestellschein Abo-Teilnahmekart
 en (pdf)\n\n&nbsp\;\nDas Online-Seminar wird durchgeführt mit Webex.\nRec
 htzeitig vor der Veranstaltung erhalten angemeldete Personen einen Zugangs
 -Link per E-Mail.\n&nbsp\;\n\nReferent*in\n\nDr.-Ing. Daniel Zirkelbach\nF
 raunhofer-Institut für Bauphysik\, stellv. Leiter der Abteilung Hygrother
 mik und Gruppenleiter Feuchteschutz und Bauen in anderen Klimazonen\, vera
 ntwortlich für die Entwicklung der hygrothermischen Bauteilsimulationssof
 tware WUFI. Mitarbeit im Gremium der DIN 4108-3. Bestellter Sachverständi
 ger des DIBt in den Sachverständigenausschüssen SVA-A „Baustoffe und B
 auarten für Wärme- und Schallschutz“ und B3 „Außenliegende Wärmed
 ämmung“ sowie Mitglied in den WTA-Arbeitsgruppen Innendämmung im Besta
 nd und Feuchtetechnische Bemessung von Holzbaukonstruktionen\, Lehrauftrag
  Feuchteschutz an der Hochschule München.\n\n&nbsp\;\n\nThema\n\nDie Däm
 mung der Wände bei gleichzeitig dichter Gebäudehülle erhöht die feucht
 etechnische Beanspruchung der Außenbauteile. Die stark vereinfachte Bemes
 sung mit dem Glaser-Verfahren vernachlässigt dabei viele wichtige Einflus
 sparameter wie Regenwasseraufnahme\, Erwärmung der Bauteile durch die Son
 nen-Strahlung oder Feuchte-Speicherung und Flüssigkeits-Transport in mine
 ralischen Baustoffen. Da diese Faktoren oft maßgeblich für das Versagen 
 oder Funktionieren der Bauteile sind\, stößt das Glaser-Verfahren bei de
 n heutigen Bauweisen häufig an seine Grenzen. Die neue DIN 4108 fordert i
 n Ihrer Neufassung daher in viel mehr Fällen als bisher die Bemessung mit
  Hilfe einer hygrothermischen Simulation\, die eine deutlich genauere und 
 umfassendere Beurteilung erlaubt.\n\n&nbsp\;\n\nInhalt\n\n- Feuchteproblem
 e in der Praxis und deren Ursachen\n- Anwendungsgrenzen des Glaser-Verfahr
 ens\n- Potential und Vorteile der hygrothermischen Simulation (Grundlagen 
 und Eingabeparameter)\n- Einführung in die Handhabung der Simulation am B
 eispiel von WUFI Pro\n\n&nbsp\;\n\nZielgruppe\n\nArchitekt*innen\, Bauinge
 nieur*innen\, Fachplaner*innen\, Handwerker*innen\, Sachverständige\, Bau
 träger*innen\, Bauunternehmen und Studierende\n\n&nbsp\;\n\nTeilnahmebedi
 ngungen für Seminare\n\nFalls ein/eine gemeldete/r Teilnehmer*in verhinde
 rt sein sollte\, muss die Abmeldung spätestens am dritten Werktag vor der
  Veranstaltung schriftlich im Bauzentrum München eingegangen sein. Die vo
 lle Teilnahmegebühr wird fällig\, wenn die schriftliche Abmeldung zu sp
 ät eingeht oder der / die gemeldete Teilnehmer*in nicht bei der Veranstal
 tung erscheint. Bei Ausfall der Veranstaltung werden keine Gebühren erhob
 en. Darüber hinaus besteht kein Ersatzanspruch. Die Bezahlung erfolgt aus
 schließlich per Überweisung nach Erhalt einer Rechnung. Die Rechnungsste
 llung erfolgt nach der Veranstaltung.
CATEGORIES:Seminare
END:VEVENT
BEGIN:VTIMEZONE
TZID:Europe/Berlin
X-LIC-LOCATION:Europe/Berlin
BEGIN:STANDARD
DTSTART:20201025T020000
TZOFFSETFROM:+0200
TZOFFSETTO:+0100
TZNAME:CET
END:STANDARD
END:VTIMEZONE
END:VCALENDAR