
BEGIN:VCALENDAR
VERSION:2.0
PRODID:-//wp-events-plugin.com//6.6.3//EN
TZID:Europe/Berlin
X-WR-TIMEZONE:Europe/Berlin
BEGIN:VEVENT
UID:0-446@veranstaltungen.muenchen.de
DTSTART;TZID=Europe/Berlin:20211119T090000
DTEND;TZID=Europe/Berlin:20211119T120000
DTSTAMP:20210928T121033Z
URL:https://veranstaltungen.muenchen.de/bauzentrum/veranstaltungen/web-sem
 inar-kompakt-bauen-im-bestand/
SUMMARY:Web-Seminar Kompakt: Bauen im Bestand in der Praxis
DESCRIPTION:Web-Seminar Kompakt vom Bauzentrum München:\nBauen im Bestand 
 in der Praxis\nBestandsaufnahme – Analyse – Schadensbilder und aktuell
 e Fallbeispiele\n\n&nbsp\;\n\nAnerkannte Fortbildungspunkte Energieeffizie
 nz-Expertenliste:\n\n4 Unterrichtseinheiten Wohngebäude\n4 Unterrichtsein
 heiten Nichtwohngebäude\n4 Unterrichtseinheiten Energieaudit DIN 16247\n\
 n&nbsp\;\n\nSchriftliche Anmeldung erforderlich\nEntweder direkt online (s
 iehe ganz unten auf dieser Seite)\noder mit dem Anmeldeformular (pdf) per 
 E-Mail oder Fax.\n\nBestellschein Abo-Teilnahmekarten (pdf)\n\n&nbsp\;\n\n
 Alle Online-Veranstaltungen vom Bauzentrum München werden mit Webex Event
 s durchgeführt.\nAngemeldete Personen erhalten rechtzeitig vor der Verans
 taltung den Teilnahme-Link per E-Mail.\n\n&nbsp\;\n\nReferenten\n\nRudolf 
 Meyer\, Dipl.-Ing.\, Architekt\nSeit über 30 Jahren tätig im Bereich Alt
 bausanierung und Gebäude-Umnutzungen\nReinhold Ableitner\nGebäudeenergie
 berater\, zertifizierter Sachverständiger für Feuchteschutz und Schimmel
 \, zert. Energieplaner DIN V 18599\, zert. Energieberater für Baudenkmal 
 und erhaltenswerte Bausubstanz\n\n&nbsp\;\n\nThema\n\nPraxisbericht aus 30
  Jahren Altbausanierung. Anhand von Fallbeispielen aus dem Bereich der Alt
 bausanierung wird die Notwendigkeit der Zusammenarbeit von Architekt*innen
 \, Bauphysiker*innen und Energieberater*innen dargestellt.\n\n&nbsp\;\n\nI
 nhalt\n\n- Bestandsaufnahme und Analyse\n- Schadensbilder und Ursachenfors
 chung\n- Klärung der Nutzungsanforderungen\n\nFallbeispiele\n- Schimmel i
 m Wohnbereich und in Bädern\n- Energetische Sanierung eines Einfamilienha
 uses (50iger Jahre)\n- Sanierung Brandschaden im Dachgeschoss: Feuer / Was
 ser\n- Sanierung und energetische Optimierung eines MFH unter erschwerten 
 Bedingungen hinsichtlich Statik\, Schallschutz\, Brandschutz und Bauabwick
 lung sowie Nachbarschutz\n- Sanierung / Zusammenlegung von 2 Geschosswohnu
 ngen: Brandschutz und Schallschutz\n- Sanierung und Erweiterung eines Einf
 amilienhauses und Einbau eines Unterflurparkers\n- Sanierung eines Einfami
 lienhauses: energetische Optimierung\n\n&nbsp\;\n\nZielgruppe\n\nArchitekt
 *innen\, Bauingenieur*innen\, Fachplaner*innen\, Sachverständige\, Handwe
 rker*innen\, Bauträger*innen\, Verwalter*innen\, Beiträt*innen\, Investo
 r*innen\, Bauherr*innen und Studierende\n\n&nbsp\;\n\nTeilnahmebedingungen
  für Seminare\n\nFalls ein/eine gemeldete/r Teilnehmer*in verhindert sein
  sollte\, muss die Abmeldung spätestens am dritten Werktag vor der Verans
 taltung schriftlich im Bauzentrum München eingegangen sein. Die volle Tei
 lnahmegebühr wird fällig\, wenn die schriftliche Abmeldung zu spät eing
 eht oder der / die gemeldete Teilnehmer*in nicht bei der Veranstaltung ers
 cheint. Bei Ausfall der Veranstaltung werden keine Gebühren erhoben. Dar
 über hinaus besteht kein Ersatzanspruch. Die Bezahlung erfolgt ausschlie
 ßlich per Überweisung nach Erhalt einer Rechnung. Die Rechnungsstellung 
 erfolgt nach der Veranstaltung.
CATEGORIES:Seminare
END:VEVENT
BEGIN:VTIMEZONE
TZID:Europe/Berlin
X-LIC-LOCATION:Europe/Berlin
BEGIN:STANDARD
DTSTART:20211031T020000
TZOFFSETFROM:+0200
TZOFFSETTO:+0100
TZNAME:CET
END:STANDARD
END:VTIMEZONE
END:VCALENDAR