
BEGIN:VCALENDAR
VERSION:2.0
PRODID:-//wp-events-plugin.com//6.6.3//EN
TZID:Europe/Berlin
X-WR-TIMEZONE:Europe/Berlin
BEGIN:VEVENT
UID:0-334@veranstaltungen.muenchen.de
DTSTART;TZID=Europe/Berlin:20210609T090000
DTEND;TZID=Europe/Berlin:20210609T113000
DTSTAMP:20210517T105954Z
URL:https://veranstaltungen.muenchen.de/bauzentrum/veranstaltungen/web-sem
 inar-kompakt-abdichten-von-bauteilen/
SUMMARY:Web-Seminar Kompakt: Abdichten von Bauteilen
DESCRIPTION:Web-Seminar Kompakt vom Bauzentrum München:\nAbdichten von Bau
 teilen\nDach\, Flachdach\, Wand\, Boden\, Sockel\, Balkon\, Lichtschächte
 \, Fugen etc.\n\n&nbsp\;\n\nAnerkannte Fortbildungspunkte Energieeffizienz
 -Expertenliste:\n\n2 Unterrichtseinheiten Wohngebäude (KfW)\n2 Unterricht
 seinheiten Nichtwohngebäude (KfW)\n2 Unterrichtseinheiten Energieaudit DI
 N 16247\n\n&nbsp\;\n\nDiese Veranstaltung findet statt in Kooperation mit 
 der Bayerischen Architektenkammer.\n\n&nbsp\;\n\nSchriftliche Anmeldung er
 forderlich\nEntweder direkt online (siehe ganz unten auf dieser Seite)\nod
 er mit dem Anmeldeformular (pdf) per E-Mail oder Fax.\n\nBestellschein Abo
 -Teilnahmekarten (pdf)\n\n&nbsp\;\n\nAlle Online-Veranstaltungen vom Bauze
 ntrum München werden mit Webex Events durchgeführt.\nAngemeldete Persone
 n erhalten rechtzeitig vor der Veranstaltung den Teilnahme-Link per E-Mail
 .\n\n&nbsp\;\n\nReferent*in\n\nDr.-Ing. Christian Dialer\, BYIK VDI\nIngen
 ieur- und Sachverständigenbüro\, Beratender Ingenieur (Bayerische Ingeni
 eurekammer-Bau)\, Zertifizierter Sachverständiger für Schäden an Gebäu
 den\, Lehrbeauftragter an der Hochschule München\n\n&nbsp\;\n\nThema\n\nI
 n diesem Seminar wird das Thema Abdichten sowohl aus Sicht der Bauteile (D
 ach\, Flachdach\, Wand\, Boden\, Sockel\, Balkon\, Lichtschächte\, Fugen 
 etc.) als auch aus der Sicht der Werkstoffe (Beton\, Mauerwerk\, Putz\, Ho
 lz\, Stahl etc.) behandelt. Als Basis dienen hierbei Querbezüge zur (neue
 n) Normenreihe DIN 18531ff\, zur WU-Richtlinie und zu Fachregeln etc.. Ein
 e intakte und funktionierende Abdichtung von Gebäuden und ihrer Bauteile 
 ist nicht nur zum Erhalt der Bauwerke selbst\, sondern auch zum Erhalt der
  Dämmeigenschaften von Bauteilen von erheblicher Bedeutung.\n\n&nbsp\;\n\
 nInhalt\n\n- Methoden beim Neubau\n- Methoden beim nachträglichen Abdicht
 en von Bauteilen (Verpressen\, Vergelen\, ...)\n- Wasserundurchlässige Ba
 uwerke aus Beton (WU-Bauwerke)\n- Tiefgaragen\n- Vorausschauende Planung z
 ur Instandhaltung\n- Vorgehen bei Leckageortung\n- Meßtechnik zur Schaden
 sermittlung\n\n&nbsp\;\n\nZielgruppe\n\nArchitekt*innen\, Planer*innen\, B
 auingenieur*innen\, Energieberater*innen\, Handwerker*innen\, Bausachverst
 ändige\, Bauträger*innen\, Bauunternehmen\, Hausverwaltungen\, Verwaltun
 gsbeirät*innen\, Rechtsanwält*innen\, Versicherungen\, Makler*innen\, Im
 mobilienfachwirt*innen und Studierende\n\n&nbsp\;\n\nTeilnahmebedingungen 
 für Seminare\n\nFalls ein/eine gemeldete/r Teilnehmer*in verhindert sein 
 sollte\, muss die Abmeldung spätestens am dritten Werktag vor der Veranst
 altung schriftlich im Bauzentrum München eingegangen sein. Die volle Teil
 nahmegebühr wird fällig\, wenn die schriftliche Abmeldung zu spät einge
 ht oder der / die gemeldete Teilnehmer*in nicht bei der Veranstaltung ersc
 heint. Bei Ausfall der Veranstaltung werden keine Gebühren erhoben. Darü
 ber hinaus besteht kein Ersatzanspruch. Die Bezahlung erfolgt ausschließl
 ich per Überweisung nach Erhalt einer Rechnung. Die Rechnungsstellung erf
 olgt nach der Veranstaltung.
CATEGORIES:Seminare
END:VEVENT
BEGIN:VTIMEZONE
TZID:Europe/Berlin
X-LIC-LOCATION:Europe/Berlin
BEGIN:DAYLIGHT
DTSTART:20210328T030000
TZOFFSETFROM:+0100
TZOFFSETTO:+0200
TZNAME:CEST
END:DAYLIGHT
END:VTIMEZONE
END:VCALENDAR