
BEGIN:VCALENDAR
VERSION:2.0
PRODID:-//wp-events-plugin.com//6.6.3//EN
TZID:Europe/Berlin
X-WR-TIMEZONE:Europe/Berlin
BEGIN:VEVENT
UID:0-343@veranstaltungen.muenchen.de
DTSTART;TZID=Europe/Berlin:20210701T160000
DTEND;TZID=Europe/Berlin:20210701T190000
DTSTAMP:20210517T110141Z
URL:https://veranstaltungen.muenchen.de/bauzentrum/veranstaltungen/web-sem
 inar-baurecht-vob-b-paukkurs/
SUMMARY:Web-Seminar Baurecht: VOB/B-Paukkurs
DESCRIPTION:Web-Seminar Baurecht vom Bauzentrum München:\nVOB/B-Paukkurs\n
 Das Wichtigste in der VOB/B in drei Stunden\n\n&nbsp\;\n\nDiese Veranstalt
 ung findet statt in Kooperation mit der Bayerischen Architektenkammer.\n\n
 &nbsp\;\n\nAnerkannte Fortbildungspunkte Energieeffizienz-Expertenliste:\n
 0 Unterrichtseinheiten Wohngebäude\n0 Unterrichtseinheiten Nichtwohngebä
 ude\n0 Unterrichtseinheiten Energieaudit DIN 16247\n\n&nbsp\;\n\nSchriftli
 che Anmeldung erforderlich\nEntweder direkt online (siehe ganz unten auf d
 ieser Seite)\noder mit dem Anmeldeformular (pdf) per E-Mail oder Fax.\n\nB
 estellschein Abo-Teilnahmekarten (pdf)\n\n&nbsp\;\nAlle Online-Veranstaltu
 ngen vom Bauzentrum München werden mit Webex Events durchgeführt.\nAngem
 eldete Personen erhalten rechtzeitig vor der Veranstaltung den Teilnahme-L
 ink per E-Mail.\n&nbsp\;\n\nReferent*in\n\nCornelius Hartung\, Rechtsanwal
 t\, Fachanwalt für Bau- und Architektenrecht\,\nFachanwalt für Vergabere
 cht\, Partner der Goede Althaus Rechtsanwälte\, Mitautor des 4-bändigen 
 Loseblattwerks „Erfolg in Baustreitigkeiten“ und des Handbuchs für En
 ergieberater\, Mitarbeiter der Zeitschrift für Vergaberecht\, Mitautor im
  Beck`schen VOB/B-Kommentar\, Berater im Bauzentrum München und Mitglied 
 im Netzwerk Bau Kompetenz München (BKM)\n\n&nbsp\;\n\nThema\n\nDie VOB/B 
 ist nach wie vor mit Abstand die wichtigste Vertragsgrundlage am Bau. Jede
 *r in irgendeiner Form an einem Bauvorhaben Beteiligte*r muss deshalb von 
 dem wesentlichen Inhalt der VOB/B und insbesondere den hier enthaltenen Ab
 weichungen vom gesetzlichen Werkvertrag Kenntnis haben.\n\n&nbsp\;\n\nInha
 lt\n\nAlle Paragraphen der VOB/B (von § 1 bis § 18) werden im Einzelnen 
 durchgenommen. Das Seminar ist sowohl zum Einstieg in die VOB/B als auch z
 ur Auffrischung eines bereits vorhandenen VOB/B-Wissens geeignet. Dieser P
 aukkurs unterscheidet sich sehr wesentlich von anderen Seminaren\, da die 
 Kenntnisse „eingepaukt“ werden.\n\n&nbsp\;\n\nZielgruppe\n\nDer VOB/B-
 Paukkurs wendet sich an alle in der Bauwirtschaft\, die in irgendeiner For
 m mit der VOB/B zu tun haben\, bzw. einen Bauvertrag auf der Grundlage der
  VOB/B schließen wollen bzw. geschlossen haben\, d.h. Auftraggeber*innen 
 (Bauleute aller Art)\, Auftragnehmer*innen\, Architekt*innen\, Bauingenieu
 r*innen\, Bausachverständige\, Bauträger*innen\, Behörden\, Rechtsanwä
 lt*innen sowie Studierende der Fachrichtung Bau.\n\n&nbsp\;\n\nTeilnahmebe
 dingungen für Seminare\n\nFalls ein/eine gemeldete/r Teilnehmer*in verhin
 dert sein sollte\, muss die Abmeldung spätestens am dritten Werktag vor d
 er Veranstaltung schriftlich im Bauzentrum München eingegangen sein. Die 
 volle Teilnahmegebühr wird fällig\, wenn die schriftliche Abmeldung zu s
 pät eingeht oder der / die gemeldete Teilnehmer*in nicht bei der Veransta
 ltung erscheint. Bei Ausfall der Veranstaltung werden keine Gebühren erho
 ben. Darüber hinaus besteht kein Ersatzanspruch. Die Bezahlung erfolgt au
 sschließlich per Überweisung nach Erhalt einer Rechnung. Die Rechnungsst
 ellung erfolgt nach der Veranstaltung.
CATEGORIES:Seminare
END:VEVENT
BEGIN:VTIMEZONE
TZID:Europe/Berlin
X-LIC-LOCATION:Europe/Berlin
BEGIN:DAYLIGHT
DTSTART:20210328T030000
TZOFFSETFROM:+0100
TZOFFSETTO:+0200
TZNAME:CEST
END:DAYLIGHT
END:VTIMEZONE
END:VCALENDAR